Uber Exif Photo
Make : SONY
Camera Model Name : ILCE-7RM2
Software : Adobe Photoshop Lightroom Classic 7.5 (Windows)
Modify Date : 2018:10:27 10:31:55
Exposure Time : 1/400
Exposure Program : Aperture-priority AE
ISO : 400
Sensitivity Type : Recommended Exposure Index
Recommended Exposure Index : 400
Date/Time Original : 2018:08:05 10:00:26
Create Date : 2018:08:05 10:00:26
Shutter Speed Value : 1/400
Brightness Value : 2.52890625
Exposure Compensation : +0.7
Max Aperture Value : 1.0
Metering Mode : Multi-segment
Light Source : Unknown
Flash : Off, Did not fire
Color Space : Uncalibrated
Scene Type : Directly photographed
Custom Rendered : Normal
Exposure Mode : Auto
White Balance : Auto
Digital Zoom Ratio : 1
Scene Capture Type : Standard
Contrast : Normal
Saturation : Normal
Sharpness : Normal
Lens Model : ----
Profile Description : ProPhoto RGB
Creator Tool : Adobe Photoshop Lightroom Classic 7.5 (Windows)
Lens : ----
Date Created : 2018:08:05 10:00:26
Format : image/jpeg
Raw File Name : DSC09488.ARW
Version : 10.5
Process Version : 10.0
Color Temperature : 4750
Tint : +39
Luminance Smoothing : 0
Color Noise Reduction : 25
Vignette Amount : 0
Shadow Tint : 0
Red Hue : 0
Red Saturation : 0
Green Hue : 0
Green Saturation : 0
Blue Hue : 0
Blue Saturation : 0
Vibrance : +43
Hue Adjustment Red : +47
Hue Adjustment Orange : -89
Hue Adjustment Yellow : -38
Hue Adjustment Green : +49
Hue Adjustment Aqua : +20
Hue Adjustment Blue : +24
Hue Adjustment Purple : 0
Hue Adjustment Magenta : 0
Saturation Adjustment Red : +100
Saturation Adjustment Orange : +100
Saturation Adjustment Yellow : +100
Saturation Adjustment Green : +100
Saturation Adjustment Aqua : +100
Saturation Adjustment Blue : +69
Saturation Adjustment Purple : +100
Saturation Adjustment Magenta : +100
Luminance Adjustment Red : +47
Luminance Adjustment Orange : +47
Luminance Adjustment Yellow : +100
Luminance Adjustment Green : +18
Luminance Adjustment Aqua : -36
Luminance Adjustment Blue : -53
Luminance Adjustment Purple : -69
Luminance Adjustment Magenta : -16
Split Toning Shadow Hue : 0
Split Toning Shadow Saturation : 0
Split Toning Highlight Hue : 0
Split Toning Highlight Saturation : 0
Split Toning Balance : 0
Parametric Shadows : -28
Parametric Darks : -42
Parametric Lights : +42
Parametric Highlights : +28
Parametric Shadow Split : 25
Parametric Midtone Split : 50
Parametric Highlight Split : 75
Sharpen Radius : +3.0
Sharpen Detail : 51
Sharpen Edge Masking : 0
Post Crop Vignette Amount : -45
Post Crop Vignette Midpoint : 50
Post Crop Vignette Feather : 50
Post Crop Vignette Roundness : 0
Post Crop Vignette Style : Highlight Priority
Post Crop Vignette Highlight Contrast : 0
Grain Amount : 0
Color Noise Reduction Detail : 50
Color Noise Reduction Smoothness : 50
Lens Profile Enable : 1
Lens Manual Distortion Amount : 0
Perspective Vertical : 0
Perspective Horizontal : 0
Perspective Rotate : 0.0
Perspective Scale : 100
Perspective Aspect : 0
Perspective Upright : Off
Perspective X : 0.00
Perspective Y : 0.00
Auto Lateral CA : 0
Exposure 2012 : +0.12
Contrast 2012 : +19
Highlights 2012 : +67
Shadows 2012 : +64
Whites 2012 : -19
Blacks 2012 : +38
Clarity 2012 : +52
Defringe Purple Amount : 0
Defringe Purple Hue Lo : 30
Defringe Purple Hue Hi : 70
Defringe Green Amount : 0
Defringe Green Hue Lo : 40
Defringe Green Hue Hi : 60
Dehaze : +36
Tone Map Strength : 0
Convert To Grayscale : False
Override Look Vignette : False
Tone Curve Name : Linear
Tone Curve Name 2012 : Linear
Camera Profile : Adobe Standard
Lens Profile Setup : Custom
Has Settings : True
Has Crop : False
Already Applied : True
Tone Curve : 0, 0, 255, 255
Tone Curve Red : 0, 0, 255, 255
Tone Curve Green : 0, 0, 255, 255
Tone Curve Blue : 0, 0, 255, 255
Tone Curve PV2012 : 0, 0, 255, 255
Tone Curve PV2012 Red : 0, 0, 255, 255
Tone Curve PV2012 Green : 0, 0, 255, 255
Tone Curve PV2012 Blue : 0, 0, 255, 255
Paint Correction What : Correction
Paint Correction Amount : 1.000000
Paint Correction Active : true
Paint Correction Saturation : 0.413040
Paint Correction Sharpness : 0.826090
Paint Correction Brightness : 0.000000
Paint Correction Toning Hue : 58.000000
Paint Correction Toning Saturation : 0.010000
Paint Correction Exposure 2012 : -0.326000
Paint Correction Contrast 2012 : -0.673910
Paint Correction Highlights 2012 : -1.000000
Paint Correction Shadows 2012 : 0.478260
Paint Correction Whites 2012 : -1.000000
Paint Correction Blacks 2012 : 0.673910
Paint Correction Clarity 2012 : 0.739130
Paint Correction Dehaze : 0.152170
Paint Correction Luminance Noise : 0.000000
Paint Correction Moire : 0.000000
Paint Correction Defringe : 0.000000
Paint Correction Temperature : 0.000000
Paint Correction Tint : 0.000000
Paint Correction Mask What : Mask/Paint
Paint Correction Mask Value : 1.000000
Paint Correction Mask Radius : 0.072623
Paint Correction Mask Flow : 1.000000
Paint Correction Mask Center Weight : 0.028829
Paint Correction Range Mask Version : +2
Paint Correction Range Mask Type : 0
Paint Correction Range Mask Color Amount : 0.500000
Paint Correction Range Mask Lum Min : 0.000000
Paint Correction Range Mask Lum Max : 1.000000
Paint Correction Range Mask Lum Feather : 0.500000
Gradient Based Corr Range Mask Version : +2, +2
Gradient Based Corr Range Mask Type : 0, 0
Gradient Based Corr Range Mask Color Amount : 0.500000, 0.500000
Gradient Based Corr Range Mask Lum Min : 0.000000, 0.000000
Gradient Based Corr Range Mask Lum Max : 1.000000, 1.000000
Gradient Based Corr Range Mask Lum Feather : 0.500000, 0.500000
Gradient Based Corr What : Correction
Gradient Based Corr Amount : 1.000000
Gradient Based Corr Active : true
Gradient Based Corr Saturation : 0.086960
Gradient Based Corr Sharpness : 0.826090
Gradient Based Corr Brightness : 0.000000
Gradient Based Corr Toning Hue : 58.000000
Gradient Based Corr Toning Saturation : 0.010000
Gradient Based Corr Exposure 2012 : -0.108750
Gradient Based Corr Contrast 2012 : -1.000000
Gradient Based Corr Highlights 2012 : -1.000000
Gradient Based Corr Shadows 2012 : -0.043480
Gradient Based Corr Whites 2012 : -1.000000
Gradient Based Corr Blacks 2012 : -1.000000
Gradient Based Corr Clarity 2012 : 0.739130
Gradient Based Corr Dehaze : 0.934780
Gradient Based Corr Luminance Noise : 0.000000
Gradient Based Corr Moire : 0.000000
Gradient Based Corr Defringe : 0.000000
Gradient Based Corr Temperature : 0.000000
Gradient Based Corr Tint : 0.000000
Gradient Based Corr Mask What : Mask/Gradient
Gradient Based Corr Mask Value : 1.000000
Gradient Based Corr Mask Zero X : 0.535659
Gradient Based Corr Mask Zero Y : 0.511475
Gradient Based Corr Mask Full X : 0.534797
Gradient Based Corr Mask Full Y : 0.001130
Circ Grad Based Corr What : Correction
Circ Grad Based Corr Amount : 1.000000
Circ Grad Based Corr Active : true
Circ Grad Based Corr Saturation : 0.521740
Circ Grad Based Corr Sharpness : 0.717390
Circ Grad Based Corr Brightness : 0.000000
Circ Grad Based Corr Toning Hue : 338.000000
Circ Grad Based Corr Toning Saturation : 0.000000
Circ Grad Based Corr Exposure 2012 : 0.217500
Circ Grad Based Corr Contrast 2012 : -0.195650
Circ Grad Based Corr Highlights 2012 : -0.717390
Circ Grad Based Corr Shadows 2012 : -0.347830
Circ Grad Based Corr Whites 2012 : -0.913040
Circ Grad Based Corr Blacks 2012 : -0.239130
Circ Grad Based Corr Clarity 2012 : 0.847830
Circ Grad Based Corr Dehaze : 0.021740
Circ Grad Based Corr Luminance Noise : 0.000000
Circ Grad Based Corr Moire : 0.000000
Circ Grad Based Corr Defringe : 0.000000
Circ Grad Based Corr Temperature : 0.000000
Circ Grad Based Corr Tint : 0.000000
Circ Grad Based Corr Mask What : Mask/CircularGradient
Circ Grad Based Corr Mask Value : 1.000000
Circ Grad Based Corr Mask Top : 0.154862
Circ Grad Based Corr Mask Left : 0.008007
Circ Grad Based Corr Mask Bottom : 1.016810
Circ Grad Based Corr Mask Right : 0.928743
Circ Grad Based Corr Mask Angle : 0.000000
Circ Grad Based Corr Mask Midpoint : +50
Circ Grad Based Corr Mask Roundness : 0
Circ Grad Based Corr Mask Feather : +70
Circ Grad Based Corr Mask Flipped : true
Circ Grad Based Corr Mask Version : +2
Circ Grad Based Corr Range Mask Version : +2
Circ Grad Based Corr Range Mask Type : 0
Circ Grad Based Corr Range Mask Color Amount : 0.500000
Circ Grad Based Corr Range Mask Lum Min : 0.000000
Circ Grad Based Corr Range Mask Lum Max : 1.000000
Circ Grad Based Corr Range Mask Lum Feather : 0.500000
Look Name : Adobe Color
Look Amount : 1.000000
Look Supports Amount : false
Look Supports Monochrome : false
Look Supports Output Referred : false
Look Group : Profiles
Look Parameters Version : 10.5
Look Parameters Process Version : 10.0
Look Parameters Convert To Grayscale : False
Look Parameters Camera Profile : Adobe Standard
Look Parameters Look Table : E1095149FDB39D7A057BAB208837E2E1
Look Parameters Tone Curve PV2012 : 0, 0, 22, 16, 40, 35, 127, 127, 224, 230, 240, 246, 255, 255
Look Parameters Tone Curve PV2012 Red : 0, 0, 255, 255
Look Parameters Tone Curve PV2012 Green : 0, 0, 255, 255
Look Parameters Tone Curve PV2012 Blue : 0, 0, 255, 255
Image Width : 350
Image Height : 233
Bits Per Sample : 8
Color Components : 3
Image Size : 350x233
Megapixels : 0.082
Scale Factor To 35 mm Equivalent : 22.3
Shutter Speed : 1/400
Circle Of Confusion : 0.001 mm