Uber Exif Photo
Keywords : Asia, Myanmar, Azie, Travel, ~WHAT, ~Structures & Architecture, bridge, 1 - "Who", professions, monk, teakwood, lake, Birma, ~ATTRIBUTE, ~Time Of Day, sunrise, Taung Tha Man Bridge, Wooden Foot Bridge, Taungthaman Lake
By-line : Jeroen Florijn
By-line Title : Photographer
Province-State : Mandalay Region
Country-Primary Location Code : MM
Country-Primary Location Name : Myanmar (Birma)
Copyright Notice : www.jeroenflorijn.com
Caption-Abstract : U Bein Bridge, Amarapura, Myanmar.
Image Description : U Bein Bridge, Amarapura, Myanmar.
Make : Canon
Camera Model Name : Canon EOS 5D Mark III
Software : Capture One 11 Macintosh
Modify Date : 2017:12:28 18:58:07
Artist : Jeroen Florijn
Copyright : www.jeroenflorijn.com
Exposure Time : 1/160
F Number : 11.0
Exposure Program : Aperture-priority AE
ISO : 200
Sensitivity Type : Recommended Exposure Index
Recommended Exposure Index : 200
Date/Time Original : 2017:10:21 02:05:13
Create Date : 2017:10:21 02:05:13
Shutter Speed Value : 1/160
Aperture Value : 11.0
Exposure Compensation : 0
Max Aperture Value : 2.0
Subject Distance : 0 m
Metering Mode : Multi-segment
Flash : No Flash
Focal Length : 135.0 mm
Exif Image Width : 2048
Exif Image Height : 1365
Scene Type : Directly photographed
Custom Rendered : Normal
Exposure Mode : Auto
White Balance : Auto
Scene Capture Type : Standard
Serial Number : 043023010559
Lens Info : 135mm f/?
Lens Model : Zeiss Apo Sonnar T* 2/135 ZE
Lens Serial Number : 0000000000
Profile Description : sRGB IEC61966-2.1
Creator Tool : Capture One 11 Macintosh
Format : image/x-canon-cr2
Lens : Zeiss Apo Sonnar T* 2/135 ZE
Image Number : 0
Flash Compensation : 0
Firmware : 1.3.3
Date Created : 2017:10:21 02:05:13.00
Sidecar For Extension : CR2
Headline : U Bein Bridge, Amarapura, Myanmar.
City : Amarapura
State : Mandalay Region
Country : Myanmar (Birma)
Category : Landscapes
Authors Position : Photographer
Country Code : MM
Version : 9.0
Process Version : 6.7
Auto White Version : 134348800
Color Temperature : 7850
Tint : +32
Saturation : 0
Sharpness : 50
Luminance Smoothing : 0
Color Noise Reduction : 25
Vignette Amount : 0
Shadow Tint : 0
Red Hue : 0
Red Saturation : 0
Green Hue : 0
Green Saturation : 0
Blue Hue : 0
Blue Saturation : 0
Vibrance : 0
Hue Adjustment Red : 0
Hue Adjustment Orange : 0
Hue Adjustment Yellow : 0
Hue Adjustment Green : 0
Hue Adjustment Aqua : 0
Hue Adjustment Blue : 0
Hue Adjustment Purple : 0
Hue Adjustment Magenta : 0
Saturation Adjustment Red : 0
Saturation Adjustment Orange : 0
Saturation Adjustment Yellow : 0
Saturation Adjustment Green : 0
Saturation Adjustment Aqua : 0
Saturation Adjustment Blue : 0
Saturation Adjustment Purple : 0
Saturation Adjustment Magenta : 0
Luminance Adjustment Red : 0
Luminance Adjustment Orange : 0
Luminance Adjustment Yellow : 0
Luminance Adjustment Green : 0
Luminance Adjustment Aqua : 0
Luminance Adjustment Blue : 0
Luminance Adjustment Purple : 0
Luminance Adjustment Magenta : 0
Split Toning Shadow Hue : 0
Split Toning Shadow Saturation : 0
Split Toning Highlight Hue : 14
Split Toning Highlight Saturation : 8
Split Toning Balance : 0
Parametric Shadows : 0
Parametric Darks : -3
Parametric Lights : +5
Parametric Highlights : 0
Parametric Shadow Split : 25
Parametric Midtone Split : 50
Parametric Highlight Split : 75
Sharpen Radius : +0.8
Sharpen Detail : 70
Sharpen Edge Masking : 30
Post Crop Vignette Amount : -5
Post Crop Vignette Midpoint : 50
Post Crop Vignette Feather : 50
Post Crop Vignette Roundness : 0
Post Crop Vignette Style : Highlight Priority
Post Crop Vignette Highlight Contrast : 0
Grain Amount : 0
Color Noise Reduction Detail : 50
Color Noise Reduction Smoothness : 50
Lens Profile Enable : 1
Lens Manual Distortion Amount : 0
Perspective Vertical : 0
Perspective Horizontal : 0
Perspective Rotate : 0.0
Perspective Scale : 100
Perspective Aspect : 0
Perspective Upright : Off
Auto Lateral CA : 0
Exposure 2012 : 0.00
Contrast 2012 : 0
Highlights 2012 : -14
Shadows 2012 : +14
Whites 2012 : +15
Blacks 2012 : 0
Clarity 2012 : +17
Defringe Purple Amount : 0
Defringe Purple Hue Lo : 30
Defringe Purple Hue Hi : 70
Defringe Green Amount : 0
Defringe Green Hue Lo : 40
Defringe Green Hue Hi : 60
Convert To Grayscale : False
Tone Curve Name : Medium Contrast
Tone Curve Name 2012 : Linear
Camera Profile : Canon EOS 5D Mark III
Lens Profile Setup : LensDefaults
Lens Profile Name : Adobe (Zeiss Apo Sonnar T* 2/135 ZE)
Lens Profile Filename : Canon (Zeiss Apo Sonnar T 135 f2 ZE) - RAW.lcp
Lens Profile Distortion Scale : 100
Lens Profile Chromatic Aberration Scale : 100
Lens Profile Vignetting Scale : 100
Has Settings : True
Crop Top : 0.016694
Crop Left : 0
Crop Bottom : 0.980097
Crop Right : 0.980837
Crop Angle : -0.472622
Crop Constrain To Warp : 0
Has Crop : True
Already Applied : False
Raw File Name : 20171021-_B9A5041.cr2
Description : U Bein Bridge, Amarapura, Myanmar.
Rights : www.jeroenflorijn.com
Creator : Jeroen Florijn
Subject : Asia, Myanmar, Azie, Travel, ~WHAT, ~Structures & Architecture, bridge, 1 - "Who", professions, monk, teakwood, lake, Birma, ~ATTRIBUTE, ~Time Of Day, sunrise, Taung Tha Man Bridge, Wooden Foot Bridge, Taungthaman Lake
Creator Work Email : jeroen.anita@ziggo.nl
Creator Work URL : jeroenflorijn.nl
Creator Country : Netherlands
Tone Curve : 0, 0, 32, 22, 64, 56, 128, 128, 192, 196, 255, 255
Tone Curve Red : 0, 0, 255, 255
Tone Curve Green : 0, 0, 255, 255
Tone Curve Blue : 0, 0, 255, 255
Tone Curve PV2012 : 0, 0, 255, 255
Tone Curve PV2012 Red : 0, 0, 255, 255
Tone Curve PV2012 Green : 0, 0, 255, 255
Tone Curve PV2012 Blue : 0, 0, 255, 255
Hierarchical Subject : Asia, Asia|Myanmar, Azie, Travel, ~WHAT, ~WHAT|~Structures & Architecture, ~WHAT|~Structures & Architecture|bridge, 1 - "Who", 1 - "Who"|professions, 1 - "Who"|professions|monk, teakwood, lake, Birma, ~ATTRIBUTE, ~ATTRIBUTE|~Time Of Day, ~ATTRIBUTE|~Time Of Day|sunrise, Taung Tha Man Bridge, Wooden Foot Bridge, Taungthaman Lake
Image Width : 300
Image Height : 200
Bits Per Sample : 8
Color Components : 3
Aperture : 11.0
Image Size : 300x200
Megapixels : 0.060
Scale Factor To 35 mm Equivalent : 2.8
Shutter Speed : 1/160
Create Date : 2017:10:21 02:05:13.00
Date/Time Original : 2017:10:21 02:05:13.00
Circle Of Confusion : 0.011 mm
Field Of View : 5.4 deg
Focal Length : 135.0 mm (35 mm equivalent: 379.7 mm)
Hyperfocal Distance : 155.10 m
Light Value : 13.2
Lens ID : Carl Zeiss Apo-Sonnar T* 135mm f/2 ZE