Uber Exif Photo
Make : SONY
Camera Model Name : ILCE-7RM2
Software : Adobe Photoshop Lightroom 6.7 (Macintosh)
Modify Date : 2016:11:25 16:41:26
Exposure Time : 1/1250
F Number : 7.1
Exposure Program : Manual
ISO : 250
Sensitivity Type : Recommended Exposure Index
Recommended Exposure Index : 250
Date/Time Original : 2016:09:28 16:35:57
Create Date : 2016:09:28 16:35:57
Shutter Speed Value : 1/1250
Aperture Value : 7.1
Brightness Value : 9.56015625
Exposure Compensation : -1
Max Aperture Value : 2.0
Metering Mode : Multi-segment
Light Source : Unknown
Flash : Off, Did not fire
Focal Length : 25.0 mm
Color Space : sRGB
Scene Type : Directly photographed
Custom Rendered : Normal
Exposure Mode : Manual
White Balance : Auto
Digital Zoom Ratio : 1
Focal Length In 35mm Format : 25 mm
Scene Capture Type : Standard
Contrast : Normal
Saturation : Normal
Sharpness : Normal
Lens Info : 25mm f/2
Lens Model : E 25mm F2
Profile Description : sRGB IEC61966-2.1
Creator Tool : Adobe Photoshop Lightroom 6.7 (Macintosh)
Lens : E 25mm F2
Lens Distort Info : 33163/32768 -56008514/1073741824 48390632/1073741824 -12372224/1073741824
Date Created : 2016:09:28 16:35:57
Format : image/jpeg
Version : 9.7
Process Version : 6.7
Auto White Version : 134348800
Color Temperature : 4650
Tint : +5
Luminance Smoothing : 0
Color Noise Reduction : 25
Vignette Amount : 0
Shadow Tint : -2
Red Hue : +18
Red Saturation : +30
Green Hue : +45
Green Saturation : +10
Blue Hue : -5
Blue Saturation : +35
Vibrance : 0
Hue Adjustment Red : 0
Hue Adjustment Orange : +2
Hue Adjustment Yellow : +5
Hue Adjustment Green : +20
Hue Adjustment Aqua : +10
Hue Adjustment Blue : -5
Hue Adjustment Purple : +20
Hue Adjustment Magenta : +20
Saturation Adjustment Red : -30
Saturation Adjustment Orange : -8
Saturation Adjustment Yellow : -15
Saturation Adjustment Green : -45
Saturation Adjustment Aqua : -50
Saturation Adjustment Blue : -30
Saturation Adjustment Purple : -50
Saturation Adjustment Magenta : -40
Luminance Adjustment Red : -23
Luminance Adjustment Orange : -21
Luminance Adjustment Yellow : -20
Luminance Adjustment Green : -5
Luminance Adjustment Aqua : +5
Luminance Adjustment Blue : -31
Luminance Adjustment Purple : +15
Luminance Adjustment Magenta : +20
Split Toning Shadow Hue : 0
Split Toning Shadow Saturation : 0
Split Toning Highlight Hue : 0
Split Toning Highlight Saturation : 0
Split Toning Balance : 0
Parametric Shadows : 0
Parametric Darks : 0
Parametric Lights : 0
Parametric Highlights : 0
Parametric Shadow Split : 14
Parametric Midtone Split : 60
Parametric Highlight Split : 75
Sharpen Radius : +0.6
Sharpen Detail : 50
Sharpen Edge Masking : 18
Post Crop Vignette Amount : -10
Post Crop Vignette Midpoint : 50
Post Crop Vignette Feather : 50
Post Crop Vignette Roundness : 0
Post Crop Vignette Style : Highlight Priority
Post Crop Vignette Highlight Contrast : 0
Grain Amount : 0
Color Noise Reduction Detail : 50
Color Noise Reduction Smoothness : 50
Lens Profile Enable : 1
Lens Manual Distortion Amount : 0
Perspective Vertical : 0
Perspective Horizontal : 0
Perspective Rotate : 0.0
Perspective Scale : 100
Perspective Aspect : 0
Perspective Upright : Off
Perspective X : 0.00
Perspective Y : 0.00
Auto Lateral CA : 0
Exposure 2012 : 0.00
Contrast 2012 : +11
Highlights 2012 : -21
Shadows 2012 : +40
Whites 2012 : 0
Blacks 2012 : -10
Clarity 2012 : +10
Defringe Purple Amount : 0
Defringe Purple Hue Lo : 30
Defringe Purple Hue Hi : 70
Defringe Green Amount : 0
Defringe Green Hue Lo : 40
Defringe Green Hue Hi : 60
Dehaze : 0
Tone Map Strength : 0
Convert To Grayscale : False
Tone Curve Name : Linear
Tone Curve Name 2012 : Gold 100 Vibrant
Camera Profile : Kodak Gold 100 - SO
Lens Profile Setup : LensDefaults
Lens Profile Name : Adobe (Zeiss Batis 2/25) v2
Lens Profile Filename : SONY (Zeiss Batis 2_25 v2) - RAW.lcp
Lens Profile Distortion Scale : 100
Lens Profile Chromatic Aberration Scale : 100
Lens Profile Vignetting Scale : 100
Has Settings : True
Crop Top : 0
Crop Left : 0
Crop Bottom : 0.843326
Crop Right : 1
Crop Angle : 0
Crop Constrain To Warp : 0
Has Crop : True
Already Applied : True
Tone Curve : 0, 0, 255, 255
Tone Curve Red : 0, 0, 255, 255
Tone Curve Green : 0, 0, 255, 255
Tone Curve Blue : 0, 0, 255, 255
Tone Curve PV2012 : 0, 0, 28, 24, 77, 74, 186, 187, 255, 250
Tone Curve PV2012 Red : 0, 0, 30, 9, 70, 51, 119, 122, 180, 196, 255, 255
Tone Curve PV2012 Green : 0, 0, 28, 9, 120, 124, 181, 198, 255, 255
Tone Curve PV2012 Blue : 0, 0, 24, 11, 83, 70, 119, 122, 183, 200, 255, 255
Image Width : 300
Image Height : 169
Bits Per Sample : 8
Color Components : 3
Aperture : 7.1
Image Size : 300x169
Megapixels : 0.051
Scale Factor To 35 mm Equivalent : 1.0
Shutter Speed : 1/1250
Circle Of Confusion : 0.030 mm
Field Of View : 71.5 deg
Focal Length : 25.0 mm (35 mm equivalent: 25.0 mm)
Hyperfocal Distance : 2.93 m
Light Value : 14.6
Lens ID : E 25mm F2