Uber Exif Photo
Keywords : A7RII, Europe, Italy, Sony Alpha, Venezia, Venice, Zeiss, spring, Венеция, Италия, весна
By-line : Alexey Pavin
Copyright Notice : Alexey Pavin
Caption-Abstract : Alexey Pavin
Copyright Flag : True
Image Description : Alexey Pavin
Make : SONY
Camera Model Name : ILCE-7RM2
Software : Adobe Photoshop Lightroom Classic 7.0 (Macintosh)
Modify Date : 2017:10:21 13:38:58
Artist : Alexey Pavin
Copyright : Alexey Pavin
Exposure Time : 1/250
F Number : 11.0
Exposure Program : Aperture-priority AE
ISO : 500
Sensitivity Type : Recommended Exposure Index
Recommended Exposure Index : 500
Date/Time Original : 2017:03:09 08:44:25
Create Date : 2017:03:09 08:44:25
Shutter Speed Value : 1/250
Aperture Value : 11.0
Brightness Value : 8.1734375
Exposure Compensation : 0
Max Aperture Value : 1.4
Metering Mode : Multi-segment
Light Source : Daylight
Flash : Off, Did not fire
Focal Length : 28.0 mm
Color Space : sRGB
Scene Type : Directly photographed
Custom Rendered : Normal
Exposure Mode : Auto
White Balance : Manual
Digital Zoom Ratio : 1
Focal Length In 35mm Format : 28 mm
Scene Capture Type : Standard
Contrast : Normal
Saturation : Normal
Sharpness : Normal
Lens Info : 28mm f/1.4
Lens Model : Metabones 28/1.4
Profile Description : sRGB IEC61966-2.1
Format : image/jpeg
Creator Tool : Adobe Photoshop Lightroom Classic 7.0 (Macintosh)
Rating : 5
Label : Green
Lens : Metabones 28/1.4
Lateral Chromatic Aberration Correction Already Applied:
True
Date Created : 2017:03:09 08:44:25
Marked : True
Version : 10.0
Process Version : 10.0
Color Temperature : 6048
Tint : -16
Luminance Smoothing : 0
Color Noise Reduction : 25
Vignette Amount : 0
Shadow Tint : 0
Red Hue : 0
Red Saturation : 0
Green Hue : 0
Green Saturation : 0
Blue Hue : 0
Blue Saturation : 0
Vibrance : +16
Hue Adjustment Red : 0
Hue Adjustment Orange : +15
Hue Adjustment Yellow : 0
Hue Adjustment Green : 0
Hue Adjustment Aqua : -35
Hue Adjustment Blue : 0
Hue Adjustment Purple : 0
Hue Adjustment Magenta : 0
Saturation Adjustment Red : -23
Saturation Adjustment Orange : +18
Saturation Adjustment Yellow : -46
Saturation Adjustment Green : +27
Saturation Adjustment Aqua : -12
Saturation Adjustment Blue : -26
Saturation Adjustment Purple : 0
Saturation Adjustment Magenta : 0
Luminance Adjustment Red : +8
Luminance Adjustment Orange : +28
Luminance Adjustment Yellow : 0
Luminance Adjustment Green : 0
Luminance Adjustment Aqua : 0
Luminance Adjustment Blue : -32
Luminance Adjustment Purple : 0
Luminance Adjustment Magenta : 0
Split Toning Shadow Hue : 0
Split Toning Shadow Saturation : 0
Split Toning Highlight Hue : 0
Split Toning Highlight Saturation : 0
Split Toning Balance : 0
Parametric Shadows : 0
Parametric Darks : 0
Parametric Lights : 0
Parametric Highlights : 0
Parametric Shadow Split : 25
Parametric Midtone Split : 50
Parametric Highlight Split : 75
Sharpen Radius : +1.0
Sharpen Detail : 25
Sharpen Edge Masking : 0
Post Crop Vignette Amount : -20
Post Crop Vignette Midpoint : 11
Post Crop Vignette Feather : 100
Post Crop Vignette Roundness : +3
Post Crop Vignette Style : Highlight Priority
Post Crop Vignette Highlight Contrast : 100
Grain Amount : 26
Grain Size : 25
Grain Frequency : 91
Color Noise Reduction Detail : 50
Color Noise Reduction Smoothness : 50
Lens Profile Enable : 1
Lens Manual Distortion Amount : 0
Perspective Vertical : 0
Perspective Horizontal : 0
Perspective Rotate : 0.0
Perspective Scale : 100
Perspective Aspect : 0
Perspective Upright : Off
Perspective X : 0.00
Perspective Y : 0.00
Auto Lateral CA : 1
Exposure 2012 : +0.05
Contrast 2012 : +7
Highlights 2012 : -43
Shadows 2012 : +43
Whites 2012 : +3
Blacks 2012 : -21
Clarity 2012 : +80
Defringe Purple Amount : 0
Defringe Purple Hue Lo : 30
Defringe Purple Hue Hi : 70
Defringe Green Amount : 0
Defringe Green Hue Lo : 40
Defringe Green Hue Hi : 60
Dehaze : 0
Convert To Grayscale : False
Tone Curve Name : Linear
Tone Curve Name 2012 : Custom
Camera Profile : Sony ILCE-7RM2
Lens Profile Setup : LensDefaults
Has Settings : True
Crop Top : 0.007789
Crop Left : 0.002162
Crop Bottom : 0.992211
Crop Right : 0.997838
Crop Angle : -0.3
Crop Constrain To Warp : 0
Has Crop : True
Already Applied : True
Creator : Alexey Pavin
Rights : Alexey Pavin
Description : Alexey Pavin
Subject : A7RII, Europe, Italy, Sony Alpha, Venezia, Venice, Zeiss, spring, Венеция, Италия, весна
Hierarchical Subject : A7RII, Europe, Italy, Sony Alpha, Venezia, Venice, Zeiss, spring, Венеция, Италия, весна
Tone Curve : 0, 0, 255, 255
Tone Curve Red : 0, 0, 255, 255
Tone Curve Green : 0, 0, 255, 255
Tone Curve Blue : 0, 0, 255, 255
Tone Curve PV2012 : 0, 0, 255, 255
Tone Curve PV2012 Red : 0, 0, 255, 255
Tone Curve PV2012 Green : 0, 0, 255, 255
Tone Curve PV2012 Blue : 0, 37, 55, 60, 125, 117, 255, 255
Gradient Based Corr Range Mask Type : 0, 0
Gradient Based Corr Range Mask Color Amount : 0.500000, 0.500000
Gradient Based Corr Range Mask Lum Min : 0.000000, 0.000000
Gradient Based Corr Range Mask Lum Max : 1.000000, 1.000000
Gradient Based Corr Range Mask Lum Feather : 0.500000, 0.500000
Gradient Based Corr What : Correction
Gradient Based Corr Amount : 1.000000
Gradient Based Corr Active : true
Gradient Based Corr Saturation : 0.029543
Gradient Based Corr Sharpness : 0.000000
Gradient Based Corr Brightness : 0.000000
Gradient Based Corr Toning Hue : 0.000000
Gradient Based Corr Toning Saturation : 0.000000
Gradient Based Corr Exposure 2012 : -0.087379
Gradient Based Corr Contrast 2012 : 0.000000
Gradient Based Corr Highlights 2012 : -0.155340
Gradient Based Corr Shadows 2012 : 0.000000
Gradient Based Corr Whites 2012 : 0.000000
Gradient Based Corr Blacks 2012 : 0.000000
Gradient Based Corr Clarity 2012 : 0.286370
Gradient Based Corr Dehaze : 0.000000
Gradient Based Corr Luminance Noise : 0.000000
Gradient Based Corr Moire : 0.000000
Gradient Based Corr Defringe : 0.000000
Gradient Based Corr Temperature : 0.000000
Gradient Based Corr Tint : 0.000000
Gradient Based Corr Mask What : Mask/Gradient
Gradient Based Corr Mask Value : 1.000000
Gradient Based Corr Mask Zero X : 0.575906
Gradient Based Corr Mask Zero Y : 0.465369
Gradient Based Corr Mask Full X : 0.517694
Gradient Based Corr Mask Full Y : 0.032301
Image Width : 300
Image Height : 200
Bits Per Sample : 8
Color Components : 3
Aperture : 11.0
Image Size : 300x200
Megapixels : 0.060
Scale Factor To 35 mm Equivalent : 1.0
Shutter Speed : 1/250
Circle Of Confusion : 0.030 mm
Field Of View : 65.5 deg
Focal Length : 28.0 mm (35 mm equivalent: 28.0 mm)
Hyperfocal Distance : 2.37 m
Light Value : 12.6
Lens ID : Zeiss Otus 28mm f/1.4 ZE