Uber Exif Photo
By-line : Studio Photo Alain DOUMONT
By-line Title : artiste photographe
Keywords : 2017, PAXOS
Copyright Notice : © ADphotography.be
Copyright Flag : True
URL : adphotography.be
Photometric Interpretation : RGB
Make : Canon
Camera Model Name : Canon EOS 5D Mark IV
Orientation : Horizontal (normal)
Samples Per Pixel : 3
Planar Configuration : Chunky
Software : Adobe Photoshop CS6 (Macintosh)
Modify Date : 2017:09:22 20:46:31
Artist : Studio Photo Alain DOUMONT
Copyright : © ADphotography.be
Exposure Time : 1/160
F Number : 10.0
Exposure Program : Manual
ISO : 100
Sensitivity Type : Recommended Exposure Index
Recommended Exposure Index : 100
Date/Time Original : 2017:09:13 13:22:51
Create Date : 2017:09:13 13:22:51
Shutter Speed Value : 1/160
Aperture Value : 10.0
Exposure Compensation : 0
Max Aperture Value : 2.8
Metering Mode : Multi-segment
Flash : Off, Did not fire
Focal Length : 21.0 mm
Color Space : sRGB
Exif Image Width : 1142
Exif Image Height : 761
Custom Rendered : Normal
Exposure Mode : Manual
White Balance : Auto
Scene Capture Type : Standard
Serial Number : 063053002770
Lens Info : 21mm f/?
Lens Model : Zeiss Distagon T* 2.8/21 ZE
Lens Serial Number : 0000000000
Profile Description : sRGB IEC61966-2.1
Rating : 1
Creator Tool : Adobe Photoshop Lightroom 6.12 (Macintosh)
Format : image/jpeg
Lens : Zeiss Distagon T* 2.8/21 ZE
Image Number : 0
Flash Compensation : 0
Firmware : 1.0.4
Distortion Correction Already Applied : True
Vignette Correction Already Applied : True
Authors Position : artiste photographe
Date Created : 2017:09:13 13:22:51.075
Color Mode : RGB
ICC Profile Name : sRGB IEC61966-2.1
Marked : True
Web Statement : adphotography.be
Version : 9.12
Process Version : 6.7
Auto White Version : 134348800
Color Temperature : 5748
Tint : +15
Saturation : +16
Sharpness : 75
Luminance Smoothing : 0
Color Noise Reduction : 25
Vignette Amount : 0
Shadow Tint : 0
Red Hue : 0
Red Saturation : 0
Green Hue : 0
Green Saturation : 0
Blue Hue : 0
Blue Saturation : 0
Vibrance : +10
Hue Adjustment Red : 0
Hue Adjustment Orange : 0
Hue Adjustment Yellow : 0
Hue Adjustment Green : 0
Hue Adjustment Aqua : 0
Hue Adjustment Blue : 0
Hue Adjustment Purple : 0
Hue Adjustment Magenta : 0
Saturation Adjustment Red : 0
Saturation Adjustment Orange : 0
Saturation Adjustment Yellow : 0
Saturation Adjustment Green : 0
Saturation Adjustment Aqua : 0
Saturation Adjustment Blue : 0
Saturation Adjustment Purple : 0
Saturation Adjustment Magenta : 0
Luminance Adjustment Red : +15
Luminance Adjustment Orange : -33
Luminance Adjustment Yellow : -42
Luminance Adjustment Green : 0
Luminance Adjustment Aqua : 0
Luminance Adjustment Blue : -19
Luminance Adjustment Purple : 0
Luminance Adjustment Magenta : 0
Split Toning Shadow Hue : 0
Split Toning Shadow Saturation : 0
Split Toning Highlight Hue : 0
Split Toning Highlight Saturation : 0
Split Toning Balance : 0
Parametric Shadows : +10
Parametric Darks : -4
Parametric Lights : 0
Parametric Highlights : 0
Parametric Shadow Split : 25
Parametric Midtone Split : 50
Parametric Highlight Split : 75
Sharpen Radius : +1.0
Sharpen Detail : 25
Sharpen Edge Masking : 0
Post Crop Vignette Amount : 0
Grain Amount : 0
Color Noise Reduction Detail : 50
Color Noise Reduction Smoothness : 50
Lens Profile Enable : 1
Lens Manual Distortion Amount : 0
Perspective Vertical : 0
Perspective Horizontal : 0
Perspective Rotate : 0.0
Perspective Scale : 100
Perspective Aspect : 0
Perspective Upright : Off
Perspective X : 0.00
Perspective Y : 0.00
Auto Lateral CA : 0
Exposure 2012 : 0.00
Contrast 2012 : 0
Highlights 2012 : -86
Shadows 2012 : +60
Whites 2012 : -19
Blacks 2012 : -5
Clarity 2012 : +21
Defringe Purple Amount : 0
Defringe Purple Hue Lo : 30
Defringe Purple Hue Hi : 70
Defringe Green Amount : 0
Defringe Green Hue Lo : 40
Defringe Green Hue Hi : 60
Dehaze : 0
Tone Map Strength : 0
Convert To Grayscale : False
Tone Curve Name : Linear
Tone Curve Name 2012 : Medium Contrast
Camera Profile : Adobe Standard
Lens Profile Setup : Custom
Lens Profile Name : Adobe (Zeiss Distagon T* 2,8/21 ZF.2)
Lens Profile Filename : NIKON CORPORATION (Zeiss Distagon T 2.8-21 ZF.2).lcp
Lens Profile Distortion Scale : 100
Lens Profile Chromatic Aberration Scale : 100
Lens Profile Vignetting Scale : 92
Has Settings : True
Has Crop : False
Already Applied : True
Creator : Studio Photo Alain DOUMONT
Rights : © ADphotography.be
Subject : 2017, PAXOS
Usage Terms : Tout usage et copie INTERDITS !
Tone Curve : 0, 0, 255, 255
Tone Curve Red : 0, 0, 255, 255
Tone Curve Green : 0, 0, 255, 255
Tone Curve Blue : 0, 0, 255, 255
Tone Curve PV2012 : 0, 0, 32, 22, 64, 56, 128, 128, 192, 196, 255, 255
Tone Curve PV2012 Red : 0, 0, 255, 255
Tone Curve PV2012 Green : 0, 0, 255, 255
Tone Curve PV2012 Blue : 0, 0, 255, 255
Creator Work URL : adphotography.be
Creator Postal Code : 5060
Creator Work Email : photoadoumont@skynet.be
Creator Work Telephone : 32 - 71 77 72 72
Creator Region : NAMUR
Creator Country : BELGIQUE
Creator City : 5060 TAMINES
Creator Address : 6 et 8, avenue des Français
Image Width : 300
Image Height : 200
Bits Per Sample : 8
Color Components : 3
Aperture : 10.0
Image Size : 300x200
Megapixels : 0.060
Scale Factor To 35 mm Equivalent : 5.9
Shutter Speed : 1/160
Create Date : 2017:09:13 13:22:51.75
Date/Time Original : 2017:09:13 13:22:51.75
Circle Of Confusion : 0.005 mm
Field Of View : 16.6 deg
Focal Length : 21.0 mm (35 mm equivalent: 123.6 mm)
Hyperfocal Distance : 8.64 m
Light Value : 14.0
Lens ID : Carl Zeiss Distagon T* 21mm f/2.8 ZE