Uber Exif Photo
By-line : Wojciech Zielinski
Copyright Notice : Wojciech Zielinski
Make : SONY
Camera Model Name : ILCE-7RM2
Orientation : Horizontal (normal)
Software : Adobe Photoshop CS6 (Windows)
Modify Date : 2017:06:28 15:32:44
Artist : Wojciech Zielinski
Copyright : Wojciech Zielinski
Exposure Time : 1/200
F Number : 11.0
Exposure Program : Aperture-priority AE
ISO : 800
Sensitivity Type : Recommended Exposure Index
Recommended Exposure Index : 800
Date/Time Original : 2017:06:21 11:20:21
Create Date : 2017:06:21 11:20:21
Shutter Speed Value : 1/200
Aperture Value : 11.0
Brightness Value : 8.2046875
Exposure Compensation : +1
Max Aperture Value : 1.4
Metering Mode : Multi-segment
Light Source : Unknown
Flash : Off, Did not fire
Focal Length : 85.0 mm
Color Space : sRGB
Exif Image Width : 7952
Exif Image Height : 5304
Scene Type : Directly photographed
Custom Rendered : Normal
Exposure Mode : Auto
White Balance : Auto
Digital Zoom Ratio : 1
Focal Length In 35mm Format : 85 mm
Scene Capture Type : Standard
Contrast : Normal
Saturation : Normal
Sharpness : Normal
Lens Info : 85mm f/1.4
Lens Model : 85mm F1.4 ZA
Profile Description : sRGB IEC61966-2.1
Format : image/jpeg
Creator Tool : Adobe Photoshop CS6 (Windows)
Rating : 0
Lens : 85mm F1.4 ZA
Lens Distort Info : 32838/32768 -6987148/1073741824 -2076668/1073741824 303248/1073741824
Distortion Correction Already Applied : True
Lateral Chromatic Aberration Correction Already Applied:
True
Vignette Correction Already Applied : True
Date Created : 2017:06:21 11:20:21
Color Mode : RGB
ICC Profile Name : sRGB IEC61966-2.1
Raw File Name : _DSC7157.ARW
Version : 9.1.1
Process Version : 6.7
Auto White Version : 134348800
Color Temperature : 4950
Tint : +6
Luminance Smoothing : 25
Color Noise Reduction : 25
Vignette Amount : 0
Shadow Tint : 0
Red Hue : 0
Red Saturation : 0
Green Hue : 0
Green Saturation : 0
Blue Hue : 0
Blue Saturation : 0
Vibrance : 0
Hue Adjustment Red : 0
Hue Adjustment Orange : 0
Hue Adjustment Yellow : 0
Hue Adjustment Green : 0
Hue Adjustment Aqua : 0
Hue Adjustment Blue : 0
Hue Adjustment Purple : 0
Hue Adjustment Magenta : 0
Saturation Adjustment Red : 0
Saturation Adjustment Orange : 0
Saturation Adjustment Yellow : 0
Saturation Adjustment Green : 0
Saturation Adjustment Aqua : 0
Saturation Adjustment Blue : 0
Saturation Adjustment Purple : 0
Saturation Adjustment Magenta : 0
Luminance Adjustment Red : 0
Luminance Adjustment Orange : 0
Luminance Adjustment Yellow : 0
Luminance Adjustment Green : 0
Luminance Adjustment Aqua : 0
Luminance Adjustment Blue : 0
Luminance Adjustment Purple : 0
Luminance Adjustment Magenta : 0
Split Toning Shadow Hue : 0
Split Toning Shadow Saturation : 0
Split Toning Highlight Hue : 0
Split Toning Highlight Saturation : 0
Split Toning Balance : 0
Parametric Shadows : 0
Parametric Darks : 0
Parametric Lights : 0
Parametric Highlights : 0
Parametric Shadow Split : 25
Parametric Midtone Split : 50
Parametric Highlight Split : 75
Sharpen Radius : +1.0
Sharpen Detail : 25
Sharpen Edge Masking : 78
Post Crop Vignette Amount : 0
Grain Amount : 0
Luminance Noise Reduction Detail : 25
Color Noise Reduction Detail : 50
Luminance Noise Reduction Contrast : 0
Color Noise Reduction Smoothness : 50
Lens Profile Enable : 1
Lens Manual Distortion Amount : 0
Perspective Vertical : 0
Perspective Horizontal : 0
Perspective Rotate : 0.0
Perspective Scale : 100
Perspective Aspect : 0
Perspective Upright : Off
Auto Lateral CA : 1
Exposure 2012 : +1.15
Contrast 2012 : +25
Highlights 2012 : -95
Shadows 2012 : +50
Whites 2012 : +19
Blacks 2012 : -18
Clarity 2012 : +15
Defringe Purple Amount : 0
Defringe Purple Hue Lo : 30
Defringe Purple Hue Hi : 70
Defringe Green Amount : 0
Defringe Green Hue Lo : 40
Defringe Green Hue Hi : 60
Dehaze : 0
Tone Map Strength : 0
Convert To Grayscale : False
Tone Curve Name : Medium Contrast
Tone Curve Name 2012 : Linear
Camera Profile : Adobe Standard
Lens Profile Setup : LensDefaults
Lens Profile Name : Adobe (Sony 85mm F1.4 ZA)
Lens Profile Filename : SONY (Sony 85mm F1.4 ZA) - RAW.lcp
Lens Profile Distortion Scale : 100
Lens Profile Chromatic Aberration Scale : 100
Lens Profile Vignetting Scale : 100
Has Settings : True
Has Crop : False
Already Applied : True
Creator : Wojciech Zielinski
Rights : Wojciech Zielinski
Tone Curve : 0, 0, 32, 22, 64, 56, 128, 128, 192, 196, 255, 255
Tone Curve Red : 0, 0, 255, 255
Tone Curve Green : 0, 0, 255, 255
Tone Curve Blue : 0, 0, 255, 255
Tone Curve PV2012 : 0, 0, 255, 255
Tone Curve PV2012 Red : 0, 0, 255, 255
Tone Curve PV2012 Green : 0, 0, 255, 255
Tone Curve PV2012 Blue : 0, 0, 255, 255
Image Width : 300
Image Height : 200
Bits Per Sample : 8
Color Components : 3
Aperture : 11.0
Image Size : 300x200
Megapixels : 0.060
Scale Factor To 35 mm Equivalent : 1.0
Shutter Speed : 1/200
Circle Of Confusion : 0.030 mm
Field Of View : 23.9 deg
Focal Length : 85.0 mm (35 mm equivalent: 85.0 mm)
Hyperfocal Distance : 21.86 m
Light Value : 11.6
Lens ID : Carl Zeiss Planar T* 85mm F1.4 ZA (SAL85F14Z)