Uber Exif Photo
By-line : Grzegorz Rabalski
Copyright Notice : Grzegorz Rabalski
Copyright Flag : True
URL : rabalski@golden.net
Make : Canon
Camera Model Name : Canon EOS 5D
Software : Adobe Photoshop Lightroom 5.7 (Macintosh)
Modify Date : 2017:05:16 23:03:11
Artist : Grzegorz Rabalski
Copyright : Grzegorz Rabalski
Exposure Time : 1/200
F Number : 2.0
Exposure Program : Aperture-priority AE
ISO : 100
Date/Time Original : 2017:05:16 19:00:35
Create Date : 2017:05:16 19:00:35
Shutter Speed Value : 1/200
Aperture Value : 2.0
Exposure Compensation : -1/3
Max Aperture Value : 2.0
Metering Mode : Unknown
Flash : Off, Did not fire
Focal Length : 135.0 mm
Color Space : sRGB
Custom Rendered : Normal
Exposure Mode : Auto
White Balance : Auto
Scene Capture Type : Standard
Serial Number : 3021202358
Lens Info : 135mm f/?
Lens Model : 135.0 mm
Profile Description : sRGB IEC61966-2.1
Lens : 135.0 mm
Image Number : 3
Flash Compensation : 0
Firmware : 1.1.1
Creator Tool : Adobe Photoshop Lightroom 5.7 (Macintosh)
Date Created : 2014:04:06 13:07:39.76
Format : image/jpeg
Marked : True
Web Statement : rabalski@golden.net
Version : 8.7
Process Version : 6.7
Auto White Version : 134348800
Color Temperature : 5100
Tint : -2
Saturation : 0
Sharpness : 48
Luminance Smoothing : 36
Color Noise Reduction : 25
Vignette Amount : 0
Shadow Tint : 0
Red Hue : 0
Red Saturation : 0
Green Hue : 0
Green Saturation : 0
Blue Hue : 0
Blue Saturation : 0
Vibrance : 0
Hue Adjustment Red : 0
Hue Adjustment Orange : 0
Hue Adjustment Yellow : 0
Hue Adjustment Green : 0
Hue Adjustment Aqua : 0
Hue Adjustment Blue : 0
Hue Adjustment Purple : 0
Hue Adjustment Magenta : 0
Saturation Adjustment Red : 0
Saturation Adjustment Orange : 0
Saturation Adjustment Yellow : 0
Saturation Adjustment Green : 0
Saturation Adjustment Aqua : 0
Saturation Adjustment Blue : 0
Saturation Adjustment Purple : 0
Saturation Adjustment Magenta : 0
Luminance Adjustment Red : 0
Luminance Adjustment Orange : 0
Luminance Adjustment Yellow : 0
Luminance Adjustment Green : 0
Luminance Adjustment Aqua : 0
Luminance Adjustment Blue : -32
Luminance Adjustment Purple : 0
Luminance Adjustment Magenta : 0
Split Toning Shadow Hue : 0
Split Toning Shadow Saturation : 0
Split Toning Highlight Hue : 0
Split Toning Highlight Saturation : 0
Split Toning Balance : 0
Parametric Shadows : -25
Parametric Darks : 0
Parametric Lights : 0
Parametric Highlights : 0
Parametric Shadow Split : 25
Parametric Midtone Split : 50
Parametric Highlight Split : 75
Sharpen Radius : +1.5
Sharpen Detail : 25
Sharpen Edge Masking : 0
Post Crop Vignette Amount : -67
Post Crop Vignette Midpoint : 33
Post Crop Vignette Feather : 50
Post Crop Vignette Roundness : 0
Post Crop Vignette Style : Highlight Priority
Post Crop Vignette Highlight Contrast : 0
Grain Amount : 0
Luminance Noise Reduction Detail : 34
Color Noise Reduction Detail : 29
Luminance Noise Reduction Contrast : 21
Color Noise Reduction Smoothness : 50
Lens Profile Enable : 0
Lens Manual Distortion Amount : 0
Perspective Vertical : 0
Perspective Horizontal : 0
Perspective Rotate : 0.0
Perspective Scale : 100
Perspective Aspect : 0
Perspective Upright : Off
Auto Lateral CA : 1
Exposure 2012 : +0.50
Contrast 2012 : 0
Highlights 2012 : -74
Shadows 2012 : +100
Whites 2012 : 0
Blacks 2012 : +25
Clarity 2012 : +7
Defringe Purple Amount : 0
Defringe Purple Hue Lo : 30
Defringe Purple Hue Hi : 70
Defringe Green Amount : 0
Defringe Green Hue Lo : 40
Defringe Green Hue Hi : 60
Convert To Grayscale : False
Tone Curve Name : Linear
Tone Curve Name 2012 : Linear
Camera Profile : Adobe Standard
Lens Profile Setup : LensDefaults
Has Settings : True
Crop Top : 0
Crop Left : 0
Crop Bottom : 1
Crop Right : 0.994464
Crop Angle : 0
Crop Constrain To Warp : 0
Has Crop : True
Already Applied : True
Creator : Grzegorz Rabalski
Rights : Grzegorz Rabalski
Usage Terms : contact via email
Creator Country : Canada
Creator Work Email : rabalski@golden.net
Tone Curve : 0, 0, 255, 255
Tone Curve Red : 0, 0, 255, 255
Tone Curve Green : 0, 0, 255, 255
Tone Curve Blue : 0, 0, 255, 255
Tone Curve PV2012 : 0, 0, 255, 255
Tone Curve PV2012 Red : 0, 0, 255, 255
Tone Curve PV2012 Green : 0, 0, 255, 255
Tone Curve PV2012 Blue : 0, 0, 255, 255
Image Width : 308
Image Height : 209
Bits Per Sample : 8
Color Components : 3
Aperture : 2.0
Image Size : 308x209
Megapixels : 0.064
Scale Factor To 35 mm Equivalent : 1.0
Shutter Speed : 1/200
Circle Of Confusion : 0.030 mm
Field Of View : 15.2 deg
Focal Length : 135.0 mm (35 mm equivalent: 135.3 mm)
Hyperfocal Distance : 303.91 m
Light Value : 9.6
Lens ID : Carl Zeiss Apo-Sonnar T* 135mm f/2 ZE