Uber Exif Photo
Object Name : De Breek
Keywords : Air, Bezoekerscentrum de Breek, Etersheim, Europe, Fine Art, Fog, Industrial Buildings, Mill, Nederland, Netherlands, Noord-Holland, Oosthuizen, Zeevang, break of day, business, business / industry, colorado, dawn, daybreak, de Breek, industries, industry, morning, nature, north america, orange, outdoor, sun rise, sunrise, sunup, united states, wind farm
By-line : Jeroen Florijn
Copyright Notice : www.jeroenflorijn.com
Caption-Abstract : "de Breek" during sunrise, Ethersheim, Ntherlands.
Image Description : "de Breek" during sunrise, Ethersheim, Ntherlands.
Make : Canon
Camera Model Name : Canon EOS 5D Mark III
Software : Adobe Photoshop Lightroom 6.8 (Macintosh)
Modify Date : 2017:04:05 07:15:39
Artist : Jeroen Florijn
Copyright : www.jeroenflorijn.com
Exposure Time : 1/160
F Number : 11.0
Exposure Program : Aperture-priority AE
ISO : 100
Sensitivity Type : Recommended Exposure Index
Recommended Exposure Index : 100
Date/Time Original : 2017:03:28 07:32:38
Create Date : 2017:03:28 07:32:38
Shutter Speed Value : 1/160
Aperture Value : 11.0
Exposure Compensation : 0
Max Aperture Value : 2.0
Metering Mode : Multi-segment
Flash : Off, Did not fire
Focal Length : 135.0 mm
Color Space : sRGB
Custom Rendered : Normal
Exposure Mode : Auto
White Balance : Auto
Scene Capture Type : Standard
Serial Number : 043023010559
Lens Info : 135mm f/?
Lens Model : Zeiss Apo Sonnar T* 2/135 ZE
Lens Serial Number : 0000000000
Profile Description : sRGB IEC61966-2.1
Rating : 4
Creator Tool : Adobe Photoshop Lightroom 6.8 (Macintosh)
Format : image/jpeg
Lens : Zeiss Apo Sonnar T* 2/135 ZE
Image Number : 0
Flash Compensation : 0
Firmware : 1.3.3
Date Created : 2017:03:28 07:32:38.10
Version : 9.8
Process Version : 6.7
Auto White Version : 134348800
Color Temperature : 7500
Tint : +10
Saturation : 0
Sharpness : 50
Luminance Smoothing : 0
Color Noise Reduction : 25
Vignette Amount : 0
Shadow Tint : 0
Red Hue : 0
Red Saturation : 0
Green Hue : 0
Green Saturation : 0
Blue Hue : 0
Blue Saturation : 0
Vibrance : -9
Hue Adjustment Red : 0
Hue Adjustment Orange : 0
Hue Adjustment Yellow : 0
Hue Adjustment Green : 0
Hue Adjustment Aqua : 0
Hue Adjustment Blue : 0
Hue Adjustment Purple : 0
Hue Adjustment Magenta : 0
Saturation Adjustment Red : 0
Saturation Adjustment Orange : 0
Saturation Adjustment Yellow : 0
Saturation Adjustment Green : 0
Saturation Adjustment Aqua : 0
Saturation Adjustment Blue : 0
Saturation Adjustment Purple : 0
Saturation Adjustment Magenta : 0
Luminance Adjustment Red : 0
Luminance Adjustment Orange : 0
Luminance Adjustment Yellow : 0
Luminance Adjustment Green : 0
Luminance Adjustment Aqua : 0
Luminance Adjustment Blue : 0
Luminance Adjustment Purple : 0
Luminance Adjustment Magenta : 0
Split Toning Shadow Hue : 0
Split Toning Shadow Saturation : 0
Split Toning Highlight Hue : 0
Split Toning Highlight Saturation : 0
Split Toning Balance : 0
Parametric Shadows : 0
Parametric Darks : -4
Parametric Lights : +7
Parametric Highlights : 0
Parametric Shadow Split : 25
Parametric Midtone Split : 50
Parametric Highlight Split : 75
Sharpen Radius : +0.8
Sharpen Detail : 70
Sharpen Edge Masking : 30
Post Crop Vignette Amount : 0
Grain Amount : 0
Color Noise Reduction Detail : 50
Color Noise Reduction Smoothness : 50
Lens Profile Enable : 1
Lens Manual Distortion Amount : 0
Perspective Vertical : 0
Perspective Horizontal : 0
Perspective Rotate : 0.0
Perspective Scale : 100
Perspective Aspect : 0
Perspective Upright : Off
Perspective X : 0.00
Perspective Y : 0.00
Auto Lateral CA : 0
Exposure 2012 : +0.40
Contrast 2012 : 0
Highlights 2012 : -19
Shadows 2012 : +9
Whites 2012 : -6
Blacks 2012 : -1
Clarity 2012 : -17
Defringe Purple Amount : 0
Defringe Purple Hue Lo : 30
Defringe Purple Hue Hi : 70
Defringe Green Amount : 0
Defringe Green Hue Lo : 40
Defringe Green Hue Hi : 60
Dehaze : 0
Tone Map Strength : 0
Convert To Grayscale : False
Tone Curve Name : Linear
Tone Curve Name 2012 : Linear
Camera Profile : Canon EOS 5D Mark III
Lens Profile Setup : LensDefaults
Lens Profile Name : Adobe (Zeiss Apo Sonnar T* 2/135 ZE)
Lens Profile Filename : Canon (Zeiss Apo Sonnar T 135 f2 ZE) - RAW.lcp
Lens Profile Distortion Scale : 100
Lens Profile Chromatic Aberration Scale : 100
Lens Profile Vignetting Scale : 100
Has Settings : True
Crop Top : 0.086486
Crop Left : 0.006644
Crop Bottom : 0.848054
Crop Right : 0.988853
Crop Angle : 0.769746
Crop Constrain To Warp : 0
Has Crop : True
Already Applied : True
Creator : Jeroen Florijn
Title : De Breek
Rights : www.jeroenflorijn.com
Description : "de Breek" during sunrise, Ethersheim, Ntherlands.
Subject : Air, Bezoekerscentrum de Breek, Etersheim, Europe, Fine Art, Fog, Industrial Buildings, Mill, Nederland, Netherlands, Noord-Holland, Oosthuizen, Zeevang, break of day, business, business / industry, colorado, dawn, daybreak, de Breek, industries, industry, morning, nature, north america, orange, outdoor, sun rise, sunrise, sunup, united states, wind farm
Creator Work URL : jeroenflorijn.nl
Creator Country : Nederland
Creator Work Email : jeroen.anita@ziggo.nl
Tone Curve : 0, 0, 255, 255
Tone Curve Red : 0, 0, 255, 255
Tone Curve Green : 0, 0, 255, 255
Tone Curve Blue : 0, 0, 255, 255
Tone Curve PV2012 : 0, 0, 255, 255
Tone Curve PV2012 Red : 0, 0, 255, 255
Tone Curve PV2012 Green : 0, 0, 255, 255
Tone Curve PV2012 Blue : 0, 0, 255, 255
Circ Grad Based Corr What : Correction
Circ Grad Based Corr Amount : 1.000000
Circ Grad Based Corr Active : true
Circ Grad Based Corr Saturation : 0.000000
Circ Grad Based Corr Sharpness : 0.000000
Circ Grad Based Corr Brightness : 0.000000
Circ Grad Based Corr Toning Hue : 240.000000
Circ Grad Based Corr Toning Saturation : 0.000000
Circ Grad Based Corr Exposure 2012 : -0.082500
Circ Grad Based Corr Contrast 2012 : 0.000000
Circ Grad Based Corr Highlights 2012 : 0.000000
Circ Grad Based Corr Shadows 2012 : 0.000000
Circ Grad Based Corr Whites 2012 : 0.000000
Circ Grad Based Corr Blacks 2012 : 0.000000
Circ Grad Based Corr Clarity 2012 : 0.000000
Circ Grad Based Corr Dehaze : 0.000000
Circ Grad Based Corr Luminance Noise : 0.000000
Circ Grad Based Corr Moire : 0.000000
Circ Grad Based Corr Defringe : 0.000000
Circ Grad Based Corr Temperature : 0.000000
Circ Grad Based Corr Tint : 0.000000
Circ Grad Based Corr Mask What : Mask/CircularGradient
Circ Grad Based Corr Mask Value : 1.000000
Circ Grad Based Corr Mask Top : 0.251636
Circ Grad Based Corr Mask Left : -0.296195
Circ Grad Based Corr Mask Bottom : 0.652652
Circ Grad Based Corr Mask Right : 1.068230
Circ Grad Based Corr Mask Angle : 2.185530
Circ Grad Based Corr Mask Midpoint : +50
Circ Grad Based Corr Mask Roundness : 0
Circ Grad Based Corr Mask Feather : +50
Circ Grad Based Corr Mask Flipped : false
Circ Grad Based Corr Mask Version : +2
Image Width : 300
Image Height : 150
Bits Per Sample : 8
Color Components : 3
Aperture : 11.0
Image Size : 300x150
Megapixels : 0.045
Shutter Speed : 1/160
Create Date : 2017:03:28 07:32:38.10
Date/Time Original : 2017:03:28 07:32:38.10
Light Value : 14.2
Lens ID : Carl Zeiss Apo-Sonnar T* 135mm f/2 ZE