Uber Exif Photo
Photometric Interpretation : RGB
Camera Model Name : ILCE-7
Orientation : Horizontal (normal)
Samples Per Pixel : 3
Planar Configuration : Chunky
Software : Adobe Photoshop CS6 (Windows)
Modify Date : 2015:03:01 13:11:39
Exposure Time : 1/40
F Number : 8.0
ISO : 125
Date/Time Original : 2015:02:25 15:24:31
Aperture Value : 8.0
Max Aperture Value : 2.7
Focal Length : 35.0 mm
Color Space : Uncalibrated
Exif Image Width : 6000
Exif Image Height : 4000
Focal Length In 35mm Format : 35 mm
Lens Info : 35-70mm f/2.7-3.5
Lens Model : Carl Zeiss Jena Vario-Pancolar 2.7-3.5/35-70 M42
Method : Details Enhancer
Strength : 80.0
Color Saturation : 50.0
Luminosity : 6.0
White Clip : 0.995250
Black Clip : 0.393200
Smoothing Mode : Slider
Smoothing : 7.5
Microcontrast : 3.0
Microsmoothing : 20.0
Gamma : 1.00
Highlights Smoothing : 10.0
Shadows Smoothing : 0.0
Shadows Clipping : 0.0
Saturation Highlights : 0.0
Saturation Shadows : 0.0
Is Pano 360 : No
Creator Tool : ILCE-7 v1.02
Create Date : 2015:02:25 15:24:31
Rating : 0
Lens : ----
Date Created : 2015:02:25 15:24:31
Color Mode : Grayscale
ICC Profile Name : Dot Gain 20%
Format : image/jpeg
Raw File Name : _DSC9929.ARW
Version : 8.6
Process Version : 6.7
White Balance : As Shot
Auto White Version : 134348800
Color Temperature : 6350
Tint : +9
Saturation : 0
Sharpness : 25
Luminance Smoothing : 50
Color Noise Reduction : 25
Vignette Amount : 0
Shadow Tint : 0
Red Hue : 0
Red Saturation : 0
Green Hue : 0
Green Saturation : 0
Blue Hue : 0
Blue Saturation : 0
Vibrance : 0
Hue Adjustment Red : 0
Hue Adjustment Orange : 0
Hue Adjustment Yellow : 0
Hue Adjustment Green : 0
Hue Adjustment Aqua : 0
Hue Adjustment Blue : 0
Hue Adjustment Purple : 0
Hue Adjustment Magenta : 0
Saturation Adjustment Red : 0
Saturation Adjustment Orange : 0
Saturation Adjustment Yellow : 0
Saturation Adjustment Green : 0
Saturation Adjustment Aqua : 0
Saturation Adjustment Blue : 0
Saturation Adjustment Purple : 0
Saturation Adjustment Magenta : 0
Luminance Adjustment Red : 0
Luminance Adjustment Orange : 0
Luminance Adjustment Yellow : 0
Luminance Adjustment Green : 0
Luminance Adjustment Aqua : 0
Luminance Adjustment Blue : 0
Luminance Adjustment Purple : 0
Luminance Adjustment Magenta : 0
Split Toning Shadow Hue : 0
Split Toning Shadow Saturation : 0
Split Toning Highlight Hue : 0
Split Toning Highlight Saturation : 0
Split Toning Balance : 0
Parametric Shadows : 0
Parametric Darks : 0
Parametric Lights : 0
Parametric Highlights : 0
Parametric Shadow Split : 25
Parametric Midtone Split : 50
Parametric Highlight Split : 75
Sharpen Radius : +1.0
Sharpen Detail : 25
Sharpen Edge Masking : 78
Post Crop Vignette Amount : 0
Grain Amount : 0
Luminance Noise Reduction Detail : 50
Color Noise Reduction Detail : 50
Luminance Noise Reduction Contrast : 0
Color Noise Reduction Smoothness : 50
Lens Profile Enable : 0
Lens Manual Distortion Amount : 0
Perspective Vertical : 0
Perspective Horizontal : 0
Perspective Rotate : 0.0
Perspective Scale : 100
Perspective Aspect : 0
Perspective Upright : Off
Auto Lateral CA : 1
Exposure 2012 : -1.00
Contrast 2012 : 0
Highlights 2012 : 0
Shadows 2012 : 0
Whites 2012 : 0
Blacks 2012 : 0
Clarity 2012 : +15
Defringe Purple Amount : 0
Defringe Purple Hue Lo : 30
Defringe Purple Hue Hi : 70
Defringe Green Amount : 0
Defringe Green Hue Lo : 40
Defringe Green Hue Hi : 60
Convert To Grayscale : False
Tone Curve Name : Medium Contrast
Tone Curve Name 2012 : Linear
Camera Profile : Adobe Standard
Lens Profile Setup : LensDefaults
Has Settings : True
Has Crop : False
Already Applied : True
Tone Curve : 0, 0, 32, 22, 64, 56, 128, 128, 192, 196, 255, 255
Tone Curve Red : 0, 0, 255, 255
Tone Curve Green : 0, 0, 255, 255
Tone Curve Blue : 0, 0, 255, 255
Tone Curve PV2012 : 0, 0, 255, 255
Tone Curve PV2012 Red : 0, 0, 255, 255
Tone Curve PV2012 Green : 0, 0, 255, 255
Tone Curve PV2012 Blue : 0, 0, 255, 255
Image Width : 300
Image Height : 200
Bits Per Sample : 8
Color Components : 1
Aperture : 8.0
Image Size : 300x200
Megapixels : 0.060
Scale Factor To 35 mm Equivalent : 1.0
Shutter Speed : 1/40
Circle Of Confusion : 0.030 mm
Field Of View : 54.4 deg
Focal Length : 35.0 mm (35 mm equivalent: 35.0 mm)
Hyperfocal Distance : 5.10 m
Light Value : 11.0