Uber Exif Photo
Make : SONY
Camera Model Name : ILCE-7
Orientation : Horizontal (normal)
Software : Adobe Photoshop Lightroom 6.5 (Macintosh)
Modify Date : 2017:01:09 01:38:48
Exposure Time : 1/160
F Number : 11.0
Exposure Program : Aperture-priority AE
ISO : 80
Sensitivity Type : Recommended Exposure Index
Recommended Exposure Index : 80
Date/Time Original : 2017:01:08 16:08:36
Create Date : 2017:01:08 16:08:36
Shutter Speed Value : 1/160
Aperture Value : 11.0
Brightness Value : 10.08359457
Exposure Compensation : 0
Max Aperture Value : 4.0
Metering Mode : Multi-segment
Light Source : Unknown
Flash : Off, Did not fire
Focal Length : 43.0 mm
Color Space : sRGB
Exif Image Width : 5969
Exif Image Height : 3979
Scene Type : Directly photographed
Custom Rendered : Normal
Exposure Mode : Auto
White Balance : Auto
Digital Zoom Ratio : 1
Focal Length In 35mm Format : 43 mm
Scene Capture Type : Standard
Contrast : Normal
Saturation : Normal
Sharpness : Normal
Lens Info : 24-70mm f/4
Lens Model : FE 24-70mm F4 ZA OSS
Sharpen Detail : 25
Blacks 2012 : -17
Luminance Adjustment Orange : 0
Hue Adjustment Yellow : 0
Saturation Adjustment Blue : +6
Parametric Highlight Split : 75
Lens Profile Enable : 1
Lens Profile Distortion Scale : 100
Split Toning Shadow Saturation : 0
Crop Angle : -0.2
Convert To Grayscale : False
Contrast 2012 : +5
Highlights 2012 : 0
Split Toning Highlight Hue : 0
Saturation Adjustment Aqua : 0
Perspective Scale : 100
Luminance Noise Reduction Contrast : 0
Perspective Vertical : 0
Parametric Shadow Split : 25
Luminance Adjustment Green : 0
Perspective Rotate : 0.0
Split Toning Shadow Hue : 0
Luminance Adjustment Yellow : 0
Shadows 2012 : +6
Lens Profile Setup : LensDefaults
Whites 2012 : +45
Perspective Horizontal : 0
Lens Profile Filename : SONY (Sony FE 24-70mm F4 ZA OSS) - RAW.lcp
Camera Profile : Adobe Standard
Saturation Adjustment Yellow : 0
Parametric Midtone Split : 50
Luminance Noise Reduction Detail : 50
Crop Top : 0.005209
Parametric Highlights : 0
Defringe Green Amount : 0
Parametric Darks : 0
Sharpen Radius : +1.0
Vibrance : +5
Lens Profile Vignetting Scale : 100
Shadow Tint : 0
Has Crop : True
Luminance Smoothing : 25
Tone Curve Name 2012 : Linear
Split Toning Highlight Saturation : 0
Defringe Purple Hue Hi : 70
Crop Constrain To Warp : 0
Saturation Adjustment Orange : 0
Sharpen Edge Masking : 24
Color Temperature : 5300
Blue Saturation : 0
Hue Adjustment Green : 0
Vignette Amount : 0
Red Saturation : 0
Red Hue : 0
Parametric Lights : 0
Split Toning Balance : 0
Hue Adjustment Purple : 0
Dehaze : 0
Tone Curve Name : Linear
Color Noise Reduction Smoothness : 50
Exposure 2012 : 0.00
Color Noise Reduction Detail : 50
Saturation Adjustment Green : 0
Hue Adjustment Blue : 0
Crop Right : 0.998553
Luminance Adjustment Purple : 0
Perspective Aspect : 0
Perspective Upright : Off
Parametric Shadows : 0
Post Crop Vignette Amount : 0
Blue Hue : 0
Clarity 2012 : +4
Grain Amount : 0
Auto Lateral CA : 1
Hue Adjustment Aqua : 0
Process Version : 6.7
Tint : +4
Already Applied : True
Auto White Version : 134348800
Lens Profile Name : Adobe (Sony FE 24-70mm F4 ZA OSS)
Luminance Adjustment Blue : -7
Tone Map Strength : 0
Lens Profile Chromatic Aberration Scale : 100
Luminance Adjustment Red : 0
Color Noise Reduction : 25
Green Hue : 0
Hue Adjustment Magenta : 0
Has Settings : True
Saturation Adjustment Red : 0
Hue Adjustment Red : 0
Hue Adjustment Orange : 0
Lens Manual Distortion Amount : 0
Green Saturation : 0
Crop Left : 0.001447
Defringe Purple Hue Lo : 30
Defringe Green Hue Hi : 60
Saturation Adjustment Purple : 0
Saturation Adjustment Magenta : 0
Luminance Adjustment Aqua : 0
Version : 9.5
Defringe Green Hue Lo : 40
Defringe Purple Amount : 0
Crop Bottom : 0.994791
Luminance Adjustment Magenta : 0
Creator Tool : Adobe Photoshop Lightroom 6.5 (Macintosh)
Lens Distort Info : 1027500262/1073741824 31021219/1073741824 5971755/1073741824 9244729/1073741824
Lens : FE 24-70mm F4 ZA OSS
Format : image/jpeg
Date Created : 2017:01:08 16:08:36
Tone Curve Blue : 0, 0, 255, 255
Tone Curve Green : 0, 0, 255, 255
Tone Curve PV2012 Red : 0, 0, 255, 255
Tone Curve PV2012 : 0, 0, 255, 255
Tone Curve : 0, 0, 255, 255
Tone Curve Red : 0, 0, 255, 255
Tone Curve PV2012 Green : 0, 0, 255, 255
Tone Curve PV2012 Blue : 0, 0, 255, 255
Image Width : 300
Image Height : 200
Bits Per Sample : 8
Color Components : 3
Aperture : 11.0
Image Size : 300x200
Megapixels : 0.060
Scale Factor To 35 mm Equivalent : 1.0
Shutter Speed : 1/160
Circle Of Confusion : 0.030 mm
Field Of View : 45.4 deg
Focal Length : 43.0 mm (35 mm equivalent: 43.0 mm)
Hyperfocal Distance : 5.59 m
Light Value : 14.6
Lens ID : FE 24-70mm F4 ZA OSS