Uber Exif Photo
Photometric Interpretation : RGB
Make : SONY
Camera Model Name : SLT-A77V
Orientation : Horizontal (normal)
Samples Per Pixel : 3
Software : Adobe Photoshop CS6 (Windows)
Modify Date : 2016:12:25 02:19:47
Exposure Time : 1/250
F Number : 2.8
Exposure Program : Manual
ISO : 100
Sensitivity Type : Recommended Exposure Index
Recommended Exposure Index : 100
Date/Time Original : 2011:05:07 18:38:15
Create Date : 2011:05:07 18:38:15
Shutter Speed Value : 1/250
Aperture Value : 2.8
Brightness Value : -2.1859375
Exposure Compensation : 0
Max Aperture Value : 2.8
Metering Mode : Center-weighted average
Light Source : Unknown
Flash : On, Return not detected
Focal Length : 55.0 mm
Color Space : sRGB
Exif Image Width : 3400
Exif Image Height : 2537
Custom Rendered : Normal
Exposure Mode : Manual
White Balance : Auto
Focal Length In 35mm Format : 82 mm
Scene Capture Type : Standard
Contrast : Normal
Saturation : Normal
Sharpness : Normal
Lens Info : 24-70mm f/2.8
Lens Model : 24-70mm F2.8 ZA SSM
Profile Description : sRGB IEC61966-2.1
Creator Tool : Adobe Photoshop CS6 (Windows)
Format : image/jpeg
Date Created : 2011:05:07
Color Mode : RGB
ICC Profile Name : sRGB IEC61966-2.1
Lens : 24-70mm F2.8 ZA SSM
Version : 8.1
Process Version : 6.7
Incremental Temperature : -21
Incremental Tint : +1
Luminance Smoothing : 41
Color Noise Reduction : 25
Vignette Amount : 0
Shadow Tint : 0
Red Hue : -7
Red Saturation : 0
Green Hue : +36
Green Saturation : 0
Blue Hue : 0
Blue Saturation : 0
Vibrance : +50
Hue Adjustment Red : +58
Hue Adjustment Orange : 0
Hue Adjustment Yellow : 0
Hue Adjustment Green : -17
Hue Adjustment Aqua : 0
Hue Adjustment Blue : -96
Hue Adjustment Purple : 0
Hue Adjustment Magenta : +100
Saturation Adjustment Red : -2
Saturation Adjustment Orange : -20
Saturation Adjustment Yellow : +20
Saturation Adjustment Green : +43
Saturation Adjustment Aqua : +83
Saturation Adjustment Blue : +2
Saturation Adjustment Purple : -40
Saturation Adjustment Magenta : -7
Luminance Adjustment Red : 0
Luminance Adjustment Orange : +19
Luminance Adjustment Yellow : +11
Luminance Adjustment Green : -21
Luminance Adjustment Aqua : +47
Luminance Adjustment Blue : -3
Luminance Adjustment Purple : 0
Luminance Adjustment Magenta : +4
Split Toning Shadow Hue : 70
Split Toning Shadow Saturation : 15
Split Toning Highlight Hue : 186
Split Toning Highlight Saturation : 0
Split Toning Balance : 0
Parametric Shadows : 0
Parametric Darks : +42
Parametric Lights : -15
Parametric Highlights : 0
Parametric Shadow Split : 25
Parametric Midtone Split : 50
Parametric Highlight Split : 75
Sharpen Radius : +1.0
Sharpen Detail : 25
Sharpen Edge Masking : 0
Post Crop Vignette Amount : 0
Grain Amount : 0
Luminance Noise Reduction Detail : 50
Color Noise Reduction Detail : 50
Luminance Noise Reduction Contrast : 0
Lens Profile Enable : 0
Lens Manual Distortion Amount : 0
Perspective Vertical : 0
Perspective Horizontal : 0
Perspective Rotate : 0.0
Perspective Scale : 100
Perspective Aspect : 0
Perspective Upright : Off
Auto Lateral CA : 0
Exposure 2012 : -0.48
Contrast 2012 : +24
Highlights 2012 : -39
Shadows 2012 : +23
Whites 2012 : -23
Blacks 2012 : +30
Clarity 2012 : +18
Defringe Purple Amount : 0
Defringe Purple Hue Lo : 30
Defringe Purple Hue Hi : 70
Defringe Green Amount : 0
Defringe Green Hue Lo : 40
Defringe Green Hue Hi : 60
Convert To Grayscale : False
Tone Curve Name 2012 : Linear
Camera Profile : Embedded
Lens Profile Setup : LensDefaults
Has Settings : True
Has Crop : False
Already Applied : True
Tone Curve PV2012 : 0, 0, 255, 255
Tone Curve PV2012 Red : 0, 0, 255, 255
Tone Curve PV2012 Green : 0, 0, 255, 255
Tone Curve PV2012 Blue : 0, 0, 255, 255
Gradient Based Corr What : Correction
Gradient Based Corr Amount : 1.000000
Gradient Based Corr Active : true
Gradient Based Corr Saturation : 0.000000
Gradient Based Corr Sharpness : 0.363640
Gradient Based Corr Brightness : 0.000000
Gradient Based Corr Toning Hue : 240.000000
Gradient Based Corr Toning Saturation : 0.000000
Gradient Based Corr Exposure 2012 : 0.363750
Gradient Based Corr Contrast 2012 : 0.250000
Gradient Based Corr Highlights 2012 : 0.500000
Gradient Based Corr Shadows 2012 : 0.000000
Gradient Based Corr Clarity 2012 : -0.227270
Gradient Based Corr Luminance Noise : 0.000000
Gradient Based Corr Moire : 0.000000
Gradient Based Corr Defringe : 0.000000
Gradient Based Corr Temperature : 0.681820
Gradient Based Corr Tint : 0.071430
Gradient Based Corr Mask What : Mask/Gradient
Gradient Based Corr Mask Value : 1.000000
Gradient Based Corr Mask Zero X : 1.357100
Gradient Based Corr Mask Zero Y : 1.031190
Gradient Based Corr Mask Full X : -0.152498
Gradient Based Corr Mask Full Y : -0.120680
Image Width : 308
Image Height : 232
Bits Per Sample : 8
Color Components : 3
Aperture : 2.8
Image Size : 308x232
Megapixels : 0.071
Scale Factor To 35 mm Equivalent : 1.5
Shutter Speed : 1/250
Circle Of Confusion : 0.020 mm
Field Of View : 24.8 deg
Focal Length : 55.0 mm (35 mm equivalent: 82.0 mm)
Hyperfocal Distance : 53.61 m
Light Value : 10.9
Lens ID : 24-70mm F2.8 ZA SSM