Uber Exif Photo
Copyright Notice : Jim Orsetti
By-line : Jim Orsetti
Make : NIKON CORPORATION
Camera Model Name : NIKON D810
Orientation : Horizontal (normal)
Software : Adobe Photoshop Lightroom 6.0 (Macintosh)
Modify Date : 2016:07:11 16:00:47
Artist : Jim Orsetti
Copyright : Jim Orsetti
Exposure Time : 1/800
F Number : 8.0
Exposure Program : Aperture-priority AE
ISO : 400
Sensitivity Type : Recommended Exposure Index
Date/Time Original : 2016:07:09 12:01:21
Create Date : 2016:07:09 12:01:21
Shutter Speed Value : 1/800
Aperture Value : 8.0
Exposure Compensation : 0
Max Aperture Value : 3.5
Metering Mode : Multi-segment
Light Source : Unknown
Flash : Off, Did not fire
Focal Length : 18.0 mm
Color Space : sRGB
Exif Image Width : 1024
Exif Image Height : 683
Sensing Method : One-chip color area
Scene Type : Directly photographed
Custom Rendered : Normal
Exposure Mode : Auto
White Balance : Auto
Digital Zoom Ratio : 1
Focal Length In 35mm Format : 18 mm
Scene Capture Type : Standard
Gain Control : Low gain up
Contrast : Normal
Saturation : Normal
Sharpness : Normal
Subject Distance Range : Unknown
Serial Number : 3026303
Lens Info : 18mm f/3.5
Lens Model : Zeiss Distagon T* 3.5/18 ZF.2
Sharpen Detail : 25
Blacks 2012 : -20
Luminance Adjustment Orange : 0
Hue Adjustment Yellow : 0
Saturation Adjustment Blue : +58
Parametric Highlight Split : 75
Lens Profile Enable : 0
Split Toning Shadow Saturation : 0
Convert To Grayscale : False
Contrast 2012 : 0
Highlights 2012 : -40
Split Toning Highlight Hue : 0
Saturation Adjustment Aqua : +50
Perspective Scale : 100
Perspective Vertical : 0
Parametric Shadow Split : 25
Luminance Adjustment Green : 0
Perspective Rotate : 0.0
Split Toning Shadow Hue : 0
Luminance Adjustment Yellow : 0
Shadows 2012 : 0
Lens Profile Setup : LensDefaults
Whites 2012 : 0
Perspective Horizontal : 0
Camera Profile : Adobe Standard
Saturation Adjustment Yellow : +23
Parametric Midtone Split : 50
Parametric Highlights : +60
Defringe Green Amount : 0
Parametric Darks : 0
Sharpen Radius : +1.0
Vibrance : +32
Shadow Tint : 0
Has Crop : False
Luminance Smoothing : 0
Tone Curve Name 2012 : Linear
Split Toning Highlight Saturation : 0
Defringe Purple Hue Hi : 70
Saturation Adjustment Orange : +13
Sharpen Edge Masking : 0
Color Temperature : 5650
Hue Adjustment Green : 0
Vignette Amount : 0
Blue Saturation : 0
Red Saturation : 0
Red Hue : 0
Parametric Lights : +10
Split Toning Balance : 0
Hue Adjustment Purple : 0
Exposure 2012 : 0.00
Tone Curve Name : Linear
Color Noise Reduction Smoothness : 50
Color Noise Reduction Detail : 50
Saturation Adjustment Green : +10
Hue Adjustment Blue : 0
Luminance Adjustment Purple : 0
Perspective Aspect : 0
Perspective Upright : Off
Parametric Shadows : 0
Post Crop Vignette Amount : 0
Blue Hue : 0
Clarity 2012 : -56
Grain Amount : 0
Auto Lateral CA : 0
Hue Adjustment Aqua : 0
Process Version : 6.7
Tint : -1
Already Applied : True
Auto White Version : 134348800
Luminance Adjustment Blue : 0
Luminance Adjustment Red : 0
Color Noise Reduction : 25
Green Hue : 0
Hue Adjustment Magenta : 0
Has Settings : True
Saturation Adjustment Red : 0
Hue Adjustment Red : 0
Hue Adjustment Orange : 0
Lens Manual Distortion Amount : 0
Green Saturation : 0
Defringe Purple Hue Lo : 30
Defringe Green Hue Hi : 60
Saturation Adjustment Purple : +23
Saturation Adjustment Magenta : 0
Luminance Adjustment Aqua : 0
Version : 9.0
Defringe Green Hue Lo : 40
Defringe Purple Amount : 0
Raw File Name : Sea Ranch FB 1.jpg
Luminance Adjustment Magenta : 0
Creator Tool : Adobe Photoshop Lightroom 6.0 (Macintosh)
Format : image/jpeg
Image Number : 5544
Lens : Zeiss Distagon T* 3.5/18 ZF.2
Date Created : 2016:07:09 12:01:21.82
Tone Curve Blue : 0, 0, 255, 255
Tone Curve Green : 0, 0, 255, 255
Tone Curve PV2012 Red : 0, 0, 255, 255
Tone Curve PV2012 : 0, 0, 255, 255
Tone Curve : 0, 0, 255, 255
Gradient Based Corr Defringe : 0.000000
Gradient Based Corr Highlights 2012 : 0.000000
Gradient Based Corr Clarity 2012 : 0.768388
Gradient Based Corr Temperature : 0.000000
Gradient Based Corr Saturation : 0.000000
Gradient Based Corr What : Correction
Gradient Based Corr Tint : 0.000000
Gradient Based Corr Brightness : 0.000000
Gradient Based Corr Shadows 2012 : 0.000000
Gradient Based Corr Sharpness : 0.000000
Gradient Based Corr Toning Saturation : 0.000000
Gradient Based Corr Amount : 1.000000
Gradient Based Corr Toning Hue : 240.000000
Gradient Based Corr Active : true
Gradient Based Corr Contrast 2012 : 0.000000
Gradient Based Corr Luminance Noise : 0.000000
Gradient Based Corr Exposure 2012 : -0.557832
Gradient Based Corr Moire : 0.000000
Gradient Based Corr Mask Full Y : 0.006522
Gradient Based Corr Mask What : Mask/Gradient
Gradient Based Corr Mask Zero Y : 1.027010
Gradient Based Corr Mask Value : 1.000000
Gradient Based Corr Mask Zero X : 0.821601
Gradient Based Corr Mask Full X : 0.990366
Tone Curve Red : 0, 0, 255, 255
Tone Curve PV2012 Green : 0, 0, 255, 255
Tone Curve PV2012 Blue : 0, 0, 255, 255
Creator : Jim Orsetti
Rights : Jim Orsetti
Image Width : 300
Image Height : 200
Bits Per Sample : 8
Color Components : 3
Aperture : 8.0
Image Size : 300x200
Megapixels : 0.060
Scale Factor To 35 mm Equivalent : 1.0
Shutter Speed : 1/800
Create Date : 2016:07:09 12:01:21.82
Date/Time Original : 2016:07:09 12:01:21.82
Circle Of Confusion : 0.030 mm
Field Of View : 90.0 deg
Focal Length : 18.0 mm (35 mm equivalent: 18.0 mm)
Hyperfocal Distance : 1.35 m
Light Value : 13.6