Uber Exif Photo
By-line : Kelly L. Padgett
Country-Primary Location Name : Vietnam
Copyright Notice : 2015
Copyright Flag : True
Photometric Interpretation : RGB
Make : SONY
Camera Model Name : ILCE-7M2
Orientation : Horizontal (normal)
Samples Per Pixel : 3
Planar Configuration : Chunky
Software : Adobe Photoshop CS6 (Macintosh)
Modify Date : 2015:10:21 02:07:33
Artist : Kelly L. Padgett
Copyright : 2015
Exposure Time : 1/13
F Number : 3.2
Exposure Program : Manual
ISO : 400
Sensitivity Type : Recommended Exposure Index
Recommended Exposure Index : 400
Date/Time Original : 2015:04:12 15:55:40
Create Date : 2015:04:12 15:55:40
Shutter Speed Value : 1/13
Aperture Value : 3.2
Brightness Value : -2.49453125
Exposure Compensation : 0
Max Aperture Value : 2.8
Metering Mode : Multi-segment
Light Source : Unknown
Flash : Off, Did not fire
Focal Length : 35.0 mm
Color Space : sRGB
Exif Image Width : 1200
Exif Image Height : 796
Scene Type : Directly photographed
Custom Rendered : Normal
Exposure Mode : Manual
White Balance : Manual
Digital Zoom Ratio : 1
Focal Length In 35mm Format : 35 mm
Scene Capture Type : Standard
Contrast : Normal
Saturation : Normal
Sharpness : Normal
Lens Info : 35mm f/2.8
Lens Model : FE 35mm F2.8 ZA
Profile Description : sRGB IEC61966-2.1
Creator Tool : Adobe Photoshop CS6 (Macintosh)
Rating : 5
Label : Green
Lens : FE 35mm F2.8 ZA
Lens Distort Info : 1070781482/1073741824 17316983/1073741824 -25261530/1073741824 -1122512/1073741824
Date Created : 2015:04:12 15:55:40
Country : Vietnam
City : Ho Chi Minh City
Color Mode : RGB
ICC Profile Name : sRGB IEC61966-2.1
Format : image/jpeg
Marked : True
Version : 8.7.1
Process Version : 6.7
Auto White Version : 134348800
Color Temperature : 4104
Tint : -5
Luminance Smoothing : 11
Color Noise Reduction : 25
Vignette Amount : -69
Vignette Midpoint : 17
Shadow Tint : -4
Red Hue : +20
Red Saturation : +85
Green Hue : +50
Green Saturation : -15
Blue Hue : -10
Blue Saturation : -15
Vibrance : 0
Hue Adjustment Red : +20
Hue Adjustment Orange : 0
Hue Adjustment Yellow : +5
Hue Adjustment Green : 0
Hue Adjustment Aqua : +10
Hue Adjustment Blue : 0
Hue Adjustment Purple : +20
Hue Adjustment Magenta : +20
Saturation Adjustment Red : -35
Saturation Adjustment Orange : -30
Saturation Adjustment Yellow : -5
Saturation Adjustment Green : -40
Saturation Adjustment Aqua : -20
Saturation Adjustment Blue : -15
Saturation Adjustment Purple : -65
Saturation Adjustment Magenta : -50
Luminance Adjustment Red : -10
Luminance Adjustment Orange : -15
Luminance Adjustment Yellow : +10
Luminance Adjustment Green : 0
Luminance Adjustment Aqua : -10
Luminance Adjustment Blue : -20
Luminance Adjustment Purple : +20
Luminance Adjustment Magenta : +20
Split Toning Shadow Hue : 247
Split Toning Shadow Saturation : 8
Split Toning Highlight Hue : 34
Split Toning Highlight Saturation : 9
Split Toning Balance : 0
Parametric Shadows : +53
Parametric Darks : +34
Parametric Lights : -28
Parametric Highlights : 0
Parametric Shadow Split : 20
Parametric Midtone Split : 48
Parametric Highlight Split : 75
Sharpen Radius : +1.0
Sharpen Detail : 25
Sharpen Edge Masking : 0
Post Crop Vignette Amount : -7
Post Crop Vignette Midpoint : 50
Post Crop Vignette Feather : 50
Post Crop Vignette Roundness : 0
Post Crop Vignette Style : Highlight Priority
Post Crop Vignette Highlight Contrast : 0
Grain Amount : 0
Luminance Noise Reduction Detail : 50
Color Noise Reduction Detail : 50
Luminance Noise Reduction Contrast : 0
Color Noise Reduction Smoothness : 50
Lens Profile Enable : 1
Lens Manual Distortion Amount : 0
Perspective Vertical : 0
Perspective Horizontal : 0
Perspective Rotate : 0.0
Perspective Scale : 100
Perspective Aspect : 0
Perspective Upright : Off
Auto Lateral CA : 0
Exposure 2012 : +0.35
Contrast 2012 : 0
Highlights 2012 : -61
Shadows 2012 : +69
Whites 2012 : +14
Blacks 2012 : +16
Clarity 2012 : 0
Defringe Purple Amount : 0
Defringe Purple Hue Lo : 30
Defringe Purple Hue Hi : 70
Defringe Green Amount : 0
Defringe Green Hue Lo : 40
Defringe Green Hue Hi : 60
Convert To Grayscale : False
Tone Curve Name : Linear
Tone Curve Name 2012 : Custom
Camera Profile : Adobe Standard
Lens Profile Setup : Custom
Lens Profile Name : Adobe (Sony FE 35mm F2.8 ZA)
Lens Profile Filename : SONY (Sony FE 35mm F2.8 ZA) - RAW.lcp
Lens Profile Distortion Scale : 100
Lens Profile Chromatic Aberration Scale : 100
Lens Profile Vignetting Scale : 63
Has Settings : True
Crop Top : 0.009702
Crop Left : 0.004096
Crop Bottom : 0.990298
Crop Right : 0.995904
Crop Angle : -0.3
Crop Constrain To Warp : 0
Has Crop : True
Already Applied : True
Creator : Kelly L. Padgett
Rights : 2015
Usage Terms : All Rights Reserved
Tone Curve : 0, 0, 255, 255
Tone Curve Red : 0, 0, 255, 255
Tone Curve Green : 0, 0, 255, 255
Tone Curve Blue : 0, 0, 255, 255
Tone Curve PV2012 : 0, 45, 65, 67, 146, 149, 184, 189, 255, 245
Tone Curve PV2012 Red : 0, 0, 30, 12, 112, 120, 171, 196, 255, 255
Tone Curve PV2012 Green : 0, 0, 38, 20, 66, 51, 114, 123, 173, 199, 255, 255
Tone Curve PV2012 Blue : 0, 0, 33, 20, 122, 130, 177, 197, 255, 255
Creator Postal Code : 28752
Creator Region : North Carolina
Creator Work Email : kellyl.padgett@gmail.com
Creator Country : United States
Creator City : Marion
Creator Work URL : www.kellypadgett.net
Image Width : 300
Image Height : 199
Bits Per Sample : 8
Color Components : 3
Aperture : 3.2
Image Size : 300x199
Megapixels : 0.060
Scale Factor To 35 mm Equivalent : 1.0
Shutter Speed : 1/13
Circle Of Confusion : 0.030 mm
Field Of View : 54.4 deg
Focal Length : 35.0 mm (35 mm equivalent: 35.0 mm)
Hyperfocal Distance : 12.74 m
Light Value : 5.1
Lens ID : FE 35mm F2.8 ZA