Uber Exif Photo
By-line : GEOFF MURRAY
Copyright Notice : GEOFF MURRAY
Make : NIKON CORPORATION
Camera Model Name : NIKON D810
Software : Adobe Photoshop Lightroom 6.5 (Macintosh)
Modify Date : 2016:04:01 21:53:55
Artist : GEOFF MURRAY
Copyright : GEOFF MURRAY
Exposure Time : 1
F Number : 11.0
Exposure Program : Aperture-priority AE
ISO : 64
Sensitivity Type : Recommended Exposure Index
Date/Time Original : 2016:04:01 17:45:49
Create Date : 2016:04:01 17:45:49
Shutter Speed Value : 1
Aperture Value : 11.0
Exposure Compensation : -1
Max Aperture Value : 2.8
Metering Mode : Multi-segment
Light Source : Unknown
Flash : Off, Did not fire
Focal Length : 21.0 mm
Color Space : Uncalibrated
Sensing Method : One-chip color area
Scene Type : Directly photographed
CFA Pattern : [Red,Green][Green,Blue]
Custom Rendered : Custom
Exposure Mode : Auto
White Balance : Auto
Digital Zoom Ratio : 1
Focal Length In 35mm Format : 21 mm
Scene Capture Type : Standard
Gain Control : None
Contrast : Normal
Saturation : High
Sharpness : Hard
Subject Distance Range : Unknown
Serial Number : 8706336
Lens Info : 21mm f/2.8
Lens Model : Zeiss Milvus 2.8/21 ZF.2
Profile Description : Adobe RGB (1998)
Creator Tool : Adobe Photoshop Lightroom 6.5 (Macintosh)
Format : image/jpeg
Lens : Zeiss Milvus 2.8/21 ZF.2
Image Number : 7004
Approximate Focus Distance : 4294967295
Date Created : 2016:04:01 17:45:49.75
Version : 9.5
Process Version : 6.7
Auto White Version : 134348800
Color Temperature : 7750
Tint : -3
Luminance Smoothing : 0
Color Noise Reduction : 0
Vignette Amount : 0
Shadow Tint : 0
Red Hue : 0
Red Saturation : 0
Green Hue : 0
Green Saturation : 0
Blue Hue : 0
Blue Saturation : 0
Vibrance : +34
Hue Adjustment Red : 0
Hue Adjustment Orange : 0
Hue Adjustment Yellow : 0
Hue Adjustment Green : 0
Hue Adjustment Aqua : 0
Hue Adjustment Blue : 0
Hue Adjustment Purple : 0
Hue Adjustment Magenta : 0
Saturation Adjustment Red : +19
Saturation Adjustment Orange : +66
Saturation Adjustment Yellow : 0
Saturation Adjustment Green : +49
Saturation Adjustment Aqua : +15
Saturation Adjustment Blue : 0
Saturation Adjustment Purple : 0
Saturation Adjustment Magenta : 0
Luminance Adjustment Red : 0
Luminance Adjustment Orange : 0
Luminance Adjustment Yellow : 0
Luminance Adjustment Green : 0
Luminance Adjustment Aqua : 0
Luminance Adjustment Blue : 0
Luminance Adjustment Purple : 0
Luminance Adjustment Magenta : 0
Split Toning Shadow Hue : 0
Split Toning Shadow Saturation : 0
Split Toning Highlight Hue : 0
Split Toning Highlight Saturation : 0
Split Toning Balance : 0
Parametric Shadows : +3
Parametric Darks : 0
Parametric Lights : 0
Parametric Highlights : 0
Parametric Shadow Split : 25
Parametric Midtone Split : 50
Parametric Highlight Split : 75
Sharpen Radius : +0.5
Sharpen Detail : 100
Sharpen Edge Masking : 0
Post Crop Vignette Amount : 0
Grain Amount : 0
Lens Profile Enable : 1
Lens Manual Distortion Amount : 0
Perspective Vertical : 0
Perspective Horizontal : 0
Perspective Rotate : 0.0
Perspective Scale : 100
Perspective Aspect : 0
Perspective Upright : Off
Auto Lateral CA : 1
Exposure 2012 : +0.35
Contrast 2012 : 0
Highlights 2012 : -100
Shadows 2012 : +70
Whites 2012 : -49
Blacks 2012 : +47
Clarity 2012 : +34
Defringe Purple Amount : 0
Defringe Purple Hue Lo : 30
Defringe Purple Hue Hi : 70
Defringe Green Amount : 0
Defringe Green Hue Lo : 40
Defringe Green Hue Hi : 60
Dehaze : 0
Tone Map Strength : 0
Convert To Grayscale : False
Tone Curve Name : Linear
Tone Curve Name 2012 : Linear
Camera Profile : Adobe Standard
Lens Profile Setup : LensDefaults
Lens Profile Name : Adobe (Zeiss Milvus 2.8/21 ZF.2)
Lens Profile Filename : NIKON CORPORATION (Zeiss Milvus 2.8-21 ZF.2) - RAW.lcp
Lens Profile Distortion Scale : 100
Lens Profile Chromatic Aberration Scale : 100
Lens Profile Vignetting Scale : 100
Has Settings : True
Crop Top : 0.074364
Crop Left : 0.187214
Crop Bottom : 0.986697
Crop Right : 0.990246
Crop Angle : 0
Crop Constrain To Warp : 0
Has Crop : True
Already Applied : True
Creator : GEOFF MURRAY
Rights : GEOFF MURRAY
Tone Curve : 0, 0, 255, 255
Tone Curve Red : 0, 0, 255, 255
Tone Curve Green : 0, 0, 255, 255
Tone Curve Blue : 0, 0, 255, 255
Tone Curve PV2012 : 0, 0, 255, 255
Tone Curve PV2012 Red : 0, 0, 255, 255
Tone Curve PV2012 Green : 0, 0, 255, 255
Tone Curve PV2012 Blue : 0, 0, 255, 255
Paint Correction What : Correction
Paint Correction Amount : 1.000000
Paint Correction Active : true
Paint Correction Saturation : 0.000000
Paint Correction Sharpness : 0.000000
Paint Correction Brightness : 0.000000
Paint Correction Toning Hue : 0.000000
Paint Correction Toning Saturation : 0.000000
Paint Correction Exposure 2012 : -0.069646
Paint Correction Contrast 2012 : 0.000000
Paint Correction Highlights 2012 : 0.000000
Paint Correction Shadows 2012 : 0.047732
Paint Correction Whites 2012 : 0.060880
Paint Correction Blacks 2012 : 0.000000
Paint Correction Clarity 2012 : 0.000000
Paint Correction Dehaze : 0.000000
Paint Correction Luminance Noise : 0.000000
Paint Correction Moire : 0.000000
Paint Correction Defringe : 0.000000
Paint Correction Temperature : 0.000000
Paint Correction Tint : 0.000000
Paint Correction Mask What : Mask/Paint
Paint Correction Mask Value : 1.000000
Paint Correction Mask Radius : 0.041034
Paint Correction Mask Flow : 1.000000
Paint Correction Mask Center Weight : 0.000000
Gradient Based Corr What : Correction
Gradient Based Corr Amount : 1.000000
Gradient Based Corr Active : true
Gradient Based Corr Saturation : 0.000000
Gradient Based Corr Sharpness : 0.000000
Gradient Based Corr Brightness : 0.000000
Gradient Based Corr Toning Hue : 0.000000
Gradient Based Corr Toning Saturation : 0.000000
Gradient Based Corr Exposure 2012 : -0.487805
Gradient Based Corr Contrast 2012 : 0.000000
Gradient Based Corr Highlights 2012 : 0.000000
Gradient Based Corr Shadows 2012 : 0.000000
Gradient Based Corr Whites 2012 : 0.060880
Gradient Based Corr Blacks 2012 : 0.000000
Gradient Based Corr Clarity 2012 : 0.000000
Gradient Based Corr Dehaze : 0.000000
Gradient Based Corr Luminance Noise : 0.000000
Gradient Based Corr Moire : 0.000000
Gradient Based Corr Defringe : 0.000000
Gradient Based Corr Temperature : 0.000000
Gradient Based Corr Tint : 0.000000
Gradient Based Corr Mask What : Mask/Gradient
Gradient Based Corr Mask Value : 1.000000
Gradient Based Corr Mask Zero X : 0.457083
Gradient Based Corr Mask Zero Y : 0.498391
Gradient Based Corr Mask Full X : 0.008578
Gradient Based Corr Mask Full Y : 0.500716
Circ Grad Based Corr What : Correction
Circ Grad Based Corr Amount : 1.000000
Circ Grad Based Corr Active : true
Circ Grad Based Corr Saturation : 0.000000
Circ Grad Based Corr Sharpness : 0.000000
Circ Grad Based Corr Brightness : 0.000000
Circ Grad Based Corr Toning Hue : 0.000000
Circ Grad Based Corr Toning Saturation : 0.000000
Circ Grad Based Corr Exposure 2012 : -0.240358
Circ Grad Based Corr Contrast 2012 : 0.000000
Circ Grad Based Corr Highlights 2012 : 0.000000
Circ Grad Based Corr Shadows 2012 : 0.047732
Circ Grad Based Corr Whites 2012 : 0.060880
Circ Grad Based Corr Blacks 2012 : 0.000000
Circ Grad Based Corr Clarity 2012 : 0.000000
Circ Grad Based Corr Dehaze : 0.000000
Circ Grad Based Corr Luminance Noise : 0.000000
Circ Grad Based Corr Moire : 0.000000
Circ Grad Based Corr Defringe : 0.000000
Circ Grad Based Corr Temperature : 0.000000
Circ Grad Based Corr Tint : 0.000000
Circ Grad Based Corr Mask What : Mask/CircularGradient
Circ Grad Based Corr Mask Value : 1.000000
Circ Grad Based Corr Mask Top : 0.119016
Circ Grad Based Corr Mask Left : 0.204976
Circ Grad Based Corr Mask Bottom : 0.935005
Circ Grad Based Corr Mask Right : 0.966190
Circ Grad Based Corr Mask Angle : 0.000000
Circ Grad Based Corr Mask Midpoint : +50
Circ Grad Based Corr Mask Roundness : 0
Circ Grad Based Corr Mask Feather : +50
Circ Grad Based Corr Mask Flipped : false
Circ Grad Based Corr Mask Version : +2
Image Width : 300
Image Height : 396
Bits Per Sample : 8
Color Components : 3
Aperture : 11.0
Image Size : 300x396
Megapixels : 0.119
Scale Factor To 35 mm Equivalent : 1.0
Shutter Speed : 1
Create Date : 2016:04:01 17:45:49.75
Date/Time Original : 2016:04:01 17:45:49.75
Circle Of Confusion : 0.030 mm
Depth Of Field : inf (1.33 m - inf)
Field Of View : 81.2 deg
Focal Length : 21.0 mm (35 mm equivalent: 21.0 mm)
Hyperfocal Distance : 1.33 m
Light Value : 7.6
Lens ID : Zeiss Milvus 2.8/21 ZF.2