Uber Exif Photo
By-line : Kevin Sink
Copyright Notice : Henry Domke Fine Art
Copyright Flag : True
URL : www.henrydomke.com
Make : Canon
Camera Model Name : Canon EOS 5DS R
Orientation : Horizontal (normal)
Software : Adobe Photoshop Lightroom 6.1 (Macintosh)
Modify Date : 2016:01:02 14:07:42
Artist : Kevin Sink
Copyright : Henry Domke Fine Art
Exposure Time : 1/15
F Number : 11.0
Exposure Program : Manual
ISO : 100
Sensitivity Type : Recommended Exposure Index
Recommended Exposure Index : 100
Date/Time Original : 2015:12:31 17:30:17
Create Date : 2015:12:31 17:30:17
Shutter Speed Value : 1/15
Aperture Value : 11.0
Exposure Compensation : 0
Max Aperture Value : 2.8
Metering Mode : Multi-segment
Flash : Off, Did not fire
Focal Length : 15.0 mm
Custom Rendered : Normal
Exposure Mode : Manual
White Balance : Auto
Scene Capture Type : Standard
Serial Number : 052021000848
Lens Info : 15mm f/?
Lens Model : Zeiss Distagon T* 2.8/15 ZE
Lens Serial Number : 0000000000
Profile Description : sRGB IEC61966-2.1
Rating : 5
Creator Tool : Adobe Photoshop Lightroom 6.1 (Macintosh)
Lens : Zeiss Distagon T* 2.8/15 ZE
Image Number : 0
Flash Compensation : 0
Firmware : 1.0.1
Date Created : 2015:12:31 17:30:17.00
Format : image/jpeg
Marked : True
Web Statement : www.henrydomke.com
Version : 9.1
Process Version : 6.7
Auto White Version : 134348800
Color Temperature : 5900
Tint : +9
Saturation : 0
Sharpness : 25
Luminance Smoothing : 0
Color Noise Reduction : 25
Vignette Amount : 0
Shadow Tint : 0
Red Hue : 0
Red Saturation : 0
Green Hue : 0
Green Saturation : 0
Blue Hue : 0
Blue Saturation : 0
Vibrance : +10
Hue Adjustment Red : 0
Hue Adjustment Orange : 0
Hue Adjustment Yellow : 0
Hue Adjustment Green : 0
Hue Adjustment Aqua : 0
Hue Adjustment Blue : 0
Hue Adjustment Purple : 0
Hue Adjustment Magenta : 0
Saturation Adjustment Red : 0
Saturation Adjustment Orange : 0
Saturation Adjustment Yellow : -5
Saturation Adjustment Green : -10
Saturation Adjustment Aqua : -25
Saturation Adjustment Blue : -25
Saturation Adjustment Purple : 0
Saturation Adjustment Magenta : 0
Luminance Adjustment Red : 0
Luminance Adjustment Orange : 0
Luminance Adjustment Yellow : 0
Luminance Adjustment Green : 0
Luminance Adjustment Aqua : 0
Luminance Adjustment Blue : 0
Luminance Adjustment Purple : 0
Luminance Adjustment Magenta : 0
Split Toning Shadow Hue : 0
Split Toning Shadow Saturation : 0
Split Toning Highlight Hue : 0
Split Toning Highlight Saturation : 0
Split Toning Balance : 0
Parametric Shadows : 0
Parametric Darks : 0
Parametric Lights : 0
Parametric Highlights : 0
Parametric Shadow Split : 25
Parametric Midtone Split : 50
Parametric Highlight Split : 75
Sharpen Radius : +1.0
Sharpen Detail : 25
Sharpen Edge Masking : 0
Post Crop Vignette Amount : 0
Grain Amount : 0
Color Noise Reduction Detail : 50
Color Noise Reduction Smoothness : 50
Lens Profile Enable : 0
Lens Manual Distortion Amount : 0
Perspective Vertical : 0
Perspective Horizontal : 0
Perspective Rotate : 0.0
Perspective Scale : 100
Perspective Aspect : 0
Perspective Upright : Off
Auto Lateral CA : 1
Exposure 2012 : 0.00
Contrast 2012 : 0
Highlights 2012 : -100
Shadows 2012 : +82
Whites 2012 : 0
Blacks 2012 : 0
Clarity 2012 : 0
Defringe Purple Amount : 0
Defringe Purple Hue Lo : 30
Defringe Purple Hue Hi : 70
Defringe Green Amount : 0
Defringe Green Hue Lo : 40
Defringe Green Hue Hi : 60
Dehaze : 0
Tone Map Strength : 0
Convert To Grayscale : False
Tone Curve Name : Linear
Tone Curve Name 2012 : Linear
Camera Profile : Adobe Standard
Lens Profile Setup : LensDefaults
Has Settings : True
Crop Top : 0.014226
Crop Left : 0
Crop Bottom : 0.939226
Crop Right : 1
Crop Angle : 0
Crop Constrain To Warp : 0
Has Crop : True
Already Applied : True
Raw File Name : _C8A2538.jpg
Creator : Kevin Sink
Rights : Henry Domke Fine Art
Tone Curve : 0, 0, 255, 255
Tone Curve Red : 0, 0, 255, 255
Tone Curve Green : 0, 0, 255, 255
Tone Curve Blue : 0, 0, 255, 255
Tone Curve PV2012 : 0, 0, 255, 255
Tone Curve PV2012 Red : 0, 0, 255, 255
Tone Curve PV2012 Green : 0, 0, 255, 255
Tone Curve PV2012 Blue : 0, 0, 255, 255
Paint Correction What : Correction
Paint Correction Amount : 1.000000
Paint Correction Active : true
Paint Correction Saturation : 0.352269
Paint Correction Sharpness : 0.000000
Paint Correction Brightness : 0.000000
Paint Correction Toning Hue : 222.492004
Paint Correction Toning Saturation : 0.000000
Paint Correction Exposure 2012 : -0.084667
Paint Correction Contrast 2012 : 0.000000
Paint Correction Highlights 2012 : 0.000000
Paint Correction Shadows 2012 : 0.138207
Paint Correction Whites 2012 : 0.000000
Paint Correction Blacks 2012 : 0.000000
Paint Correction Clarity 2012 : 0.000000
Paint Correction Luminance Noise : 0.000000
Paint Correction Moire : 0.000000
Paint Correction Defringe : 0.000000
Paint Correction Temperature : -0.101265
Paint Correction Tint : 0.291406
Paint Correction Mask What : Mask/Paint
Paint Correction Mask Value : 0.401234
Paint Correction Mask Radius : 0.077759
Paint Correction Mask Flow : 0.916801
Paint Correction Mask Center Weight : 0.254265
Gradient Based Corr What : Correction
Gradient Based Corr Amount : 1.000000
Gradient Based Corr Active : true
Gradient Based Corr Saturation : 0.000000
Gradient Based Corr Sharpness : 0.000000
Gradient Based Corr Brightness : 0.000000
Gradient Based Corr Toning Hue : 222.492004
Gradient Based Corr Toning Saturation : 0.000000
Gradient Based Corr Exposure 2012 : 0.082500
Gradient Based Corr Contrast 2012 : 0.000000
Gradient Based Corr Highlights 2012 : 0.000000
Gradient Based Corr Shadows 2012 : 0.074851
Gradient Based Corr Whites 2012 : 0.000000
Gradient Based Corr Blacks 2012 : 0.000000
Gradient Based Corr Clarity 2012 : 0.000000
Gradient Based Corr Luminance Noise : 0.000000
Gradient Based Corr Moire : 0.000000
Gradient Based Corr Defringe : 0.000000
Gradient Based Corr Temperature : 0.000000
Gradient Based Corr Tint : 0.000000
Gradient Based Corr Mask What : Mask/Gradient
Gradient Based Corr Mask Value : 1.000000
Gradient Based Corr Mask Zero X : 0.488492
Gradient Based Corr Mask Zero Y : 0.480836
Gradient Based Corr Mask Full X : 0.488075
Gradient Based Corr Mask Full Y : 0.697060
Image Width : 300
Image Height : 185
Bits Per Sample : 8
Color Components : 3
Aperture : 11.0
Image Size : 300x185
Megapixels : 0.056
Scale Factor To 35 mm Equivalent : 29.6
Shutter Speed : 1/15
Circle Of Confusion : 0.001 mm
Field Of View : 4.6 deg
Focal Length : 15.0 mm (35 mm equivalent: 444.4 mm)
Hyperfocal Distance : 20.17 m
Light Value : 10.8
Lens ID : Carl Zeiss Distagon T* 15mm f/2.8 ZE