Uber Exif Photo
By-line : Jim Orsetti
Copyright Notice : Jim Orsetti
Keywords : D7100
Make : NIKON CORPORATION
Camera Model Name : NIKON D810
Orientation : Horizontal (normal)
Software : Adobe Photoshop Lightroom 6.0 (Macintosh)
Modify Date : 2015:10:20 21:33:25
Artist : Jim Orsetti
Copyright : Jim Orsetti
Exposure Time : 1/400
F Number : 1.4
Exposure Program : Aperture-priority AE
ISO : 360
Sensitivity Type : Recommended Exposure Index
Date/Time Original : 2015:10:09 16:47:36
Create Date : 2015:10:09 16:47:36
Shutter Speed Value : 1/400
Aperture Value : 1.4
Exposure Compensation : 0
Max Aperture Value : 1.4
Metering Mode : Multi-segment
Light Source : Unknown
Flash : Off, Did not fire
Focal Length : 85.0 mm
User Comment : D7100
Color Space : sRGB
Exif Image Width : 1104
Exif Image Height : 737
Sensing Method : One-chip color area
Scene Type : Directly photographed
Custom Rendered : Normal
Exposure Mode : Auto
White Balance : Auto
Digital Zoom Ratio : 1
Focal Length In 35mm Format : 85 mm
Scene Capture Type : Standard
Gain Control : None
Contrast : Normal
Saturation : Normal
Sharpness : Normal
Subject Distance Range : Unknown
Lens Info : 85mm f/1.4
Lens Model : Zeiss Planar T* 1.4/85 ZF.2
Profile Description : sRGB IEC61966-2.1
Sharpen Detail : 25
Blacks 2012 : -3
Luminance Adjustment Orange : 0
Hue Adjustment Yellow : 0
Saturation Adjustment Blue : 0
Parametric Highlight Split : 75
Lens Profile Enable : 0
Split Toning Shadow Saturation : 0
Convert To Grayscale : False
Contrast 2012 : +10
Highlights 2012 : -18
Split Toning Highlight Hue : 0
Saturation Adjustment Aqua : 0
Perspective Scale : 100
Perspective Vertical : 0
Parametric Shadow Split : 25
Luminance Adjustment Green : 0
Perspective Rotate : 0.0
Split Toning Shadow Hue : 0
Luminance Adjustment Yellow : 0
Shadows 2012 : -9
Lens Profile Setup : LensDefaults
Whites 2012 : -22
Perspective Horizontal : 0
Camera Profile : Adobe Standard
Saturation Adjustment Yellow : 0
Parametric Midtone Split : 50
Parametric Highlights : 0
Defringe Green Amount : 0
Parametric Darks : 0
Sharpen Radius : +1.0
Vibrance : +89
Shadow Tint : 0
Has Crop : False
Luminance Smoothing : 0
Tone Curve Name 2012 : Linear
Split Toning Highlight Saturation : 0
Defringe Purple Hue Hi : 70
Saturation Adjustment Orange : 0
Sharpen Edge Masking : 0
Color Temperature : 5100
Hue Adjustment Green : 0
Vignette Amount : 0
Blue Saturation : 0
Red Saturation : 0
Red Hue : 0
Parametric Lights : 0
Split Toning Balance : 0
Hue Adjustment Purple : 0
Exposure 2012 : +0.10
Tone Curve Name : Linear
Color Noise Reduction Smoothness : 50
Color Noise Reduction Detail : 50
Saturation Adjustment Green : 0
Hue Adjustment Blue : 0
Luminance Adjustment Purple : 0
Perspective Aspect : 0
Perspective Upright : Off
Parametric Shadows : 0
Post Crop Vignette Amount : 0
Blue Hue : 0
Clarity 2012 : +17
Grain Amount : 0
Auto Lateral CA : 0
Hue Adjustment Aqua : 0
Process Version : 6.7
Tint : -11
Already Applied : True
Auto White Version : 134348800
Luminance Adjustment Blue : 0
Luminance Adjustment Red : 0
Color Noise Reduction : 25
Green Hue : 0
Hue Adjustment Magenta : 0
Has Settings : True
Saturation Adjustment Red : 0
Hue Adjustment Red : 0
Hue Adjustment Orange : 0
Lens Manual Distortion Amount : 0
Green Saturation : 0
Defringe Purple Hue Lo : 30
Defringe Green Hue Hi : 60
Saturation Adjustment Purple : 0
Saturation Adjustment Magenta : 0
Luminance Adjustment Aqua : 0
Version : 9.0
Defringe Green Hue Lo : 40
Defringe Purple Amount : 0
Raw File Name : Times Square Angie Li Best (1 of 1).jpg
Luminance Adjustment Magenta : 0
Creator Tool : Adobe Photoshop Lightroom 6.0 (Macintosh)
Format : image/jpeg
Serial Number : 3026303
Image Number : 1318
Lens : Zeiss Planar T* 1.4/85 ZF.2
Camera Model : Nikon D7100
Date Created : 2015:10:09 16:47:36.25
Tone Curve Blue : 0, 0, 255, 255
Tone Curve Green : 0, 0, 255, 255
Tone Curve PV2012 Red : 0, 0, 255, 255
Tone Curve PV2012 : 0, 0, 255, 255
Tone Curve : 0, 0, 255, 255
Tone Curve Red : 0, 0, 255, 255
Tone Curve PV2012 Green : 0, 0, 255, 255
Tone Curve PV2012 Blue : 0, 0, 255, 255
Subject : D7100
Creator : Jim Orsetti
Rights : Jim Orsetti
Image Width : 300
Image Height : 200
Bits Per Sample : 8
Color Components : 3
Aperture : 1.4
Image Size : 300x200
Megapixels : 0.060
Scale Factor To 35 mm Equivalent : 1.0
Shutter Speed : 1/400
Create Date : 2015:10:09 16:47:36.25
Date/Time Original : 2015:10:09 16:47:36.25
Circle Of Confusion : 0.030 mm
Field Of View : 23.9 deg
Focal Length : 85.0 mm (35 mm equivalent: 85.0 mm)
Hyperfocal Distance : 171.76 m
Light Value : 7.8