Uber Exif Photo
Make : Canon
Camera Model Name : Canon EOS 5D Mark II
Orientation : Horizontal (normal)
Samples Per Pixel : 3
Software : Adobe Photoshop CC (Windows)
Modify Date : 2015:03:14 21:39:40
Exposure Time : 1/500
F Number : 8.0
Exposure Program : Aperture-priority AE
ISO : 100
Date/Time Original : 2015:02:20 22:41:03
Create Date : 2015:02:20 22:41:03
Shutter Speed Value : 1/500
Aperture Value : 8.0
Exposure Compensation : -1
Max Aperture Value : 1.4
Metering Mode : Multi-segment
Flash : Off, Did not fire
Focal Length : 55.0 mm
Color Space : sRGB
Exif Image Width : 5572
Exif Image Height : 3715
Custom Rendered : Normal
Exposure Mode : Auto
White Balance : Auto
Scene Capture Type : Standard
Serial Number : 430309685
Lens Info : 55mm f/?
Lens Model : 55mm
Lens : 55mm
Image Number : 0
Flash Compensation : 0
Firmware : 2.1.1
Rating : 4
Creator Tool : Adobe Photoshop Lightroom 5.3 (Windows)
Date Created : 2015:02:20 22:41:03.062
Color Mode : RGB
ICC Profile Name : sRGB IEC61966-2.1
Format : image/jpeg
Version : 8.3
Process Version : 6.7
Auto White Version : 134348800
Color Temperature : 5000
Tint : +2
Saturation : +20
Sharpness : 35
Luminance Smoothing : 10
Color Noise Reduction : 30
Vignette Amount : 0
Shadow Tint : 0
Red Hue : 0
Red Saturation : 0
Green Hue : 0
Green Saturation : 0
Blue Hue : 0
Blue Saturation : 0
Vibrance : +30
Hue Adjustment Red : 0
Hue Adjustment Orange : 0
Hue Adjustment Yellow : 0
Hue Adjustment Green : 0
Hue Adjustment Aqua : 0
Hue Adjustment Blue : 0
Hue Adjustment Purple : 0
Hue Adjustment Magenta : 0
Saturation Adjustment Red : 0
Saturation Adjustment Orange : 0
Saturation Adjustment Yellow : 0
Saturation Adjustment Green : 0
Saturation Adjustment Aqua : 0
Saturation Adjustment Blue : 0
Saturation Adjustment Purple : 0
Saturation Adjustment Magenta : 0
Luminance Adjustment Red : 0
Luminance Adjustment Orange : 0
Luminance Adjustment Yellow : 0
Luminance Adjustment Green : 0
Luminance Adjustment Aqua : 0
Luminance Adjustment Blue : 0
Luminance Adjustment Purple : 0
Luminance Adjustment Magenta : 0
Split Toning Shadow Hue : 0
Split Toning Shadow Saturation : 0
Split Toning Highlight Hue : 0
Split Toning Highlight Saturation : 0
Split Toning Balance : 0
Parametric Shadows : 0
Parametric Darks : 0
Parametric Lights : 0
Parametric Highlights : 0
Parametric Shadow Split : 25
Parametric Midtone Split : 50
Parametric Highlight Split : 75
Sharpen Radius : +1.0
Sharpen Detail : 25
Sharpen Edge Masking : 0
Post Crop Vignette Amount : -15
Post Crop Vignette Midpoint : 50
Post Crop Vignette Feather : 50
Post Crop Vignette Roundness : 0
Post Crop Vignette Style : Highlight Priority
Post Crop Vignette Highlight Contrast : 0
Grain Amount : 0
Luminance Noise Reduction Detail : 50
Color Noise Reduction Detail : 50
Luminance Noise Reduction Contrast : 0
Color Noise Reduction Smoothness : 50
Lens Profile Enable : 0
Lens Manual Distortion Amount : 0
Perspective Vertical : 0
Perspective Horizontal : 0
Perspective Rotate : 0.0
Perspective Scale : 100
Perspective Aspect : 0
Perspective Upright : Off
Auto Lateral CA : 0
Exposure 2012 : +1.30
Contrast 2012 : +30
Highlights 2012 : -30
Shadows 2012 : +30
Whites 2012 : +30
Blacks 2012 : -30
Clarity 2012 : +35
Defringe Purple Amount : 0
Defringe Purple Hue Lo : 30
Defringe Purple Hue Hi : 70
Defringe Green Amount : 0
Defringe Green Hue Lo : 40
Defringe Green Hue Hi : 60
Convert To Grayscale : False
Tone Curve Name 2012 : Linear
Camera Profile : Camera Landscape
Lens Profile Setup : LensDefaults
Has Settings : True
Crop Top : 0
Crop Left : 0.003463
Crop Bottom : 1
Crop Right : 0.992207
Crop Angle : 0.3
Crop Constrain To Warp : 1
Has Crop : True
Already Applied : True
Tone Curve PV2012 : 0, 0, 255, 255
Tone Curve PV2012 Red : 0, 0, 255, 255
Tone Curve PV2012 Green : 0, 0, 255, 255
Tone Curve PV2012 Blue : 0, 0, 255, 255
Image Width : 300
Image Height : 200
Bits Per Sample : 8
Color Components : 3
Aperture : 8.0
Image Size : 300x200
Megapixels : 0.060
Scale Factor To 35 mm Equivalent : 1.0
Shutter Speed : 1/500
Create Date : 2015:02:20 22:41:03.62
Date/Time Original : 2015:02:20 22:41:03.62
Circle Of Confusion : 0.031 mm
Field Of View : 37.1 deg
Focal Length : 55.0 mm (35 mm equivalent: 53.7 mm)
Hyperfocal Distance : 12.28 m
Light Value : 15.0
Lens ID : Zeiss Otus 55mm f/1.4 ZE