Uber Exif Photo
Keywords : France, Paris
By-line : Carl Cooley
Copyright Notice : © 2014 Carl Cooley
Copyright Flag : True
Make : Canon
Camera Model Name : Canon EOS REBEL SL1
Software : Adobe Photoshop Lightroom 6.2.1 (Macintosh)
Modify Date : 2015:11:16 19:08:24
Artist : Carl Cooley
Copyright : © 2014 Carl Cooley
Exposure Time : 1/125
F Number : 5.6
Exposure Program : Not Defined
ISO : 400
Sensitivity Type : Recommended Exposure Index
Recommended Exposure Index : 400
Date/Time Original : 2013:12:08 12:01:07
Create Date : 2013:12:08 12:01:07
Shutter Speed Value : 1/125
Aperture Value : 5.6
Exposure Compensation : 0
Max Aperture Value : 5.4
Metering Mode : Multi-segment
Flash : Off, Did not fire
Focal Length : 85.0 mm
Color Space : sRGB
Custom Rendered : Normal
Exposure Mode : Auto
White Balance : Auto
Scene Capture Type : Standard
Serial Number : 022070027578
Lens Info : 18-135mm f/?
Lens Model : EF-S18-135mm f/3.5-5.6 IS STM
Lens Serial Number : 000002d358
Profile Description : sRGB IEC61966-2.1
Creator Tool : Adobe Photoshop Lightroom 6.2.1 (Macintosh)
Lens : EF-S18-135mm f/3.5-5.6 IS STM
Image Number : 0
Approximate Focus Distance : 4294967295
Flash Compensation : 0
Firmware : 1.0.0
Date Created : 2013:12:08 12:01:07.00
Format : image/jpeg
Marked : True
Version : 9.2
Process Version : 6.7
Auto White Version : 134348800
Incremental Temperature : +1
Incremental Tint : +2
Saturation : 0
Sharpness : 0
Luminance Smoothing : 0
Color Noise Reduction : 0
Vignette Amount : 0
Shadow Tint : 0
Red Hue : 0
Red Saturation : 0
Green Hue : 0
Green Saturation : 0
Blue Hue : 0
Blue Saturation : 0
Vibrance : +28
Hue Adjustment Red : 0
Hue Adjustment Orange : 0
Hue Adjustment Yellow : 0
Hue Adjustment Green : 0
Hue Adjustment Aqua : 0
Hue Adjustment Blue : 0
Hue Adjustment Purple : 0
Hue Adjustment Magenta : 0
Saturation Adjustment Red : 0
Saturation Adjustment Orange : 0
Saturation Adjustment Yellow : 0
Saturation Adjustment Green : 0
Saturation Adjustment Aqua : 0
Saturation Adjustment Blue : 0
Saturation Adjustment Purple : 0
Saturation Adjustment Magenta : 0
Luminance Adjustment Red : 0
Luminance Adjustment Orange : 0
Luminance Adjustment Yellow : 0
Luminance Adjustment Green : 0
Luminance Adjustment Aqua : 0
Luminance Adjustment Blue : 0
Luminance Adjustment Purple : 0
Luminance Adjustment Magenta : 0
Split Toning Shadow Hue : 0
Split Toning Shadow Saturation : 0
Split Toning Highlight Hue : 0
Split Toning Highlight Saturation : 0
Split Toning Balance : 0
Parametric Shadows : 0
Parametric Darks : 0
Parametric Lights : 0
Parametric Highlights : 0
Parametric Shadow Split : 25
Parametric Midtone Split : 50
Parametric Highlight Split : 75
Sharpen Radius : +1.0
Sharpen Detail : 25
Sharpen Edge Masking : 0
Post Crop Vignette Amount : 0
Grain Amount : 0
Lens Profile Enable : 0
Lens Manual Distortion Amount : 0
Perspective Vertical : 0
Perspective Horizontal : 0
Perspective Rotate : 0.0
Perspective Scale : 100
Perspective Aspect : 0
Perspective Upright : Off
Auto Lateral CA : 0
Exposure 2012 : -1.00
Contrast 2012 : +15
Highlights 2012 : -100
Shadows 2012 : +30
Whites 2012 : 0
Blacks 2012 : 0
Clarity 2012 : +29
Defringe Purple Amount : 0
Defringe Purple Hue Lo : 30
Defringe Purple Hue Hi : 70
Defringe Green Amount : 0
Defringe Green Hue Lo : 40
Defringe Green Hue Hi : 60
Dehaze : 0
Tone Map Strength : 0
Convert To Grayscale : False
Tone Curve Name : Linear
Tone Curve Name 2012 : Linear
Camera Profile : Embedded
Lens Profile Setup : LensDefaults
Has Settings : True
Crop Top : 0.392909
Crop Left : 0.300195
Crop Bottom : 0.95487
Crop Right : 0.768496
Crop Angle : 0
Crop Constrain To Warp : 0
Has Crop : True
Already Applied : True
Creator : Carl Cooley
Rights : © 2014 Carl Cooley
Subject : France, Paris
Usage Terms : All Rights Reserved
Creator Postal Code : 03301
Creator Work Telephone : 603-738-9901
Creator Region : NH
Creator Work Email : wcarlcooley@gmail.com
Creator Country : USA
Creator City : Concord
Creator Address : 6 Auburn Street
Creator Work URL : www.carlcooleyphoto.com
Tone Curve : 0, 0, 255, 255
Tone Curve Red : 0, 0, 255, 255
Tone Curve Green : 0, 0, 255, 255
Tone Curve Blue : 0, 0, 255, 255
Tone Curve PV2012 : 0, 0, 255, 255
Tone Curve PV2012 Red : 0, 0, 255, 255
Tone Curve PV2012 Green : 0, 0, 255, 255
Tone Curve PV2012 Blue : 0, 0, 255, 255
Image Width : 240
Image Height : 300
Bits Per Sample : 8
Color Components : 3
Aperture : 5.6
Image Size : 240x300
Megapixels : 0.072
Scale Factor To 35 mm Equivalent : 1.6
Shutter Speed : 1/125
Create Date : 2013:12:08 12:01:07.00
Date/Time Original : 2013:12:08 12:01:07.00
Circle Of Confusion : 0.019 mm
Depth Of Field : inf (68.04 m - inf)
Field Of View : 15.2 deg
Focal Length : 85.0 mm (35 mm equivalent: 134.7 mm)
Hyperfocal Distance : 68.04 m
Light Value : 9.9
Lens ID : Canon EF-S 18-135mm f/3.5-5.6 IS STM