Uber Exif Photo
By-line : Wojciech Zielinski
Copyright Notice : Wojciech Zielinski
Make : SONY
Camera Model Name : ILCE-7RM2
Orientation : Horizontal (normal)
Software : Adobe Photoshop CS6 (Windows)
Modify Date : 2015:11:14 08:49:49
Artist : Wojciech Zielinski
Copyright : Wojciech Zielinski
Exposure Time : 1/80
F Number : 2.8
Exposure Program : Manual
ISO : 8000
Sensitivity Type : Recommended Exposure Index
Recommended Exposure Index : 8000
Date/Time Original : 2015:11:13 19:37:07
Create Date : 2015:11:13 19:37:07
Shutter Speed Value : 1/80
Aperture Value : 2.8
Brightness Value : -5.13125
Exposure Compensation : 0
Max Aperture Value : 1.4
Metering Mode : Multi-segment
Light Source : Unknown
Flash : Off, Did not fire
Focal Length : 50.0 mm
Color Space : sRGB
Exif Image Width : 6000
Exif Image Height : 4002
Scene Type : Directly photographed
Custom Rendered : Normal
Exposure Mode : Manual
White Balance : Auto
Digital Zoom Ratio : 1
Focal Length In 35mm Format : 75 mm
Scene Capture Type : Standard
Contrast : Low
Saturation : Normal
Sharpness : Hard
Lens Info : 50mm f/1.4
Lens Model : Carl Zeiss Jena Prakticar 1.4/50 PB
Profile Description : sRGB IEC61966-2.1
Lens : Carl Zeiss Jena Prakticar 1.4/50 PB
Vignette Correction Already Applied : True
Already Applied : True
Auto Lateral CA : 0
Auto White Version : 134348800
Blacks 2012 : +13
Blue Hue : 0
Blue Saturation : 0
Camera Profile : Adobe Standard
Clarity 2012 : +34
Color Noise Reduction : 25
Color Noise Reduction Detail : 50
Color Noise Reduction Smoothness : 50
Contrast 2012 : -33
Convert To Grayscale : False
Defringe Green Amount : 0
Defringe Green Hue Hi : 60
Defringe Green Hue Lo : 40
Defringe Purple Amount : 0
Defringe Purple Hue Hi : 70
Defringe Purple Hue Lo : 30
Dehaze : 0
Exposure 2012 : +0.65
Grain Amount : 0
Green Hue : 0
Green Saturation : 0
Has Crop : False
Has Settings : True
Highlights 2012 : -33
Hue Adjustment Aqua : 0
Hue Adjustment Blue : 0
Hue Adjustment Green : 0
Hue Adjustment Magenta : 0
Hue Adjustment Orange : 0
Hue Adjustment Purple : 0
Hue Adjustment Red : 0
Hue Adjustment Yellow : 0
Lens Manual Distortion Amount : 0
Lens Profile Enable : 0
Lens Profile Setup : LensDefaults
Luminance Adjustment Aqua : 0
Luminance Adjustment Blue : 0
Luminance Adjustment Green : 0
Luminance Adjustment Magenta : 0
Luminance Adjustment Orange : 0
Luminance Adjustment Purple : 0
Luminance Adjustment Red : 0
Luminance Adjustment Yellow : 0
Luminance Noise Reduction Contrast : 0
Luminance Noise Reduction Detail : 50
Luminance Smoothing : 78
Parametric Darks : 0
Parametric Highlight Split : 75
Parametric Highlights : 0
Parametric Lights : 0
Parametric Midtone Split : 50
Parametric Shadow Split : 25
Parametric Shadows : 0
Perspective Aspect : 0
Perspective Horizontal : 0
Perspective Rotate : 0.0
Perspective Scale : 100
Perspective Upright : Off
Perspective Vertical : 0
Post Crop Vignette Amount : 0
Process Version : 6.7
Raw File Name : _DSC1849.ARW
Red Hue : 0
Red Saturation : 0
Saturation Adjustment Aqua : 0
Saturation Adjustment Blue : 0
Saturation Adjustment Green : 0
Saturation Adjustment Magenta : 0
Saturation Adjustment Orange : 0
Saturation Adjustment Purple : 0
Saturation Adjustment Red : 0
Saturation Adjustment Yellow : 0
Shadow Tint : 0
Shadows 2012 : +35
Sharpen Detail : 25
Sharpen Edge Masking : 0
Sharpen Radius : +1.0
Split Toning Balance : 0
Split Toning Highlight Hue : 0
Split Toning Highlight Saturation : 0
Split Toning Shadow Hue : 0
Split Toning Shadow Saturation : 0
Color Temperature : 2500
Tint : -6
Tone Curve Name : Medium Contrast
Tone Curve Name 2012 : Linear
Tone Map Strength : 0
Version : 9.1.1
Vibrance : 0
Vignette Amount : +25
Vignette Midpoint : 50
Whites 2012 : +12
Format : image/jpeg
Color Mode : RGB
Date Created : 2015:11:13 19:37:07
ICC Profile Name : sRGB IEC61966-2.1
Creator Tool : Adobe Photoshop CS6 (Windows)
Rating : 0
Tone Curve : 0, 0, 32, 22, 64, 56, 128, 128, 192, 196, 255, 255
Tone Curve Blue : 0, 0, 255, 255
Tone Curve Green : 0, 0, 255, 255
Tone Curve PV2012 : 0, 0, 255, 255
Tone Curve PV2012 Blue : 0, 0, 255, 255
Tone Curve PV2012 Green : 0, 0, 255, 255
Tone Curve PV2012 Red : 0, 0, 255, 255
Tone Curve Red : 0, 0, 255, 255
Creator : Wojciech Zielinski
Rights : Wojciech Zielinski
Image Width : 300
Image Height : 200
Bits Per Sample : 8
Color Components : 3
Aperture : 2.8
Image Size : 300x200
Megapixels : 0.060
Scale Factor To 35 mm Equivalent : 1.5
Shutter Speed : 1/80
Circle Of Confusion : 0.020 mm
Field Of View : 27.0 deg
Focal Length : 50.0 mm (35 mm equivalent: 75.0 mm)
Hyperfocal Distance : 44.57 m
Light Value : 3.0