Uber Exif Photo
By-line : Paul P. Ferzoco
By-line Title : Photographer
Copyright Notice : ©2015
Copyright Flag : True
URL : http://www.ferzoco.com/general/photography/usage/
Make : SONY
Camera Model Name : ILCE-7RM2
Software : Adobe Photoshop Lightroom 6.1.1 (Windows)
Modify Date : 2015:09:25 13:43:48
Artist : Paul P. Ferzoco
Copyright : ©2015
Exposure Time : 1/400
F Number : 7.1
Exposure Program : Manual
ISO : 100
Date/Time Original : 2015:09:24 15:36:00
Create Date : 2015:09:24 15:36:00
Shutter Speed Value : 1/400
Aperture Value : 7.1
Brightness Value : 9.525
Exposure Compensation : 0
Max Aperture Value : 1.8
Metering Mode : Center-weighted average
Light Source : Daylight
Flash : Off, Did not fire
Focal Length : 85.0 mm
Color Space : sRGB
Scene Type : Directly photographed
Exposure Mode : Manual
White Balance : Manual
Digital Zoom Ratio : 1
Focal Length In 35mm Format : 85 mm
Scene Capture Type : Standard
Contrast : Normal
Saturation : Normal
Sharpness : Normal
Lens Info : 85mm f/1.8
Lens Model : E 85mm F1.8
Lens : E 85mm F1.8
Lens Distort Info : 1048959188/1073741824 33102172/1073741824 -5173274/1073741824 -3165058/1073741824
Format : image/jpeg
Creator Tool : Adobe Photoshop Lightroom 6.1.1 (Windows)
Authors Position : Photographer
Date Created : 2015:09:24 15:36:00
Marked : True
Web Statement : http://www.ferzoco.com/general/photography/usage/
Photographic Sensitivity : 100
Version : 9.1.1
Process Version : 6.7
Auto White Version : 134348800
Incremental Temperature : +15
Incremental Tint : -9
Luminance Smoothing : 42
Color Noise Reduction : 25
Vignette Amount : 0
Shadow Tint : 0
Red Hue : 0
Red Saturation : 0
Green Hue : 0
Green Saturation : 0
Blue Hue : 0
Blue Saturation : 0
Gray Mixer Red : -6
Gray Mixer Orange : -14
Gray Mixer Yellow : -18
Gray Mixer Green : -23
Gray Mixer Aqua : -19
Gray Mixer Blue : +6
Gray Mixer Purple : +12
Gray Mixer Magenta : +4
Split Toning Shadow Hue : 0
Split Toning Shadow Saturation : 0
Split Toning Highlight Hue : 0
Split Toning Highlight Saturation : 0
Split Toning Balance : 0
Parametric Shadows : 0
Parametric Darks : 0
Parametric Lights : 0
Parametric Highlights : 0
Parametric Shadow Split : 25
Parametric Midtone Split : 50
Parametric Highlight Split : 75
Sharpen Radius : +1.0
Sharpen Detail : 25
Sharpen Edge Masking : 0
Post Crop Vignette Amount : -43
Post Crop Vignette Midpoint : 49
Post Crop Vignette Feather : 49
Post Crop Vignette Roundness : 0
Post Crop Vignette Style : Highlight Priority
Post Crop Vignette Highlight Contrast : 0
Grain Amount : 20
Grain Size : 25
Grain Frequency : 50
Luminance Noise Reduction Detail : 50
Color Noise Reduction Detail : 50
Luminance Noise Reduction Contrast : 0
Color Noise Reduction Smoothness : 50
Lens Profile Enable : 0
Lens Manual Distortion Amount : 0
Perspective Vertical : 0
Perspective Horizontal : 0
Perspective Rotate : 0.0
Perspective Scale : 100
Perspective Aspect : 0
Perspective Upright : Off
Auto Lateral CA : 0
Exposure 2012 : 0.00
Contrast 2012 : 0
Highlights 2012 : -39
Shadows 2012 : +40
Whites 2012 : -43
Blacks 2012 : 0
Clarity 2012 : +95
Dehaze : 0
Tone Map Strength : 0
Convert To Grayscale : True
Tone Curve Name : Linear
Tone Curve Name 2012 : Medium Contrast
Camera Profile : Adobe Standard
Lens Profile Setup : LensDefaults
Has Settings : True
Has Crop : False
Already Applied : True
Creator : Paul P. Ferzoco
Rights : ©2015
Creator City : San Francisco
Creator Country : USA
Creator Address : PO Box 192263
Creator Postal Code : 94119-2263
Creator Region : California
Creator Work Email : PaulFerzoco@gmail.com
Creator Work Telephone : 415-235-8804
Creator Work URL : https://500px.com/paulferzoco
Tone Curve : 0, 0, 255, 255
Tone Curve Red : 0, 0, 255, 255
Tone Curve Green : 0, 0, 255, 255
Tone Curve Blue : 0, 0, 255, 255
Tone Curve PV2012 : 0, 0, 32, 22, 64, 56, 128, 128, 192, 196, 255, 255
Tone Curve PV2012 Red : 0, 0, 255, 255
Tone Curve PV2012 Green : 0, 0, 255, 255
Tone Curve PV2012 Blue : 0, 0, 255, 255
Image Width : 300
Image Height : 200
Bits Per Sample : 8
Color Components : 1
Aperture : 7.1
Image Size : 300x200
Megapixels : 0.060
Scale Factor To 35 mm Equivalent : 1.0
Shutter Speed : 1/400
Circle Of Confusion : 0.030 mm
Field Of View : 23.9 deg
Focal Length : 85.0 mm (35 mm equivalent: 85.0 mm)
Hyperfocal Distance : 33.87 m
Light Value : 14.3
Lens ID : E 85mm F1.8