Uber Exif Photo
Make : NIKON CORPORATION
Camera Model Name : NIKON D810
Software : Adobe Photoshop Lightroom 6.1.1 (Windows)
Modify Date : 2015:08:08 23:49:02
Exposure Time : 1/500
F Number : 4.0
Exposure Program : Aperture-priority AE
ISO : 400
Sensitivity Type : Recommended Exposure Index
Date/Time Original : 2015:08:08 19:11:08
Create Date : 2015:08:08 19:11:08
Shutter Speed Value : 1/500
Aperture Value : 4.0
Exposure Compensation : 0
Max Aperture Value : 1.4
Metering Mode : Multi-segment
Light Source : Unknown
Flash : Off, Did not fire
Focal Length : 85.0 mm
Sensing Method : One-chip color area
Scene Type : Directly photographed
CFA Pattern : [Red,Green][Green,Blue]
Custom Rendered : Normal
Exposure Mode : Auto
White Balance : Auto
Digital Zoom Ratio : 1
Focal Length In 35mm Format : 85 mm
Scene Capture Type : Standard
Gain Control : Low gain up
Contrast : Normal
Saturation : Normal
Sharpness : Normal
Subject Distance Range : Unknown
Serial Number : 3035229
Lens Info : 85mm f/1.4
Lens Model : Zeiss Otus 1.4/85 ZF.2
Profile Description : sRGB IEC61966-2.1
Creator Tool : Adobe Photoshop Lightroom 6.1.1 (Windows)
Lens : Zeiss Otus 1.4/85 ZF.2
Image Number : 272
Approximate Focus Distance : 4294967295
Date Created : 2015:08:08 19:11:08.83
Format : image/jpeg
Version : 9.1.1
Process Version : 6.7
Auto White Version : 134348800
Color Temperature : 5300
Tint : +4
Luminance Smoothing : 0
Color Noise Reduction : 25
Vignette Amount : 0
Shadow Tint : -2
Red Hue : +25
Red Saturation : +20
Green Hue : +35
Green Saturation : 0
Blue Hue : -5
Blue Saturation : +25
Vibrance : 0
Hue Adjustment Red : +10
Hue Adjustment Orange : 0
Hue Adjustment Yellow : 0
Hue Adjustment Green : +10
Hue Adjustment Aqua : +10
Hue Adjustment Blue : -5
Hue Adjustment Purple : +20
Hue Adjustment Magenta : +20
Saturation Adjustment Red : -30
Saturation Adjustment Orange : -8
Saturation Adjustment Yellow : -15
Saturation Adjustment Green : -50
Saturation Adjustment Aqua : -50
Saturation Adjustment Blue : -30
Saturation Adjustment Purple : -50
Saturation Adjustment Magenta : -40
Luminance Adjustment Red : +5
Luminance Adjustment Orange : -4
Luminance Adjustment Yellow : +10
Luminance Adjustment Green : -5
Luminance Adjustment Aqua : +10
Luminance Adjustment Blue : -15
Luminance Adjustment Purple : +20
Luminance Adjustment Magenta : +20
Split Toning Shadow Hue : 0
Split Toning Shadow Saturation : 0
Split Toning Highlight Hue : 50
Split Toning Highlight Saturation : 10
Split Toning Balance : 0
Parametric Shadows : 0
Parametric Darks : 0
Parametric Lights : 0
Parametric Highlights : 0
Parametric Shadow Split : 14
Parametric Midtone Split : 60
Parametric Highlight Split : 75
Sharpen Radius : +1.0
Sharpen Detail : 25
Sharpen Edge Masking : 0
Post Crop Vignette Amount : -15
Post Crop Vignette Midpoint : 50
Post Crop Vignette Feather : 50
Post Crop Vignette Roundness : 0
Post Crop Vignette Style : Highlight Priority
Post Crop Vignette Highlight Contrast : 0
Grain Amount : 15
Grain Size : 40
Grain Frequency : 45
Color Noise Reduction Detail : 50
Color Noise Reduction Smoothness : 50
Lens Profile Enable : 0
Lens Manual Distortion Amount : 0
Perspective Vertical : 0
Perspective Horizontal : 0
Perspective Rotate : 0.0
Perspective Scale : 100
Perspective Aspect : 0
Perspective Upright : Off
Auto Lateral CA : 0
Exposure 2012 : 0.00
Contrast 2012 : 0
Highlights 2012 : -50
Shadows 2012 : +30
Whites 2012 : -45
Blacks 2012 : +15
Clarity 2012 : 0
Defringe Purple Amount : 0
Defringe Purple Hue Lo : 30
Defringe Purple Hue Hi : 70
Defringe Green Amount : 0
Defringe Green Hue Lo : 40
Defringe Green Hue Hi : 60
Dehaze : 0
Tone Map Strength : 0
Convert To Grayscale : False
Tone Curve Name : Linear
Tone Curve Name 2012 : Gold 100 Warm
Camera Profile : Kodak Gold 100 - L
Lens Profile Setup : LensDefaults
Has Settings : True
Has Crop : False
Already Applied : True
Tone Curve : 0, 0, 255, 255
Tone Curve Red : 0, 0, 255, 255
Tone Curve Green : 0, 0, 255, 255
Tone Curve Blue : 0, 0, 255, 255
Tone Curve PV2012 : 0, 0, 77, 74, 186, 187, 255, 250
Tone Curve PV2012 Red : 0, 0, 30, 11, 71, 51, 118, 123, 180, 198, 255, 255
Tone Curve PV2012 Green : 0, 0, 28, 9, 120, 124, 181, 198, 255, 255
Tone Curve PV2012 Blue : 0, 0, 23, 9, 83, 68, 121, 121, 186, 198, 255, 255
Image Width : 300
Image Height : 200
Bits Per Sample : 8
Color Components : 3
Aperture : 4.0
Image Size : 300x200
Megapixels : 0.060
Scale Factor To 35 mm Equivalent : 1.0
Shutter Speed : 1/500
Create Date : 2015:08:08 19:11:08.83
Date/Time Original : 2015:08:08 19:11:08.83
Circle Of Confusion : 0.030 mm
Depth Of Field : inf (60.12 m - inf)
Field Of View : 23.9 deg
Focal Length : 85.0 mm (35 mm equivalent: 85.0 mm)
Hyperfocal Distance : 60.12 m
Light Value : 11.0
Lens ID : Unknown (01) 85mm