Uber Exif Photo
Copyright Notice : Grzegorz Rabalski
Copyright Flag : True
URL : rabalski@golden.net
Make : Canon
Camera Model Name : Canon EOS 5D
Software : Adobe Photoshop Lightroom 5.7 (Macintosh)
Modify Date : 2015:07:25 22:07:00
Copyright : Grzegorz Rabalski
Exposure Time : 1/200
F Number : 6.3
Exposure Program : Aperture-priority AE
ISO : 200
Date/Time Original : 2014:08:16 10:04:00
Create Date : 2014:08:16 10:04:00
Shutter Speed Value : 1/200
Aperture Value : 6.3
Exposure Compensation : 0
Max Aperture Value : 2.8
Metering Mode : Partial
Flash : Off, Did not fire
Focal Length : 21.0 mm
Color Space : sRGB
Custom Rendered : Normal
Exposure Mode : Auto
White Balance : Auto
Scene Capture Type : Standard
Serial Number : 3021202358
Lens Info : 21mm f/?
Lens Model : 21.0 mm
Profile Description : sRGB IEC61966-2.1
Lens : 21.0 mm
Image Number : 3
Flash Compensation : 0
Firmware : 1.1.1
Creator Tool : Adobe Photoshop Lightroom 5.7 (Macintosh)
Date Created : 2014:08:16 10:04:00
Format : image/jpeg
Marked : True
Web Statement : rabalski@golden.net
Version : 8.7
Process Version : 6.7
Auto White Version : 134348800
Color Temperature : 5300
Tint : +15
Saturation : 0
Sharpness : 25
Luminance Smoothing : 0
Color Noise Reduction : 25
Vignette Amount : 0
Shadow Tint : 0
Red Hue : 0
Red Saturation : 0
Green Hue : 0
Green Saturation : 0
Blue Hue : 0
Blue Saturation : 0
Vibrance : 0
Hue Adjustment Red : 0
Hue Adjustment Orange : 0
Hue Adjustment Yellow : 0
Hue Adjustment Green : 0
Hue Adjustment Aqua : 0
Hue Adjustment Blue : 0
Hue Adjustment Purple : 0
Hue Adjustment Magenta : 0
Saturation Adjustment Red : +31
Saturation Adjustment Orange : 0
Saturation Adjustment Yellow : 0
Saturation Adjustment Green : 0
Saturation Adjustment Aqua : 0
Saturation Adjustment Blue : +15
Saturation Adjustment Purple : 0
Saturation Adjustment Magenta : 0
Luminance Adjustment Red : -23
Luminance Adjustment Orange : 0
Luminance Adjustment Yellow : 0
Luminance Adjustment Green : 0
Luminance Adjustment Aqua : 0
Luminance Adjustment Blue : -60
Luminance Adjustment Purple : 0
Luminance Adjustment Magenta : 0
Split Toning Shadow Hue : 0
Split Toning Shadow Saturation : 0
Split Toning Highlight Hue : 0
Split Toning Highlight Saturation : 0
Split Toning Balance : 0
Parametric Shadows : -26
Parametric Darks : 0
Parametric Lights : 0
Parametric Highlights : 0
Parametric Shadow Split : 25
Parametric Midtone Split : 50
Parametric Highlight Split : 75
Sharpen Radius : +1.0
Sharpen Detail : 25
Sharpen Edge Masking : 0
Post Crop Vignette Amount : 0
Grain Amount : 0
Color Noise Reduction Detail : 50
Color Noise Reduction Smoothness : 50
Lens Profile Enable : 0
Lens Manual Distortion Amount : 0
Perspective Vertical : 0
Perspective Horizontal : 0
Perspective Rotate : 0.0
Perspective Scale : 100
Perspective Aspect : 0
Perspective Upright : Off
Auto Lateral CA : 0
Exposure 2012 : -0.50
Contrast 2012 : +26
Highlights 2012 : -100
Shadows 2012 : +100
Whites 2012 : +44
Blacks 2012 : -1
Clarity 2012 : 0
Defringe Purple Amount : 0
Defringe Purple Hue Lo : 30
Defringe Purple Hue Hi : 70
Defringe Green Amount : 0
Defringe Green Hue Lo : 40
Defringe Green Hue Hi : 60
Convert To Grayscale : False
Tone Curve Name : Linear
Tone Curve Name 2012 : Linear
Camera Profile : Adobe Standard
Lens Profile Setup : LensDefaults
Has Settings : True
Crop Top : 0.001217
Crop Left : 0.048244
Crop Bottom : 0.904681
Crop Right : 0.8222
Crop Angle : 1.39286
Crop Constrain To Warp : 0
Has Crop : True
Already Applied : True
Rights : Grzegorz Rabalski
Usage Terms : contact via email
Tone Curve : 0, 0, 255, 255
Tone Curve Red : 0, 0, 255, 255
Tone Curve Green : 0, 0, 255, 255
Tone Curve Blue : 0, 0, 255, 255
Tone Curve PV2012 : 0, 0, 255, 255
Tone Curve PV2012 Red : 0, 0, 255, 255
Tone Curve PV2012 Green : 0, 0, 255, 255
Tone Curve PV2012 Blue : 0, 0, 255, 255
Image Width : 300
Image Height : 222
Bits Per Sample : 8
Color Components : 3
Aperture : 6.3
Image Size : 300x222
Megapixels : 0.067
Scale Factor To 35 mm Equivalent : 1.0
Shutter Speed : 1/200
Circle Of Confusion : 0.030 mm
Field Of View : 81.1 deg
Focal Length : 21.0 mm (35 mm equivalent: 21.0 mm)
Hyperfocal Distance : 2.33 m
Light Value : 12.0
Lens ID : Carl Zeiss Distagon T* 21mm f/2.8 ZE