Uber Exif Photo
By-line : Grzegorz Rabalski
Copyright Notice : Grzegorz Rabalski
Copyright Flag : True
URL : rabalski@golden.net
Make : Canon
Camera Model Name : Canon EOS 5D Mark II
Software : Adobe Photoshop Lightroom 5.7 (Macintosh)
Modify Date : 2015:07:24 13:50:59
Artist : Grzegorz Rabalski
Copyright : Grzegorz Rabalski
Exposure Time : 1/40
F Number : 4.5
Exposure Program : Aperture-priority AE
ISO : 100
Date/Time Original : 2015:07:22 20:12:25
Create Date : 2015:07:22 20:12:25
Shutter Speed Value : 1/40
Aperture Value : 4.5
Exposure Compensation : -2/3
Max Aperture Value : 2.0
Metering Mode : Partial
Flash : Off, Did not fire
Focal Length : 25.0 mm
Color Space : sRGB
Custom Rendered : Normal
Exposure Mode : Auto
White Balance : Auto
Scene Capture Type : Standard
Serial Number : 1921200552
Lens Info : 25mm f/?
Lens Model : Zeiss Distagon T* 2/25 ZE
Lens : Zeiss Distagon T* 2/25 ZE
Image Number : 0
Flash Compensation : 0
Firmware : 2.1.2
Creator Tool : Adobe Photoshop Lightroom 5.7 (Macintosh)
Date Created : 2014:04:06 13:07:39.76
Format : image/jpeg
Marked : True
Web Statement : rabalski@golden.net
Version : 8.7
Process Version : 6.7
Auto White Version : 134348800
Color Temperature : 5250
Tint : +21
Sharpness : 82
Luminance Smoothing : 52
Color Noise Reduction : 25
Vignette Amount : 0
Shadow Tint : 0
Red Hue : 0
Red Saturation : 0
Green Hue : 0
Green Saturation : 0
Blue Hue : 0
Blue Saturation : 0
Gray Mixer Red : -14
Gray Mixer Orange : -19
Gray Mixer Yellow : 0
Gray Mixer Green : -28
Gray Mixer Aqua : -19
Gray Mixer Blue : +10
Gray Mixer Purple : +17
Gray Mixer Magenta : +5
Split Toning Shadow Hue : 0
Split Toning Shadow Saturation : 0
Split Toning Highlight Hue : 0
Split Toning Highlight Saturation : 0
Split Toning Balance : 0
Parametric Shadows : -19
Parametric Darks : -8
Parametric Lights : 0
Parametric Highlights : 0
Parametric Shadow Split : 25
Parametric Midtone Split : 50
Parametric Highlight Split : 75
Sharpen Radius : +0.5
Sharpen Detail : 25
Sharpen Edge Masking : 62
Post Crop Vignette Amount : -24
Post Crop Vignette Midpoint : 50
Post Crop Vignette Feather : 62
Post Crop Vignette Roundness : 0
Post Crop Vignette Style : Highlight Priority
Post Crop Vignette Highlight Contrast : 0
Grain Amount : 0
Luminance Noise Reduction Detail : 50
Color Noise Reduction Detail : 50
Luminance Noise Reduction Contrast : 0
Color Noise Reduction Smoothness : 50
Lens Profile Enable : 0
Lens Manual Distortion Amount : 0
Perspective Vertical : 0
Perspective Horizontal : 0
Perspective Rotate : 0.0
Perspective Scale : 100
Perspective Aspect : 0
Perspective Upright : Off
Auto Lateral CA : 1
Exposure 2012 : 0.00
Contrast 2012 : +26
Highlights 2012 : -100
Shadows 2012 : +100
Whites 2012 : +61
Blacks 2012 : -32
Clarity 2012 : +25
Convert To Grayscale : True
Tone Curve Name : Linear
Tone Curve Name 2012 : Linear
Camera Profile : Adobe Standard
Lens Profile Setup : LensDefaults
Has Settings : True
Crop Top : 0.068649
Crop Left : 0
Crop Bottom : 0.955126
Crop Right : 0.794606
Crop Angle : 0
Crop Constrain To Warp : 0
Has Crop : True
Already Applied : True
Creator : Grzegorz Rabalski
Rights : Grzegorz Rabalski
Usage Terms : contact via email
Creator Country : Canada
Creator Work Email : rabalski@golden.net
Tone Curve : 0, 0, 255, 255
Tone Curve Red : 0, 0, 255, 255
Tone Curve Green : 0, 0, 255, 255
Tone Curve Blue : 0, 0, 255, 255
Tone Curve PV2012 : 0, 0, 255, 255
Tone Curve PV2012 Red : 0, 0, 255, 255
Tone Curve PV2012 Green : 0, 0, 255, 255
Tone Curve PV2012 Blue : 0, 0, 255, 255
Image Width : 300
Image Height : 223
Bits Per Sample : 8
Color Components : 1
Aperture : 4.5
Image Size : 300x223
Megapixels : 0.067
Scale Factor To 35 mm Equivalent : 1.0
Shutter Speed : 1/40
Create Date : 2015:07:22 20:12:25.29
Date/Time Original : 2015:07:22 20:12:25.29
Circle Of Confusion : 0.031 mm
Field Of View : 72.8 deg
Focal Length : 25.0 mm (35 mm equivalent: 24.4 mm)
Hyperfocal Distance : 4.51 m
Light Value : 9.7
Lens ID : Carl Zeiss Distagon T* 25mm f/2 ZE