Uber Exif Photo
By-line : Grzegorz Rabalski
Copyright Notice : Grzegorz Rabalski
Copyright Flag : True
URL : rabalski@golden.net
Make : Canon
Camera Model Name : Canon EOS 5D
Software : Adobe Photoshop Lightroom 5.7 (Macintosh)
Modify Date : 2015:04:13 20:23:39
Artist : Grzegorz Rabalski
Copyright : Grzegorz Rabalski
Exposure Time : 1/320
F Number : 6.3
Exposure Program : Aperture-priority AE
ISO : 50
Date/Time Original : 2015:03:22 16:00:00
Create Date : 2015:03:22 16:00:00
Shutter Speed Value : 1/320
Aperture Value : 6.3
Exposure Compensation : 0
Max Aperture Value : 2.8
Metering Mode : Unknown
Flash : Off, Did not fire
Focal Length : 21.0 mm
Color Space : sRGB
Custom Rendered : Normal
Exposure Mode : Auto
White Balance : Auto
Scene Capture Type : Standard
Serial Number : 3021202358
Lens Info : 21mm f/?
Lens Model : 21.0 mm
Profile Description : sRGB IEC61966-2.1
Lens : 21.0 mm
Image Number : 6
Flash Compensation : 0
Firmware : 1.1.1
Creator Tool : Adobe Photoshop Lightroom 5.7 (Macintosh)
Date Created : 2014:04:06 13:07:39.76
Format : image/jpeg
Marked : True
Web Statement : rabalski@golden.net
Version : 8.7
Process Version : 6.7
Auto White Version : 134348800
Color Temperature : 5300
Tint : +11
Saturation : 0
Sharpness : 80
Luminance Smoothing : 45
Color Noise Reduction : 25
Vignette Amount : 0
Shadow Tint : 0
Red Hue : 0
Red Saturation : 0
Green Hue : 0
Green Saturation : 0
Blue Hue : 0
Blue Saturation : 0
Vibrance : 0
Hue Adjustment Red : 0
Hue Adjustment Orange : 0
Hue Adjustment Yellow : 0
Hue Adjustment Green : 0
Hue Adjustment Aqua : 0
Hue Adjustment Blue : 0
Hue Adjustment Purple : 0
Hue Adjustment Magenta : 0
Saturation Adjustment Red : 0
Saturation Adjustment Orange : -12
Saturation Adjustment Yellow : +2
Saturation Adjustment Green : -100
Saturation Adjustment Aqua : +3
Saturation Adjustment Blue : -100
Saturation Adjustment Purple : 0
Saturation Adjustment Magenta : 0
Luminance Adjustment Red : +7
Luminance Adjustment Orange : +15
Luminance Adjustment Yellow : +11
Luminance Adjustment Green : 0
Luminance Adjustment Aqua : 0
Luminance Adjustment Blue : -70
Luminance Adjustment Purple : 0
Luminance Adjustment Magenta : 0
Split Toning Shadow Hue : 0
Split Toning Shadow Saturation : 0
Split Toning Highlight Hue : 0
Split Toning Highlight Saturation : 0
Split Toning Balance : 0
Parametric Shadows : 0
Parametric Darks : 0
Parametric Lights : 0
Parametric Highlights : 0
Parametric Shadow Split : 25
Parametric Midtone Split : 50
Parametric Highlight Split : 75
Sharpen Radius : +0.5
Sharpen Detail : 49
Sharpen Edge Masking : 85
Post Crop Vignette Amount : 0
Grain Amount : 0
Luminance Noise Reduction Detail : 50
Color Noise Reduction Detail : 50
Luminance Noise Reduction Contrast : 0
Color Noise Reduction Smoothness : 50
Lens Profile Enable : 0
Lens Manual Distortion Amount : 0
Perspective Vertical : 0
Perspective Horizontal : 0
Perspective Rotate : 0.0
Perspective Scale : 100
Perspective Aspect : 0
Perspective Upright : Auto
Auto Lateral CA : 1
Exposure 2012 : +0.45
Contrast 2012 : +17
Highlights 2012 : -100
Shadows 2012 : +100
Whites 2012 : +27
Blacks 2012 : -41
Clarity 2012 : +8
Defringe Purple Amount : 0
Defringe Purple Hue Lo : 30
Defringe Purple Hue Hi : 70
Defringe Green Amount : 0
Defringe Green Hue Lo : 40
Defringe Green Hue Hi : 60
Convert To Grayscale : False
Tone Curve Name : Linear
Tone Curve Name 2012 : Linear
Camera Profile : Adobe Standard
Lens Profile Setup : LensDefaults
Has Settings : True
Crop Top : 0.031554
Crop Left : 0
Crop Bottom : 0.88713
Crop Right : 0.903704
Crop Angle : 0
Crop Constrain To Warp : 0
Has Crop : True
Already Applied : True
Creator : Grzegorz Rabalski
Rights : Grzegorz Rabalski
Usage Terms : contact via email
Creator Country : Canada
Creator Work Email : rabalski@golden.net
Tone Curve : 0, 0, 255, 255
Tone Curve Red : 0, 0, 255, 255
Tone Curve Green : 0, 0, 255, 255
Tone Curve Blue : 0, 0, 255, 255
Tone Curve PV2012 : 0, 0, 255, 255
Tone Curve PV2012 Red : 0, 0, 255, 255
Tone Curve PV2012 Green : 0, 0, 255, 255
Tone Curve PV2012 Blue : 0, 0, 255, 255
Gradient Based Corr What : Correction
Gradient Based Corr Amount : 1.000000
Gradient Based Corr Active : true
Gradient Based Corr Saturation : 0.000000
Gradient Based Corr Sharpness : 0.594628
Gradient Based Corr Brightness : 0.000000
Gradient Based Corr Toning Hue : 0.000000
Gradient Based Corr Toning Saturation : 0.000000
Gradient Based Corr Exposure 2012 : -0.216819
Gradient Based Corr Contrast 2012 : 0.322507
Gradient Based Corr Highlights 2012 : 0.000000
Gradient Based Corr Shadows 2012 : 0.046173
Gradient Based Corr Clarity 2012 : 0.000000
Gradient Based Corr Luminance Noise : 0.661254
Gradient Based Corr Moire : 0.000000
Gradient Based Corr Defringe : 0.000000
Gradient Based Corr Temperature : 0.055302
Gradient Based Corr Tint : 0.000000
Gradient Based Corr Mask What : Mask/Gradient
Gradient Based Corr Mask Value : 1.000000
Gradient Based Corr Mask Zero X : 0.455163
Gradient Based Corr Mask Zero Y : 0.346627
Gradient Based Corr Mask Full X : 0.462683
Gradient Based Corr Mask Full Y : 0.166692
Image Width : 300
Image Height : 189
Bits Per Sample : 8
Color Components : 3
Aperture : 6.3
Image Size : 300x189
Megapixels : 0.057
Scale Factor To 35 mm Equivalent : 1.0
Shutter Speed : 1/320
Circle Of Confusion : 0.030 mm
Field Of View : 81.1 deg
Focal Length : 21.0 mm (35 mm equivalent: 21.0 mm)
Hyperfocal Distance : 2.33 m
Light Value : 14.6
Lens ID : Carl Zeiss Distagon T* 21mm f/2.8 ZE