Uber Exif Photo
Photometric Interpretation : BlackIsZero
Make : NIKON CORPORATION
Camera Model Name : NIKON D810
Orientation : Horizontal (normal)
Samples Per Pixel : 4
Software : Adobe Photoshop CS5 Macintosh
Modify Date : 2015:03:28 02:00:01
Exposure Time : 1/250
F Number : 4.0
Exposure Program : Manual
ISO : 64
Sensitivity Type : Recommended Exposure Index
Date/Time Original : 2015:03:15 09:38:50
Create Date : 2015:03:15 09:38:50
Shutter Speed Value : 1/250
Aperture Value : 4.0
Exposure Compensation : 0
Max Aperture Value : 2.0
Subject Distance : 4294967295 m
Metering Mode : Multi-segment
Light Source : Unknown
Flash : Off, Did not fire
Focal Length : 100.0 mm
Color Space : Uncalibrated
Exif Image Width : 1024
Exif Image Height : 714
Sensing Method : One-chip color area
Scene Type : Directly photographed
CFA Pattern : [Red,Green][Green,Blue]
Custom Rendered : Normal
Exposure Mode : Manual
White Balance : Auto
Digital Zoom Ratio : 1
Focal Length In 35mm Format : 100 mm
Scene Capture Type : Standard
Gain Control : None
Contrast : Normal
Saturation : Normal
Sharpness : Normal
Subject Distance Range : Unknown
Serial Number : 3010180
Lens Info : 100mm f/2
Lens Model : Zeiss Makro-Planar T* 2/100 ZF.2
Creator Tool : Adobe Photoshop CS5 Macintosh
Rating : 0
Lens : Zeiss Makro-Planar T* 2/100 ZF.2
Image Number : 2813
Approximate Focus Distance : 4294967295
Date Created : 2015:03:15 09:38:50.073
Color Mode : Grayscale
ICC Profile Name : Gray Gamma 2.2
Format : image/jpeg
Raw File Name : DSC_2320 copy.dng
Version : 6.2
Process Version : 5.7
Color Temperature : 6650
Tint : +2
Exposure : -0.15
Shadows : 5
Brightness : +50
Luminance Smoothing : 0
Color Noise Reduction : 25
Chromatic Aberration R : 0
Chromatic Aberration B : 0
Vignette Amount : 0
Shadow Tint : 0
Red Hue : 0
Red Saturation : 0
Green Hue : 0
Green Saturation : 0
Blue Hue : 0
Blue Saturation : 0
Fill Light : 14
Highlight Recovery : 0
Clarity : +2
Defringe : 0
Gray Mixer Red : -19
Gray Mixer Orange : 0
Gray Mixer Yellow : +62
Gray Mixer Green : +28
Gray Mixer Aqua : -57
Gray Mixer Blue : -44
Gray Mixer Purple : -35
Gray Mixer Magenta : -31
Split Toning Shadow Hue : 0
Split Toning Shadow Saturation : 0
Split Toning Highlight Hue : 0
Split Toning Highlight Saturation : 0
Split Toning Balance : 0
Parametric Shadows : 0
Parametric Darks : 0
Parametric Lights : 0
Parametric Highlights : 0
Parametric Shadow Split : 25
Parametric Midtone Split : 50
Parametric Highlight Split : 75
Sharpen Radius : +1.0
Sharpen Detail : 25
Sharpen Edge Masking : 0
Post Crop Vignette Amount : 0
Grain Amount : 0
Color Noise Reduction Detail : 50
Lens Profile Enable : 0
Lens Manual Distortion Amount : 0
Perspective Vertical : 0
Perspective Horizontal : 0
Perspective Rotate : 0.0
Perspective Scale : 100
Convert To Grayscale : True
Tone Curve Name : Medium Contrast
Camera Profile : Adobe Standard
Lens Profile Setup : LensDefaults
Has Settings : True
Has Crop : False
Already Applied : True
Tone Curve : 0, 0, 32, 22, 64, 56, 128, 128, 192, 196, 255, 255
Image Width : 300
Image Height : 209
Bits Per Sample : 8
Color Components : 1
Aperture : 4.0
Image Size : 300x209
Megapixels : 0.063
Scale Factor To 35 mm Equivalent : 1.0
Shutter Speed : 1/250
Create Date : 2015:03:15 09:38:50.73
Date/Time Original : 2015:03:15 09:38:50.73
Circle Of Confusion : 0.030 mm
Depth Of Field : inf (83.21 m - inf)
Field Of View : 20.4 deg
Focal Length : 100.0 mm (35 mm equivalent: 100.0 mm)
Hyperfocal Distance : 83.21 m
Light Value : 12.6
Lens ID : Nikkor 45mm f/2.8 P