Uber Exif Photo
Photometric Interpretation : RGB
Camera Model Name : ILCE-7
Orientation : Horizontal (normal)
Samples Per Pixel : 3
Planar Configuration : Chunky
Software : Adobe Photoshop CS6 (Windows)
Modify Date : 2015:02:15 23:17:57
Exposure Time : 1/400
F Number : 5.6
ISO : 640
Date/Time Original : 2015:02:15 09:28:19
Aperture Value : 5.6
Max Aperture Value : 4.5
Focal Length : 300.0 mm
Color Space : sRGB
Exif Image Width : 6000
Exif Image Height : 4000
Focal Length In 35mm Format : 300 mm
Lens Info : 100-300mm f/4.5-5.6
Lens Model : Carl Zeiss Vario-Sonnar 4.5-5.6/100-300 C/Y
Profile Description : sRGB IEC61966-2.1
Lens : Carl Zeiss Vario-Sonnar 4.5-5.6/100-300 C/Y
Format : image/jpeg
Color Mode : RGB
Date Created : 2015:02:15 09:28:19
ICC Profile Name : sRGB IEC61966-2.1
Black Clip : 0.010000
Color Saturation : 50.0
Gamma : 1.00
Highlights Smoothing : 0.0
Is Pano 360 : No
Luminosity : 6.0
Method : Details Enhancer
Microcontrast : 6.0
Microsmoothing : 3.0
Saturation Highlights : 0.0
Saturation Shadows : 0.0
Shadows Clipping : 0.0
Shadows Smoothing : 0.0
Smoothing : Medium
Smoothing Mode : Light
Strength : 100.0
White Clip : 0.500000
Create Date : 2015:02:15 09:28:19
Creator Tool : Adobe Photoshop CS6 (Windows)
Rating : 0
Already Applied : True
Auto Lateral CA : 0
Auto White Version : 134348800
Blacks 2012 : -21
Blue Hue : 0
Blue Saturation : 0
Camera Profile : Adobe Standard
Clarity 2012 : +53
Color Noise Reduction : 25
Color Noise Reduction Detail : 50
Color Noise Reduction Smoothness : 50
Contrast 2012 : -55
Convert To Grayscale : False
Defringe Green Amount : 0
Defringe Green Hue Hi : 60
Defringe Green Hue Lo : 40
Defringe Purple Amount : 0
Defringe Purple Hue Hi : 70
Defringe Purple Hue Lo : 30
Exposure 2012 : +0.50
Grain Amount : 0
Green Hue : 0
Green Saturation : 0
Has Crop : False
Has Settings : True
Highlights 2012 : 0
Hue Adjustment Aqua : 0
Hue Adjustment Blue : 0
Hue Adjustment Green : 0
Hue Adjustment Magenta : 0
Hue Adjustment Orange : 0
Hue Adjustment Purple : 0
Hue Adjustment Red : 0
Hue Adjustment Yellow : 0
Lens Manual Distortion Amount : 0
Lens Profile Enable : 0
Lens Profile Setup : LensDefaults
Luminance Adjustment Aqua : 0
Luminance Adjustment Blue : 0
Luminance Adjustment Green : 0
Luminance Adjustment Magenta : 0
Luminance Adjustment Orange : 0
Luminance Adjustment Purple : 0
Luminance Adjustment Red : 0
Luminance Adjustment Yellow : 0
Luminance Noise Reduction Contrast : 0
Luminance Noise Reduction Detail : 50
Luminance Smoothing : 50
Parametric Darks : 0
Parametric Highlight Split : 75
Parametric Highlights : 0
Parametric Lights : 0
Parametric Midtone Split : 50
Parametric Shadow Split : 25
Parametric Shadows : 0
Perspective Aspect : 0
Perspective Horizontal : 0
Perspective Rotate : 0.0
Perspective Scale : 100
Perspective Upright : Off
Perspective Vertical : 0
Post Crop Vignette Amount : 0
Process Version : 6.7
Raw File Name : _DSC9658.ARW
Red Hue : 0
Red Saturation : 0
Saturation : 0
Saturation Adjustment Aqua : 0
Saturation Adjustment Blue : 0
Saturation Adjustment Green : 0
Saturation Adjustment Magenta : 0
Saturation Adjustment Orange : 0
Saturation Adjustment Purple : 0
Saturation Adjustment Red : 0
Saturation Adjustment Yellow : 0
Shadow Tint : 0
Shadows 2012 : 0
Sharpen Detail : 25
Sharpen Edge Masking : 78
Sharpen Radius : +1.0
Sharpness : 25
Split Toning Balance : 0
Split Toning Highlight Hue : 0
Split Toning Highlight Saturation : 0
Split Toning Shadow Hue : 0
Split Toning Shadow Saturation : 0
Color Temperature : 5400
Tint : +9
Tone Curve : 0, 0, 32, 22, 64, 56, 128, 128, 192, 196, 255, 255
Tone Curve Blue : 0, 0, 255, 255
Tone Curve Green : 0, 0, 255, 255
Tone Curve Name : Medium Contrast
Tone Curve Name 2012 : Linear
Tone Curve PV2012 : 0, 0, 255, 255
Tone Curve PV2012 Blue : 0, 0, 255, 255
Tone Curve PV2012 Green : 0, 0, 255, 255
Tone Curve PV2012 Red : 0, 0, 255, 255
Tone Curve Red : 0, 0, 255, 255
Version : 8.6
Vibrance : 0
Vignette Amount : 0
White Balance : As Shot
Whites 2012 : +52
Image Width : 300
Image Height : 200
Bits Per Sample : 8
Color Components : 3
Aperture : 5.6
Image Size : 300x200
Megapixels : 0.060
Scale Factor To 35 mm Equivalent : 1.0
Shutter Speed : 1/400
Circle Of Confusion : 0.030 mm
Field Of View : 6.9 deg
Focal Length : 300.0 mm (35 mm equivalent: 300.0 mm)
Hyperfocal Distance : 534.89 m
Light Value : 10.9