Uber Exif Photo
Keywords : B&W, B&W Slideshow* Igor, Boats, Italy, Veneto, Venezia
Copyright Notice : Copyright F Yantorno Jr
Copyright Flag : True
URL : ciaociccio@mac.com
Make : Epson
Camera Model Name : PerfectionV700
Software : Adobe Photoshop Lightroom 5.6 (Macintosh)
Modify Date : 2014:12:29 20:51:17
Copyright : Copyright F Yantorno Jr
Create Date : 2010:02:03 22:08:12
Creator Tool : Adobe Photoshop Lightroom 5.6 (Macintosh)
Label : Red
Format : image/jpeg
Marked : True
Web Statement : ciaociccio@mac.com
Version : 8.6
Process Version : 6.7
White Balance : As Shot
Auto White Version : 134348800
Incremental Temperature : 0
Incremental Tint : 0
Saturation : 0
Sharpness : 0
Luminance Smoothing : 0
Color Noise Reduction : 0
Vignette Amount : 0
Shadow Tint : 0
Red Hue : 0
Red Saturation : 0
Green Hue : 0
Green Saturation : 0
Blue Hue : 0
Blue Saturation : 0
Vibrance : +11
Hue Adjustment Red : 0
Hue Adjustment Orange : 0
Hue Adjustment Yellow : 0
Hue Adjustment Green : 0
Hue Adjustment Aqua : 0
Hue Adjustment Blue : 0
Hue Adjustment Purple : 0
Hue Adjustment Magenta : 0
Saturation Adjustment Red : 0
Saturation Adjustment Orange : 0
Saturation Adjustment Yellow : 0
Saturation Adjustment Green : 0
Saturation Adjustment Aqua : 0
Saturation Adjustment Blue : 0
Saturation Adjustment Purple : 0
Saturation Adjustment Magenta : 0
Luminance Adjustment Red : 0
Luminance Adjustment Orange : 0
Luminance Adjustment Yellow : 0
Luminance Adjustment Green : 0
Luminance Adjustment Aqua : 0
Luminance Adjustment Blue : 0
Luminance Adjustment Purple : 0
Luminance Adjustment Magenta : 0
Split Toning Shadow Hue : 0
Split Toning Shadow Saturation : 0
Split Toning Highlight Hue : 0
Split Toning Highlight Saturation : 0
Split Toning Balance : 0
Parametric Shadows : +12
Parametric Darks : 0
Parametric Lights : -1
Parametric Highlights : -3
Parametric Shadow Split : 25
Parametric Midtone Split : 50
Parametric Highlight Split : 75
Sharpen Radius : +1.0
Sharpen Detail : 25
Sharpen Edge Masking : 0
Post Crop Vignette Amount : 0
Grain Amount : 0
Lens Profile Enable : 0
Lens Manual Distortion Amount : 0
Perspective Vertical : 0
Perspective Horizontal : 0
Perspective Rotate : 0.0
Perspective Scale : 100
Perspective Aspect : 0
Perspective Upright : Off
Auto Lateral CA : 0
Exposure 2012 : -0.46
Contrast 2012 : +5
Highlights 2012 : +4
Shadows 2012 : +18
Whites 2012 : +5
Blacks 2012 : +35
Clarity 2012 : +20
Defringe Purple Amount : 0
Defringe Purple Hue Lo : 30
Defringe Purple Hue Hi : 70
Defringe Green Amount : 0
Defringe Green Hue Lo : 40
Defringe Green Hue Hi : 60
Convert To Grayscale : False
Tone Curve Name : Linear
Tone Curve Name 2012 : Linear
Camera Profile : Embedded
Lens Profile Setup : LensDefaults
Has Settings : True
Has Crop : False
Already Applied : True
Rights : Copyright F Yantorno Jr
Subject : B&W, B&W Slideshow* Igor, Boats, Italy, Veneto, Venezia
Usage Terms : No reproduction without prior written permission
Hierarchical Subject : B&W, B&W Slideshow* Igor, Boats, Italy, Veneto, Venezia
Tone Curve : 0, 0, 255, 255
Tone Curve Red : 0, 0, 255, 255
Tone Curve Green : 0, 0, 255, 255
Tone Curve Blue : 0, 0, 255, 255
Tone Curve PV2012 : 0, 0, 255, 255
Tone Curve PV2012 Red : 0, 0, 255, 255
Tone Curve PV2012 Green : 0, 0, 255, 255
Tone Curve PV2012 Blue : 0, 0, 255, 255
Image Width : 297
Image Height : 300
Bits Per Sample : 8
Color Components : 1
Image Size : 297x300
Megapixels : 0.089