Uber Exif Photo
Keywords : B&W, B&W Slideshow* Igor, Carnivale, Festa, Italy, Lazio, Roma
Copyright Notice : Copyright F Yantorno Jr
Copyright Flag : True
URL : ciaociccio@mac.com
Make : Epson
Camera Model Name : PerfectionV700
Software : Adobe Photoshop Lightroom 5.6 (Macintosh)
Modify Date : 2014:12:29 21:11:41
Copyright : Copyright F Yantorno Jr
Create Date : 2010:02:03 18:22:01
Creator Tool : Adobe Photoshop Lightroom 5.6 (Macintosh)
Label : Red
Format : image/jpeg
Marked : True
Web Statement : ciaociccio@mac.com
Version : 8.6
Process Version : 6.7
White Balance : As Shot
Auto White Version : 134348800
Incremental Temperature : 0
Incremental Tint : 0
Sharpness : 29
Luminance Smoothing : 0
Color Noise Reduction : 0
Vignette Amount : 0
Shadow Tint : 0
Red Hue : 0
Red Saturation : 0
Green Hue : 0
Green Saturation : 0
Blue Hue : 0
Blue Saturation : 0
Gray Mixer Red : 0
Gray Mixer Orange : 0
Gray Mixer Yellow : 0
Gray Mixer Green : 0
Gray Mixer Aqua : 0
Gray Mixer Blue : 0
Gray Mixer Purple : 0
Gray Mixer Magenta : 0
Split Toning Shadow Hue : 0
Split Toning Shadow Saturation : 0
Split Toning Highlight Hue : 0
Split Toning Highlight Saturation : 0
Split Toning Balance : 0
Parametric Shadows : +56
Parametric Darks : -6
Parametric Lights : -35
Parametric Highlights : -11
Parametric Shadow Split : 25
Parametric Midtone Split : 50
Parametric Highlight Split : 75
Sharpen Radius : +1.0
Sharpen Detail : 25
Sharpen Edge Masking : 0
Post Crop Vignette Amount : -9
Post Crop Vignette Midpoint : 67
Post Crop Vignette Feather : 57
Post Crop Vignette Roundness : +32
Post Crop Vignette Style : Paint Overlay
Grain Amount : 31
Grain Size : 28
Grain Frequency : 49
Lens Profile Enable : 0
Lens Manual Distortion Amount : 0
Perspective Vertical : 0
Perspective Horizontal : 0
Perspective Rotate : 0.0
Perspective Scale : 100
Perspective Aspect : 0
Perspective Upright : Off
Auto Lateral CA : 0
Exposure 2012 : +0.92
Contrast 2012 : +15
Highlights 2012 : -16
Shadows 2012 : +7
Whites 2012 : -9
Blacks 2012 : -4
Clarity 2012 : +33
Convert To Grayscale : True
Tone Curve Name : Linear
Tone Curve Name 2012 : Linear
Camera Profile : Embedded
Lens Profile Setup : LensDefaults
Has Settings : True
Has Crop : False
Already Applied : True
Rights : Copyright F Yantorno Jr
Subject : B&W, B&W Slideshow* Igor, Carnivale, Festa, Italy, Lazio, Roma
Usage Terms : No reproduction without prior written permission
Hierarchical Subject : B&W, B&W Slideshow* Igor, Carnivale, Festa, Italy, Lazio, Roma
Tone Curve : 0, 0, 255, 255
Tone Curve Red : 0, 0, 255, 255
Tone Curve Green : 0, 0, 255, 255
Tone Curve Blue : 0, 0, 255, 255
Tone Curve PV2012 : 0, 0, 255, 255
Tone Curve PV2012 Red : 0, 0, 255, 255
Tone Curve PV2012 Green : 0, 0, 255, 255
Tone Curve PV2012 Blue : 0, 0, 255, 255
Image Width : 298
Image Height : 300
Bits Per Sample : 8
Color Components : 1
Image Size : 298x300
Megapixels : 0.089