Uber Exif Photo
Photometric Interpretation : RGB
Make : SONY
Camera Model Name : ILCE-7
Orientation : Horizontal (normal)
Samples Per Pixel : 3
Planar Configuration : Chunky
Software : Adobe Photoshop CS6 (Windows)
Modify Date : 2014:06:17 20:25:25
Exposure Time : 1/5000
Exposure Program : Aperture-priority AE
ISO : 100
Sensitivity Type : Recommended Exposure Index
Recommended Exposure Index : 100
Date/Time Original : 2014:06:17 18:10:30
Create Date : 2014:06:17 18:10:30
Shutter Speed Value : 1/5000
Brightness Value : 5.509375
Exposure Compensation : 0
Max Aperture Value : 1.0
Metering Mode : Multi-segment
Light Source : Unknown
Flash : Off, Did not fire
Color Space : sRGB
Exif Image Width : 1600
Exif Image Height : 1067
Scene Type : Directly photographed
Custom Rendered : Normal
Exposure Mode : Auto
White Balance : Auto
Digital Zoom Ratio : 1
Scene Capture Type : Standard
Contrast : Normal
Saturation : Normal
Sharpness : Normal
Lens Model : ----
Profile Description : sRGB IEC61966-2.1
Creator Tool : Adobe Photoshop Lightroom 5.3 (Windows)
Lens : ----
Date Created : 2014:06:17 18:10:30
Color Mode : RGB
ICC Profile Name : sRGB IEC61966-2.1
Format : image/jpeg
Version : 8.3
Process Version : 6.7
Auto White Version : 134348800
Color Temperature : 6700
Tint : +9
Luminance Smoothing : 0
Color Noise Reduction : 25
Vignette Amount : 0
Shadow Tint : 0
Red Hue : 0
Red Saturation : 0
Green Hue : 0
Green Saturation : 0
Blue Hue : 0
Blue Saturation : 0
Gray Mixer Red : -8
Gray Mixer Orange : -10
Gray Mixer Yellow : -15
Gray Mixer Green : -22
Gray Mixer Aqua : -10
Gray Mixer Blue : +15
Gray Mixer Purple : +20
Gray Mixer Magenta : +8
Split Toning Shadow Hue : 200
Split Toning Shadow Saturation : 0
Split Toning Highlight Hue : 80
Split Toning Highlight Saturation : 0
Split Toning Balance : 0
Parametric Shadows : 0
Parametric Darks : 0
Parametric Lights : 0
Parametric Highlights : 0
Parametric Shadow Split : 25
Parametric Midtone Split : 50
Parametric Highlight Split : 75
Sharpen Radius : +1.2
Sharpen Detail : 25
Sharpen Edge Masking : 0
Post Crop Vignette Amount : 0
Grain Amount : 10
Grain Size : 30
Grain Frequency : 50
Color Noise Reduction Detail : 50
Color Noise Reduction Smoothness : 50
Lens Profile Enable : 0
Lens Manual Distortion Amount : 0
Perspective Vertical : 0
Perspective Horizontal : 0
Perspective Rotate : 0.0
Perspective Scale : 100
Perspective Aspect : 0
Perspective Upright : Off
Auto Lateral CA : 0
Exposure 2012 : 0.00
Contrast 2012 : 0
Highlights 2012 : -27
Shadows 2012 : +79
Whites 2012 : 0
Blacks 2012 : +25
Clarity 2012 : +38
Convert To Grayscale : True
Tone Curve Name 2012 : Custom
Camera Profile : Agfa Scala 200 - SO
Lens Profile Setup : LensDefaults
Has Settings : True
Has Crop : False
Already Applied : True
Tone Curve PV2012 : 0, 0, 10, 13, 45, 49, 122, 122, 255, 255
Tone Curve PV2012 Red : 0, 0, 255, 255
Tone Curve PV2012 Green : 0, 0, 255, 255
Tone Curve PV2012 Blue : 0, 0, 255, 255
Image Width : 300
Image Height : 200
Bits Per Sample : 8
Color Components : 3
Image Size : 300x200
Megapixels : 0.060
Scale Factor To 35 mm Equivalent : 3.8
Shutter Speed : 1/5000
Circle Of Confusion : 0.008 mm