Uber Exif Photo
Make : SONY
Camera Model Name : DSC-RX100
Software : Adobe Photoshop Lightroom 5.0 (Windows)
Modify Date : 2014:09:23 21:10:39
Exposure Time : 1/250
F Number : 2.5
Exposure Program : Aperture-priority AE
ISO : 400
Sensitivity Type : Recommended Exposure Index
Recommended Exposure Index : 400
Date/Time Original : 2014:09:23 14:42:43
Create Date : 2014:09:23 14:42:43
Shutter Speed Value : 1/250
Aperture Value : 2.5
Brightness Value : 4.59140625
Exposure Compensation : 0
Max Aperture Value : 1.8
Metering Mode : Multi-segment
Light Source : Cloudy
Flash : Off, Did not fire
Focal Length : 10.4 mm
Color Space : sRGB
Scene Type : Directly photographed
Custom Rendered : Normal
Exposure Mode : Auto
White Balance : Manual
Digital Zoom Ratio : 1
Focal Length In 35mm Format : 28 mm
Scene Capture Type : Standard
Contrast : Low
Saturation : High
Sharpness : Normal
Lens Info : 10.4-37.1mm f/1.8-4.9
Lens Model : 28-100mm F1.8-4.9
Profile Description : sRGB IEC61966-2.1
Creator Tool : Adobe Photoshop Lightroom 5.0 (Windows)
Lens : 28-100mm F1.8-4.9
Date Created : 2014:09:23 14:42:43
Version : 8.2
Process Version : 6.7
Auto White Version : 134348800
Color Temperature : 5600
Tint : +6
Luminance Smoothing : 0
Color Noise Reduction : 25
Vignette Amount : 0
Shadow Tint : 0
Red Hue : 0
Red Saturation : 0
Green Hue : 0
Green Saturation : 0
Blue Hue : 0
Blue Saturation : 0
Vibrance : +5
Hue Adjustment Red : 0
Hue Adjustment Orange : 0
Hue Adjustment Yellow : 0
Hue Adjustment Green : 0
Hue Adjustment Aqua : 0
Hue Adjustment Blue : 0
Hue Adjustment Purple : 0
Hue Adjustment Magenta : 0
Saturation Adjustment Red : 0
Saturation Adjustment Orange : 0
Saturation Adjustment Yellow : +11
Saturation Adjustment Green : 0
Saturation Adjustment Aqua : 0
Saturation Adjustment Blue : 0
Saturation Adjustment Purple : 0
Saturation Adjustment Magenta : 0
Luminance Adjustment Red : 0
Luminance Adjustment Orange : 0
Luminance Adjustment Yellow : -9
Luminance Adjustment Green : 0
Luminance Adjustment Aqua : 0
Luminance Adjustment Blue : 0
Luminance Adjustment Purple : 0
Luminance Adjustment Magenta : 0
Split Toning Shadow Hue : 0
Split Toning Shadow Saturation : 0
Split Toning Highlight Hue : 0
Split Toning Highlight Saturation : 0
Split Toning Balance : 0
Parametric Shadows : 0
Parametric Darks : 0
Parametric Lights : 0
Parametric Highlights : 0
Parametric Shadow Split : 25
Parametric Midtone Split : 50
Parametric Highlight Split : 75
Sharpen Radius : +1.0
Sharpen Detail : 25
Sharpen Edge Masking : 0
Post Crop Vignette Amount : -29
Post Crop Vignette Midpoint : 50
Post Crop Vignette Feather : 50
Post Crop Vignette Roundness : 0
Post Crop Vignette Style : Highlight Priority
Post Crop Vignette Highlight Contrast : 0
Grain Amount : 0
Color Noise Reduction Detail : 50
Color Noise Reduction Smoothness : 50
Lens Profile Enable : 0
Lens Manual Distortion Amount : 0
Perspective Vertical : 0
Perspective Horizontal : 0
Perspective Rotate : 0.0
Perspective Scale : 100
Perspective Aspect : 0
Perspective Upright : Off
Auto Lateral CA : 0
Exposure 2012 : 0.00
Contrast 2012 : 0
Highlights 2012 : 0
Shadows 2012 : 0
Whites 2012 : +12
Blacks 2012 : 0
Clarity 2012 : -24
Defringe Purple Amount : 0
Defringe Purple Hue Lo : 30
Defringe Purple Hue Hi : 70
Defringe Green Amount : 0
Defringe Green Hue Lo : 40
Defringe Green Hue Hi : 60
Convert To Grayscale : False
Tone Curve Name 2012 : Linear
Camera Profile : Adobe Standard
Lens Profile Setup : LensDefaults
Has Settings : True
Has Crop : False
Already Applied : True
Format : image/jpeg
Tone Curve PV2012 : 0, 0, 255, 255
Tone Curve PV2012 Red : 0, 0, 255, 255
Tone Curve PV2012 Green : 0, 0, 255, 255
Tone Curve PV2012 Blue : 0, 0, 255, 255
Paint Correction What : Correction
Paint Correction Amount : 1.000000
Paint Correction Active : true
Paint Correction Saturation : 0.000000
Paint Correction Sharpness : 0.071430
Paint Correction Brightness : 0.000000
Paint Correction Toning Hue : 0.000000
Paint Correction Toning Saturation : 0.000000
Paint Correction Exposure 2012 : 0.023750
Paint Correction Contrast 2012 : 0.000000
Paint Correction Highlights 2012 : -0.404760
Paint Correction Shadows 2012 : 0.309520
Paint Correction Clarity 2012 : 0.619050
Paint Correction Luminance Noise : 0.000000
Paint Correction Moire : 0.000000
Paint Correction Defringe : 0.000000
Paint Correction Temperature : 0.000000
Paint Correction Tint : 0.000000
Paint Correction Mask What : Mask/Paint
Paint Correction Mask Value : 0.000000
Paint Correction Mask Radius : 0.005212
Paint Correction Mask Flow : 1.000000
Paint Correction Mask Center Weight : 0.038107
Image Width : 300
Image Height : 200
Bits Per Sample : 8
Color Components : 3
Aperture : 2.5
Image Size : 300x200
Megapixels : 0.060
Scale Factor To 35 mm Equivalent : 2.7
Shutter Speed : 1/250
Circle Of Confusion : 0.011 mm
Field Of View : 65.5 deg
Focal Length : 10.4 mm (35 mm equivalent: 28.0 mm)
Hyperfocal Distance : 3.88 m
Light Value : 8.6
Lens ID : 28-100mm F1.8-4.9