Uber Exif Photo
By-line : YURI-KRUZHNOV
Copyright Notice : yuriylux
Photometric Interpretation : RGB
Make : NIKON CORPORATION
Camera Model Name : NIKON D3
Orientation : Horizontal (normal)
Samples Per Pixel : 3
Software : Adobe Photoshop CC (Macintosh)
Modify Date : 2014:09:21 08:25:33
Artist : YURI-KRUZHNOV
Copyright : yuriylux
Exposure Time : 1/15
F Number : 5.6
Exposure Program : Aperture-priority AE
ISO : 1600
Date/Time Original : 2014:09:20 19:15:57
Create Date : 2014:09:20 19:15:57
Shutter Speed Value : 1/15
Aperture Value : 5.6
Exposure Compensation : -1
Max Aperture Value : 2.8
Metering Mode : Center-weighted average
Light Source : Unknown
Flash : No Flash
Focal Length : 21.0 mm
Color Space : sRGB
Exif Image Width : 2356
Exif Image Height : 2988
Sensing Method : One-chip color area
Scene Type : Directly photographed
CFA Pattern : [Red,Green][Green,Blue]
Custom Rendered : Normal
Exposure Mode : Auto
White Balance : Auto
Digital Zoom Ratio : 1
Focal Length In 35mm Format : 21 mm
Scene Capture Type : Standard
Gain Control : High gain up
Contrast : Normal
Saturation : Normal
Sharpness : Normal
Subject Distance Range : Unknown
Serial Number : 2057367
Lens Info : 21mm f/2.8
Lens Model : Zeiss Distagon T* 2.8/21 ZF.2
Profile Description : sRGB IEC61966-2.1
Format : image/jpeg
Creator Tool : Adobe Photoshop CC (Macintosh)
Lens : Zeiss Distagon T* 2.8/21 ZF.2
Image Number : 50312
Date Created : 2014:09:20 19:15:57.031
Color Mode : RGB
ICC Profile Name : sRGB IEC61966-2.1
Version : 8.3
Process Version : 6.7
Auto White Version : 134348800
Incremental Temperature : -2
Incremental Tint : -7
Luminance Smoothing : 21
Color Noise Reduction : 0
Vignette Amount : 0
Shadow Tint : 0
Red Hue : 0
Red Saturation : 0
Green Hue : 0
Green Saturation : 0
Blue Hue : 0
Blue Saturation : 0
Vibrance : 0
Hue Adjustment Red : 0
Hue Adjustment Orange : 0
Hue Adjustment Yellow : 0
Hue Adjustment Green : 0
Hue Adjustment Aqua : 0
Hue Adjustment Blue : 0
Hue Adjustment Purple : 0
Hue Adjustment Magenta : 0
Saturation Adjustment Red : +6
Saturation Adjustment Orange : +2
Saturation Adjustment Yellow : +5
Saturation Adjustment Green : 0
Saturation Adjustment Aqua : +4
Saturation Adjustment Blue : +18
Saturation Adjustment Purple : +27
Saturation Adjustment Magenta : 0
Luminance Adjustment Red : 0
Luminance Adjustment Orange : 0
Luminance Adjustment Yellow : 0
Luminance Adjustment Green : 0
Luminance Adjustment Aqua : 0
Luminance Adjustment Blue : 0
Luminance Adjustment Purple : 0
Luminance Adjustment Magenta : 0
Split Toning Shadow Hue : 0
Split Toning Shadow Saturation : 0
Split Toning Highlight Hue : 0
Split Toning Highlight Saturation : 0
Split Toning Balance : 0
Parametric Shadows : 0
Parametric Darks : 0
Parametric Lights : 0
Parametric Highlights : 0
Parametric Shadow Split : 25
Parametric Midtone Split : 50
Parametric Highlight Split : 75
Sharpen Radius : +1.0
Sharpen Detail : 25
Sharpen Edge Masking : 0
Post Crop Vignette Amount : 0
Grain Amount : 0
Luminance Noise Reduction Detail : 81
Luminance Noise Reduction Contrast : 29
Lens Profile Enable : 1
Lens Manual Distortion Amount : +17
Perspective Vertical : 0
Perspective Horizontal : 0
Perspective Rotate : 0.0
Perspective Scale : 100
Perspective Aspect : 0
Perspective Upright : Vertical
Auto Lateral CA : 1
Exposure 2012 : +0.05
Contrast 2012 : +25
Highlights 2012 : 0
Shadows 2012 : +61
Whites 2012 : 0
Blacks 2012 : +1
Clarity 2012 : 0
Defringe Purple Amount : 0
Defringe Purple Hue Lo : 30
Defringe Purple Hue Hi : 70
Defringe Green Amount : 0
Defringe Green Hue Lo : 40
Defringe Green Hue Hi : 60
Convert To Grayscale : False
Tone Curve Name 2012 : Linear
Camera Profile : Embedded
Lens Profile Setup : LensDefaults
Has Settings : True
Crop Top : 0.084439
Crop Left : 0.190929
Crop Bottom : 0.91621
Crop Right : 0.892972
Crop Angle : 0
Crop Constrain To Warp : 1
Has Crop : True
Already Applied : True
Creator : YURI-KRUZHNOV
Rights : yuriylux
Tone Curve PV2012 : 0, 0, 255, 255
Tone Curve PV2012 Red : 0, 0, 255, 255
Tone Curve PV2012 Green : 0, 0, 255, 255
Tone Curve PV2012 Blue : 0, 0, 255, 255
Paint Correction What : Correction
Paint Correction Amount : 1.000000
Paint Correction Active : true
Paint Correction Saturation : -0.055423
Paint Correction Sharpness : 0.120129
Paint Correction Brightness : 0.000000
Paint Correction Toning Hue : 0.000000
Paint Correction Toning Saturation : 0.000000
Paint Correction Exposure 2012 : 0.128676
Paint Correction Contrast 2012 : 0.022794
Paint Correction Highlights 2012 : 0.000000
Paint Correction Shadows 2012 : 0.679228
Paint Correction Clarity 2012 : 0.273438
Paint Correction Luminance Noise : 0.144210
Paint Correction Moire : 0.000000
Paint Correction Defringe : 0.399908
Paint Correction Temperature : -0.001746
Paint Correction Tint : -0.013051
Paint Correction Mask What : Mask/Paint
Paint Correction Mask Value : 1.000000
Paint Correction Mask Radius : 0.014181
Paint Correction Mask Flow : 0.137931
Paint Correction Mask Center Weight : 0.000000
Gradient Based Corr What : Correction
Gradient Based Corr Amount : 1.000000
Gradient Based Corr Active : true
Gradient Based Corr Saturation : 0.027298
Gradient Based Corr Sharpness : -0.006434
Gradient Based Corr Brightness : 0.000000
Gradient Based Corr Toning Hue : 0.000000
Gradient Based Corr Toning Saturation : 0.000000
Gradient Based Corr Exposure 2012 : -0.231526
Gradient Based Corr Contrast 2012 : -0.009007
Gradient Based Corr Highlights 2012 : -0.006526
Gradient Based Corr Shadows 2012 : 1.000000
Gradient Based Corr Clarity 2012 : 0.022335
Gradient Based Corr Luminance Noise : 0.030790
Gradient Based Corr Moire : 0.000000
Gradient Based Corr Defringe : 0.018842
Gradient Based Corr Temperature : 0.000000
Gradient Based Corr Tint : -0.036857
Gradient Based Corr Mask What : Mask/Gradient
Gradient Based Corr Mask Value : 1.000000
Gradient Based Corr Mask Zero X : 0.590162
Gradient Based Corr Mask Zero Y : 0.613065
Gradient Based Corr Mask Full X : 0.920842
Gradient Based Corr Mask Full Y : 0.595009
Image Width : 237
Image Height : 300
Bits Per Sample : 8
Color Components : 3
Aperture : 5.6
Image Size : 237x300
Megapixels : 0.071
Scale Factor To 35 mm Equivalent : 1.0
Shutter Speed : 1/15
Create Date : 2014:09:20 19:15:57.31
Date/Time Original : 2014:09:20 19:15:57.31
Circle Of Confusion : 0.030 mm
Field Of View : 81.2 deg
Focal Length : 21.0 mm (35 mm equivalent: 21.0 mm)
Hyperfocal Distance : 2.62 m
Light Value : 4.9