Uber Exif Photo
By-line : Ronny@Olsson
Copyright Notice : Ronny@Olsson
Photometric Interpretation : RGB
Make : NIKON CORPORATION
Camera Model Name : NIKON D700
Orientation : Horizontal (normal)
Samples Per Pixel : 3
Planar Configuration : Chunky
Software : Adobe Photoshop CS6 (Windows)
Modify Date : 2014:05:01 20:57:52
Artist : Ronny@Olsson
Copyright : Ronny@Olsson
Exposure Time : 1/400
F Number : 2.8
Exposure Program : Aperture-priority AE
ISO : 200
Date/Time Original : 2013:07:01 18:33:31
Create Date : 2013:07:01 18:33:31
Shutter Speed Value : 1/400
Aperture Value : 2.8
Exposure Compensation : 0
Max Aperture Value : 1.0
Metering Mode : Multi-segment
Light Source : Unknown
Flash : No Flash
Focal Length : 100.0 mm
Color Space : sRGB
Exif Image Width : 1600
Exif Image Height : 1385
Sensing Method : One-chip color area
Scene Type : Directly photographed
CFA Pattern : [Red,Green][Green,Blue]
Custom Rendered : Normal
Exposure Mode : Auto
White Balance : Auto
Digital Zoom Ratio : 1
Focal Length In 35mm Format : 100 mm
Scene Capture Type : Standard
Gain Control : None
Contrast : Normal
Saturation : Normal
Sharpness : Normal
Subject Distance Range : Unknown
Serial Number : 2460783
Lens Info : 0mm f/0
Lens Model : 0.0 mm f/0.0
Profile Description : sRGB IEC61966-2.1
Format : image/jpeg
Creator Tool : Adobe Photoshop Lightroom 5.3 (Windows)
Lens : 0.0 mm f/0.0
Image Number : 38641
Date Created : 2013:07:01 18:33:31.031
Color Mode : RGB
ICC Profile Name : sRGB IEC61966-2.1
Version : 8.3
Process Version : 6.7
Auto White Version : 134348800
Color Temperature : 7550
Tint : +26
Luminance Smoothing : 3
Color Noise Reduction : 9
Vignette Amount : 0
Shadow Tint : -14
Red Hue : -20
Red Saturation : -7
Green Hue : -7
Green Saturation : 0
Blue Hue : 0
Blue Saturation : -42
Vibrance : +36
Hue Adjustment Red : 0
Hue Adjustment Orange : 0
Hue Adjustment Yellow : 0
Hue Adjustment Green : 0
Hue Adjustment Aqua : 0
Hue Adjustment Blue : 0
Hue Adjustment Purple : 0
Hue Adjustment Magenta : 0
Saturation Adjustment Red : 0
Saturation Adjustment Orange : 0
Saturation Adjustment Yellow : 0
Saturation Adjustment Green : 0
Saturation Adjustment Aqua : 0
Saturation Adjustment Blue : 0
Saturation Adjustment Purple : 0
Saturation Adjustment Magenta : 0
Luminance Adjustment Red : 0
Luminance Adjustment Orange : 0
Luminance Adjustment Yellow : 0
Luminance Adjustment Green : 0
Luminance Adjustment Aqua : 0
Luminance Adjustment Blue : 0
Luminance Adjustment Purple : 0
Luminance Adjustment Magenta : 0
Split Toning Shadow Hue : 236
Split Toning Shadow Saturation : 41
Split Toning Highlight Hue : 57
Split Toning Highlight Saturation : 39
Split Toning Balance : +50
Parametric Shadows : -26
Parametric Darks : +6
Parametric Lights : -47
Parametric Highlights : +61
Parametric Shadow Split : 25
Parametric Midtone Split : 50
Parametric Highlight Split : 75
Sharpen Radius : +1.0
Sharpen Detail : 25
Sharpen Edge Masking : 0
Post Crop Vignette Amount : 0
Grain Amount : 0
Luminance Noise Reduction Detail : 1
Color Noise Reduction Detail : 8
Luminance Noise Reduction Contrast : 0
Color Noise Reduction Smoothness : 8
Lens Profile Enable : 1
Lens Manual Distortion Amount : 0
Perspective Vertical : 0
Perspective Horizontal : 0
Perspective Rotate : 0.0
Perspective Scale : 100
Perspective Aspect : 0
Perspective Upright : Off
Auto Lateral CA : 1
Exposure 2012 : +0.20
Contrast 2012 : +40
Highlights 2012 : -100
Shadows 2012 : +8
Whites 2012 : -11
Blacks 2012 : -3
Clarity 2012 : +46
Defringe Purple Amount : 0
Defringe Purple Hue Lo : 30
Defringe Purple Hue Hi : 70
Defringe Green Amount : 0
Defringe Green Hue Lo : 40
Defringe Green Hue Hi : 60
Convert To Grayscale : False
Tone Curve Name 2012 : Linear
Camera Profile : Adobe Standard
Lens Profile Setup : Custom
Lens Profile Name : Adobe (Nikon AF NIKKOR 180mm f/2.8D IF-ED)
Lens Profile Filename : NIKON D3X (Nikon AF NIKKOR 180mm f2.8D IF-ED) - RAW.lcp
Lens Profile Distortion Scale : 100
Lens Profile Chromatic Aberration Scale : 100
Lens Profile Vignetting Scale : 100
Has Settings : True
Crop Top : 0.122016
Crop Left : 0.167697
Crop Bottom : 0.901857
Crop Right : 0.962929
Crop Angle : 0
Crop Constrain To Warp : 0
Has Crop : True
Already Applied : True
Creator : Ronny@Olsson
Rights : Ronny@Olsson
Tone Curve PV2012 : 0, 0, 255, 255
Tone Curve PV2012 Red : 0, 0, 255, 255
Tone Curve PV2012 Green : 0, 0, 255, 255
Tone Curve PV2012 Blue : 0, 0, 255, 255
Image Width : 300
Image Height : 260
Bits Per Sample : 8
Color Components : 3
Aperture : 2.8
Image Size : 300x260
Megapixels : 0.078
Scale Factor To 35 mm Equivalent : 1.0
Shutter Speed : 1/400
Create Date : 2013:07:01 18:33:31.31
Date/Time Original : 2013:07:01 18:33:31.31
Circle Of Confusion : 0.030 mm
Field Of View : 20.4 deg
Focal Length : 100.0 mm (35 mm equivalent: 100.0 mm)
Hyperfocal Distance : 118.86 m
Light Value : 10.6
Lens ID : 0.0mm f/0.0