Uber Exif Photo
By-line : ANDREW PAQUETTE
Photometric Interpretation : RGB
Make : NIKON CORPORATION
Camera Model Name : NIKON D800
Orientation : Horizontal (normal)
Samples Per Pixel : 3
Planar Configuration : Chunky
Software : Adobe Photoshop CS6 (Windows)
Modify Date : 2014:01:29 16:21:46
Artist : ANDREW PAQUETTE
Exposure Time : 1/500
F Number : 1.4
Exposure Program : Manual
ISO : 100
Sensitivity Type : Recommended Exposure Index
Date/Time Original : 2014:01:29 13:38:22
Create Date : 2014:01:29 13:38:22
Shutter Speed Value : 1/500
Aperture Value : 1.4
Exposure Compensation : 0
Max Aperture Value : 1.4
Metering Mode : Spot
Light Source : Unknown
Flash : Off, Did not fire
Focal Length : 55.0 mm
Color Space : Uncalibrated
Exif Image Width : 1994
Exif Image Height : 1122
Sensing Method : One-chip color area
Scene Type : Directly photographed
CFA Pattern : [Red,Green][Green,Blue]
Custom Rendered : Normal
Exposure Mode : Manual
White Balance : Auto
Digital Zoom Ratio : 1
Focal Length In 35mm Format : 55 mm
Scene Capture Type : Standard
Gain Control : None
Contrast : Normal
Saturation : Normal
Sharpness : Normal
Subject Distance Range : Unknown
Serial Number : 6087608
Lens Info : 55mm f/1.4
Lens Model : 55.0 mm f/1.4
Profile Description : Adobe RGB (1998)
Format : image/jpeg
Creator Tool : Adobe Photoshop Lightroom 5.3 (Windows)
Lens : 55.0 mm f/1.4
Image Number : 23190
Date Created : 2014:01:29 13:38:22.009
Color Mode : RGB
ICC Profile Name : Adobe RGB (1998)
Version : 8.3
Process Version : 6.7
Auto White Version : 134348800
Color Temperature : 4200
Tint : -2
Luminance Smoothing : 0
Color Noise Reduction : 25
Vignette Amount : 0
Shadow Tint : 0
Red Hue : 0
Red Saturation : 0
Green Hue : 0
Green Saturation : 0
Blue Hue : 0
Blue Saturation : 0
Vibrance : 0
Hue Adjustment Red : 0
Hue Adjustment Orange : 0
Hue Adjustment Yellow : 0
Hue Adjustment Green : 0
Hue Adjustment Aqua : 0
Hue Adjustment Blue : 0
Hue Adjustment Purple : 0
Hue Adjustment Magenta : 0
Saturation Adjustment Red : 0
Saturation Adjustment Orange : 0
Saturation Adjustment Yellow : 0
Saturation Adjustment Green : 0
Saturation Adjustment Aqua : 0
Saturation Adjustment Blue : 0
Saturation Adjustment Purple : 0
Saturation Adjustment Magenta : 0
Luminance Adjustment Red : 0
Luminance Adjustment Orange : 0
Luminance Adjustment Yellow : 0
Luminance Adjustment Green : 0
Luminance Adjustment Aqua : 0
Luminance Adjustment Blue : 0
Luminance Adjustment Purple : 0
Luminance Adjustment Magenta : 0
Split Toning Shadow Hue : 0
Split Toning Shadow Saturation : 0
Split Toning Highlight Hue : 0
Split Toning Highlight Saturation : 0
Split Toning Balance : 0
Parametric Shadows : 0
Parametric Darks : 0
Parametric Lights : 0
Parametric Highlights : 0
Parametric Shadow Split : 25
Parametric Midtone Split : 50
Parametric Highlight Split : 75
Sharpen Radius : +1.0
Sharpen Detail : 25
Sharpen Edge Masking : 0
Post Crop Vignette Amount : 0
Grain Amount : 0
Color Noise Reduction Detail : 50
Color Noise Reduction Smoothness : 50
Lens Profile Enable : 0
Lens Manual Distortion Amount : 0
Perspective Vertical : 0
Perspective Horizontal : 0
Perspective Rotate : 0.0
Perspective Scale : 100
Perspective Aspect : 0
Perspective Upright : Off
Auto Lateral CA : 0
Exposure 2012 : -0.65
Contrast 2012 : +16
Highlights 2012 : 0
Shadows 2012 : +78
Whites 2012 : 0
Blacks 2012 : -18
Clarity 2012 : 0
Defringe Purple Amount : 0
Defringe Purple Hue Lo : 30
Defringe Purple Hue Hi : 70
Defringe Green Amount : 0
Defringe Green Hue Lo : 40
Defringe Green Hue Hi : 60
Convert To Grayscale : False
Tone Curve Name 2012 : Linear
Camera Profile : Adobe Standard
Lens Profile Setup : LensDefaults
Has Settings : True
Crop Top : 0.078583
Crop Left : 0
Crop Bottom : 0.921417
Crop Right : 1
Crop Angle : 0
Crop Constrain To Warp : 0
Has Crop : True
Already Applied : True
Creator : ANDREW PAQUETTE
Tone Curve PV2012 : 0, 0, 255, 255
Tone Curve PV2012 Red : 0, 0, 255, 255
Tone Curve PV2012 Green : 0, 0, 255, 255
Tone Curve PV2012 Blue : 0, 0, 255, 255
Image Width : 300
Image Height : 169
Bits Per Sample : 8
Color Components : 3
Aperture : 1.4
Image Size : 300x169
Megapixels : 0.051
Scale Factor To 35 mm Equivalent : 1.0
Shutter Speed : 1/500
Create Date : 2014:01:29 13:38:22.90
Date/Time Original : 2014:01:29 13:38:22.90
Circle Of Confusion : 0.030 mm
Field Of View : 36.2 deg
Focal Length : 55.0 mm (35 mm equivalent: 55.0 mm)
Hyperfocal Distance : 71.91 m
Light Value : 9.9
Lens ID : 55.0mm f/1.4