Uber Exif Photo
Make : SONY
Camera Model Name : ILCE-7
Orientation : Horizontal (normal)
Software : Adobe Photoshop CS6 (Windows)
Modify Date : 2014:01:12 20:44:03
Exposure Time : 1/15
F Number : 4.0
Exposure Program : Manual
ISO : 400
Sensitivity Type : Recommended Exposure Index
Recommended Exposure Index : 400
Date/Time Original : 2014:01:11 18:29:07
Create Date : 2014:01:11 18:29:07
Shutter Speed Value : 1/15
Aperture Value : 4.0
Brightness Value : -1.584375
Exposure Compensation : 0
Max Aperture Value : 2.0
Metering Mode : Multi-segment
Light Source : Unknown
Flash : Off, Did not fire
Focal Length : 24.0 mm
Color Space : Uncalibrated
Exif Image Width : 5815
Exif Image Height : 3877
Scene Type : Directly photographed
Custom Rendered : Normal
Exposure Mode : Manual
White Balance : Auto
Digital Zoom Ratio : 1
Focal Length In 35mm Format : 24 mm
Scene Capture Type : Standard
Contrast : Normal
Saturation : Normal
Sharpness : Normal
Lens Info : 24mm f/2
Lens Model : 24mm F2 ZA SSM
Profile Description : Adobe RGB (1998)
Creator Tool : ILCE-7 v1.01
Rating : 0
Lens : 24mm F2 ZA SSM
Date Created : 2014:01:11 18:29:07
Color Mode : RGB
ICC Profile Name : Adobe RGB (1998)
Format : image/jpeg
Raw File Name : _DSC1043.ARW
Version : 8.3
Process Version : 6.7
Auto White Version : 134348800
Color Temperature : 3100
Tint : +2
Luminance Smoothing : 55
Color Noise Reduction : 33
Vignette Amount : 0
Shadow Tint : 0
Red Hue : 0
Red Saturation : 0
Green Hue : 0
Green Saturation : 0
Blue Hue : 0
Blue Saturation : 0
Vibrance : 0
Hue Adjustment Red : 0
Hue Adjustment Orange : 0
Hue Adjustment Yellow : 0
Hue Adjustment Green : 0
Hue Adjustment Aqua : 0
Hue Adjustment Blue : 0
Hue Adjustment Purple : 0
Hue Adjustment Magenta : 0
Saturation Adjustment Red : 0
Saturation Adjustment Orange : 0
Saturation Adjustment Yellow : 0
Saturation Adjustment Green : 0
Saturation Adjustment Aqua : 0
Saturation Adjustment Blue : 0
Saturation Adjustment Purple : 0
Saturation Adjustment Magenta : 0
Luminance Adjustment Red : 0
Luminance Adjustment Orange : 0
Luminance Adjustment Yellow : 0
Luminance Adjustment Green : 0
Luminance Adjustment Aqua : 0
Luminance Adjustment Blue : 0
Luminance Adjustment Purple : 0
Luminance Adjustment Magenta : 0
Split Toning Shadow Hue : 0
Split Toning Shadow Saturation : 0
Split Toning Highlight Hue : 0
Split Toning Highlight Saturation : 0
Split Toning Balance : 0
Parametric Shadows : 0
Parametric Darks : 0
Parametric Lights : 0
Parametric Highlights : 0
Parametric Shadow Split : 25
Parametric Midtone Split : 50
Parametric Highlight Split : 75
Sharpen Radius : +1.0
Sharpen Detail : 25
Sharpen Edge Masking : 75
Post Crop Vignette Amount : 0
Grain Amount : 0
Luminance Noise Reduction Detail : 66
Color Noise Reduction Detail : 50
Luminance Noise Reduction Contrast : 0
Color Noise Reduction Smoothness : 50
Lens Profile Enable : 0
Lens Manual Distortion Amount : 0
Perspective Vertical : 0
Perspective Horizontal : 0
Perspective Rotate : 0.0
Perspective Scale : 100
Perspective Aspect : 0
Perspective Upright : Off
Auto Lateral CA : 1
Exposure 2012 : +0.85
Contrast 2012 : +4
Highlights 2012 : -42
Shadows 2012 : +42
Whites 2012 : +5
Blacks 2012 : -6
Clarity 2012 : 0
Defringe Purple Amount : 0
Defringe Purple Hue Lo : 30
Defringe Purple Hue Hi : 70
Defringe Green Amount : 0
Defringe Green Hue Lo : 40
Defringe Green Hue Hi : 60
Convert To Grayscale : False
Tone Curve Name 2012 : Linear
Camera Profile : Adobe Standard
Lens Profile Setup : LensDefaults
Has Settings : True
Crop Top : 0
Crop Left : 0.022394
Crop Bottom : 1
Crop Right : 0.977606
Crop Angle : 1.222125
Crop Constrain To Warp : 0
Has Crop : True
Already Applied : True
Tone Curve PV2012 : 0, 0, 255, 255
Tone Curve PV2012 Red : 0, 0, 255, 255
Tone Curve PV2012 Green : 0, 0, 255, 255
Tone Curve PV2012 Blue : 0, 0, 255, 255
Image Width : 300
Image Height : 200
Bits Per Sample : 8
Color Components : 3
Aperture : 4.0
Image Size : 300x200
Megapixels : 0.060
Scale Factor To 35 mm Equivalent : 1.0
Shutter Speed : 1/15
Circle Of Confusion : 0.030 mm
Field Of View : 73.7 deg
Focal Length : 24.0 mm (35 mm equivalent: 24.0 mm)
Hyperfocal Distance : 4.79 m
Light Value : 5.9
Lens ID : Carl Zeiss Distagon T* 24mm F2 ZA SSM (SAL24F20Z)