Uber Exif Photo
Photometric Interpretation : RGB
Make : SONY
Camera Model Name : NEX-7
Orientation : Horizontal (normal)
Samples Per Pixel : 3
Software : Adobe Photoshop CS6 (Windows)
Modify Date : 2013:12:05 20:26:03
Exposure Time : 1/1250
F Number : 4.0
Exposure Program : Aperture-priority AE
ISO : 200
Sensitivity Type : Recommended Exposure Index
Recommended Exposure Index : 200
Date/Time Original : 2013:05:25 11:47:35
Create Date : 2013:05:25 11:47:35
Shutter Speed Value : 1/1250
Aperture Value : 4.0
Brightness Value : 9.43125
Exposure Compensation : +0.7
Max Aperture Value : 1.8
Metering Mode : Multi-segment
Light Source : Unknown
Flash : Off, Did not fire
Focal Length : 24.0 mm
Color Space : sRGB
Exif Image Width : 2000
Exif Image Height : 1333
Scene Type : Directly photographed
Custom Rendered : Normal
Exposure Mode : Auto
White Balance : Manual
Focal Length In 35mm Format : 36 mm
Scene Capture Type : Standard
Contrast : High
Saturation : Normal
Sharpness : Hard
Lens Info : 24mm f/1.8
Lens Model : E 24mm F1.8 ZA
Profile Description : sRGB IEC61966-2.1
Creator Tool : Adobe Photoshop Lightroom 5.0 (Windows)
Lens : E 24mm F1.8 ZA
Date Created : 2013:05:25 11:47:35
Color Mode : RGB
ICC Profile Name : sRGB IEC61966-2.1
Version : 8.1
Process Version : 6.7
Color Temperature : 5095
Tint : +18
Luminance Smoothing : 0
Color Noise Reduction : 100
Vignette Amount : 0
Shadow Tint : 0
Red Hue : +10
Red Saturation : -5
Green Hue : +30
Green Saturation : -20
Blue Hue : 0
Blue Saturation : 0
Vibrance : -10
Hue Adjustment Red : +12
Hue Adjustment Orange : +9
Hue Adjustment Yellow : -5
Hue Adjustment Green : +5
Hue Adjustment Aqua : 0
Hue Adjustment Blue : +5
Hue Adjustment Purple : 0
Hue Adjustment Magenta : 0
Saturation Adjustment Red : -30
Saturation Adjustment Orange : -13
Saturation Adjustment Yellow : 0
Saturation Adjustment Green : -40
Saturation Adjustment Aqua : +15
Saturation Adjustment Blue : +70
Saturation Adjustment Purple : -30
Saturation Adjustment Magenta : -30
Luminance Adjustment Red : -30
Luminance Adjustment Orange : +4
Luminance Adjustment Yellow : -15
Luminance Adjustment Green : -10
Luminance Adjustment Aqua : -25
Luminance Adjustment Blue : -45
Luminance Adjustment Purple : 0
Luminance Adjustment Magenta : -15
Split Toning Shadow Hue : 25
Split Toning Shadow Saturation : 25
Split Toning Highlight Hue : 200
Split Toning Highlight Saturation : 25
Split Toning Balance : 0
Parametric Shadows : -20
Parametric Darks : 0
Parametric Lights : +10
Parametric Highlights : -24
Parametric Shadow Split : 18
Parametric Midtone Split : 45
Parametric Highlight Split : 75
Sharpen Radius : +1.0
Sharpen Detail : 35
Sharpen Edge Masking : 0
Post Crop Vignette Amount : 0
Grain Amount : 40
Grain Size : 25
Grain Frequency : 45
Color Noise Reduction Detail : 50
Lens Profile Enable : 0
Lens Manual Distortion Amount : 0
Perspective Vertical : 0
Perspective Horizontal : 0
Perspective Rotate : 0.0
Perspective Scale : 100
Perspective Aspect : 0
Perspective Upright : Off
Auto Lateral CA : 1
Exposure 2012 : +0.12
Contrast 2012 : 0
Highlights 2012 : -38
Shadows 2012 : +20
Whites 2012 : -10
Blacks 2012 : +35
Clarity 2012 : 0
Defringe Purple Amount : 2
Defringe Purple Hue Lo : 30
Defringe Purple Hue Hi : 70
Defringe Green Amount : 0
Defringe Green Hue Lo : 40
Defringe Green Hue Hi : 60
Convert To Grayscale : False
Tone Curve Name 2012 : Custom
Camera Profile : Adobe Standard
Lens Profile Setup : LensDefaults
Has Settings : True
Has Crop : False
Already Applied : True
Format : image/jpeg
Tone Curve PV2012 : 0, 0, 255, 255
Tone Curve PV2012 Red : 0, 0, 25, 5, 51, 24, 114, 121, 148, 170, 186, 208, 255, 255
Tone Curve PV2012 Green : 0, 0, 25, 5, 50, 24, 114, 122, 186, 209, 255, 255
Tone Curve PV2012 Blue : 0, 0, 25, 5, 49, 23, 114, 122, 188, 209, 255, 255
Paint Correction What : Correction
Paint Correction Amount : 1.000000
Paint Correction Active : true
Paint Correction Saturation : 0.000000
Paint Correction Sharpness : 0.000000
Paint Correction Brightness : 0.000000
Paint Correction Toning Hue : 233.000000
Paint Correction Toning Saturation : 0.000000
Paint Correction Exposure 2012 : 0.034500
Paint Correction Contrast 2012 : 0.000000
Paint Correction Highlights 2012 : 0.000000
Paint Correction Shadows 2012 : 0.000000
Paint Correction Clarity 2012 : 0.000000
Paint Correction Luminance Noise : 0.000000
Paint Correction Moire : 0.000000
Paint Correction Defringe : 0.000000
Paint Correction Temperature : 0.000000
Paint Correction Tint : 0.000000
Paint Correction Mask What : Mask/Paint
Paint Correction Mask Value : 1.000000
Paint Correction Mask Radius : 0.109240
Paint Correction Mask Flow : 1.000000
Paint Correction Mask Center Weight : 0.025995
Image Width : 300
Image Height : 200
Bits Per Sample : 8
Color Components : 3
Aperture : 4.0
Image Size : 300x200
Megapixels : 0.060
Scale Factor To 35 mm Equivalent : 1.5
Shutter Speed : 1/1250
Circle Of Confusion : 0.020 mm
Field Of View : 53.1 deg
Focal Length : 24.0 mm (35 mm equivalent: 36.0 mm)
Hyperfocal Distance : 7.19 m
Light Value : 13.3
Lens ID : E 24mm F1.8 ZA