Uber Exif Photo
Make : Canon
Camera Model Name : Canon EOS 5D Mark II
Software : Adobe Photoshop Lightroom 5.0 (Windows)
Modify Date : 2013:11:27 22:47:01
Exposure Time : 1/25
F Number : 8.0
Exposure Program : Manual
ISO : 100
Date/Time Original : 2013:11:26 09:59:24
Create Date : 2013:11:26 09:59:24
Shutter Speed Value : 1/25
Aperture Value : 8.0
Exposure Compensation : 0
Max Aperture Value : 2.0
Metering Mode : Multi-segment
Flash : Off, Did not fire
Focal Length : 100.0 mm
Custom Rendered : Normal
Exposure Mode : Manual
White Balance : Manual
Scene Capture Type : Standard
Serial Number : 3231605256
Lens Info : 100mm f/?
Lens Model : Zeiss Makro-Planar T* 2/100 ZE
Profile Description : Adobe RGB (1998)
Lens : Zeiss Makro-Planar T* 2/100 ZE
Image Number : 0
Flash Compensation : 0
Firmware : 2.0.9
Creator Tool : Adobe Photoshop Lightroom 5.0 (Windows)
Date Created : 2013:11:26 09:59:24.16
Format : image/jpeg
Version : 8.2
Process Version : 6.7
Auto White Version : 134348800
Color Temperature : 5026
Tint : +1
Sharpness : 35
Luminance Smoothing : 16
Color Noise Reduction : 25
Vignette Amount : 0
Shadow Tint : 0
Red Hue : 0
Red Saturation : 0
Green Hue : 0
Green Saturation : 0
Blue Hue : 0
Blue Saturation : 0
Gray Mixer Red : -6
Gray Mixer Orange : -15
Gray Mixer Yellow : -18
Gray Mixer Green : -24
Gray Mixer Aqua : -19
Gray Mixer Blue : +6
Gray Mixer Purple : +13
Gray Mixer Magenta : +5
Split Toning Shadow Hue : 9
Split Toning Shadow Saturation : 2
Split Toning Highlight Hue : 39
Split Toning Highlight Saturation : 19
Split Toning Balance : 0
Parametric Shadows : 0
Parametric Darks : 0
Parametric Lights : 0
Parametric Highlights : 0
Parametric Shadow Split : 25
Parametric Midtone Split : 50
Parametric Highlight Split : 75
Sharpen Radius : +0.7
Sharpen Detail : 35
Sharpen Edge Masking : 20
Post Crop Vignette Amount : 0
Grain Amount : 0
Luminance Noise Reduction Detail : 50
Color Noise Reduction Detail : 50
Luminance Noise Reduction Contrast : 0
Color Noise Reduction Smoothness : 50
Lens Profile Enable : 1
Lens Manual Distortion Amount : 0
Perspective Vertical : 0
Perspective Horizontal : 0
Perspective Rotate : 0.0
Perspective Scale : 100
Perspective Aspect : 0
Perspective Upright : Off
Auto Lateral CA : 1
Exposure 2012 : 0.00
Contrast 2012 : +29
Highlights 2012 : -40
Shadows 2012 : +12
Whites 2012 : 0
Blacks 2012 : -5
Clarity 2012 : +14
Convert To Grayscale : True
Tone Curve Name 2012 : Linear
Camera Profile : Adobe Standard
Lens Profile Setup : Custom
Lens Profile Name : Adobe (Zeiss Makro-Planar T* 2/100 ZE)
Lens Profile Filename : Canon (Zeiss Makro-Planar T 100 f2 ZE).lcp
Lens Profile Distortion Scale : 100
Lens Profile Chromatic Aberration Scale : 100
Lens Profile Vignetting Scale : 100
Has Settings : True
Crop Top : 0.137448
Crop Left : 0.014953
Crop Bottom : 0.98317
Crop Right : 1
Crop Angle : 0
Crop Constrain To Warp : 0
Has Crop : True
Already Applied : True
Tone Curve PV2012 : 0, 0, 255, 255
Tone Curve PV2012 Red : 0, 0, 255, 255
Tone Curve PV2012 Green : 0, 0, 255, 255
Tone Curve PV2012 Blue : 0, 0, 255, 255
Paint Correction What : Correction
Paint Correction Amount : 1.000000
Paint Correction Active : true
Paint Correction Saturation : 0.000000
Paint Correction Sharpness : 0.000000
Paint Correction Brightness : 0.000000
Paint Correction Toning Hue : 55.000000
Paint Correction Toning Saturation : 0.000000
Paint Correction Exposure 2012 : 0.075000
Paint Correction Contrast 2012 : 0.000000
Paint Correction Highlights 2012 : 0.000000
Paint Correction Shadows 2012 : 0.000000
Paint Correction Clarity 2012 : 0.000000
Paint Correction Luminance Noise : 0.000000
Paint Correction Moire : 0.000000
Paint Correction Defringe : 0.000000
Paint Correction Temperature : 0.000000
Paint Correction Tint : 0.000000
Paint Correction Mask What : Mask/Paint
Paint Correction Mask Value : 1.000000
Paint Correction Mask Radius : 0.053849
Paint Correction Mask Flow : 1.000000
Paint Correction Mask Center Weight : 0.000000
Gradient Based Corr What : Correction
Gradient Based Corr Amount : 1.000000
Gradient Based Corr Active : true
Gradient Based Corr Saturation : 0.000000
Gradient Based Corr Sharpness : 0.000000
Gradient Based Corr Brightness : 0.000000
Gradient Based Corr Toning Hue : 55.000000
Gradient Based Corr Toning Saturation : 0.000000
Gradient Based Corr Exposure 2012 : -0.149500
Gradient Based Corr Contrast 2012 : 0.000000
Gradient Based Corr Highlights 2012 : 0.000000
Gradient Based Corr Shadows 2012 : 0.000000
Gradient Based Corr Clarity 2012 : 0.000000
Gradient Based Corr Luminance Noise : 0.000000
Gradient Based Corr Moire : 0.000000
Gradient Based Corr Defringe : 0.000000
Gradient Based Corr Temperature : 0.000000
Gradient Based Corr Tint : 0.000000
Gradient Based Corr Mask What : Mask/Gradient
Gradient Based Corr Mask Value : 1.000000
Gradient Based Corr Mask Zero X : 0.381308
Gradient Based Corr Mask Zero Y : 0.614306
Gradient Based Corr Mask Full X : 0.379439
Gradient Based Corr Mask Full Y : -0.011220
Image Width : 300
Image Height : 172
Bits Per Sample : 8
Color Components : 3
Aperture : 8.0
Image Size : 300x172
Megapixels : 0.052
Scale Factor To 35 mm Equivalent : 1.0
Shutter Speed : 1/25
Create Date : 2013:11:26 09:59:24.16
Date/Time Original : 2013:11:26 09:59:24.16
Circle Of Confusion : 0.031 mm
Field Of View : 20.9 deg
Focal Length : 100.0 mm (35 mm equivalent: 97.6 mm)
Hyperfocal Distance : 40.60 m
Light Value : 10.6
Lens ID : Carl Zeiss Makro-Planar T* 100mm f/2 ZE