Uber Exif Photo
Date Created : 2013:10:11
Make : Canon
Camera Model Name : Canon EOS 5D Mark II
Software : Adobe Photoshop Lightroom 5.0 (Windows)
Modify Date : 2013:10:11 19:30:48
Exposure Time : 0.4
F Number : 3.2
Exposure Program : Manual
ISO : 100
Date/Time Original : 2013:10:11 13:07:11
Create Date : 2013:10:11 13:07:11
Shutter Speed Value : 0.4
Aperture Value : 3.2
Exposure Compensation : 0
Max Aperture Value : 2.0
Metering Mode : Multi-segment
Flash : Off, Did not fire
Focal Length : 100.0 mm
User Comment : Kolor stitching | 9 pictures | Size: 21198 x 8722 | Lens: Standard | RMS: 2.50 | FOV: 73.54 x 23.28 ~ 29.11 | Projection: Panini | Color: LDR |
Custom Rendered : Normal
Exposure Mode : Manual
White Balance : Manual
Scene Capture Type : Standard
Serial Number : 3231605256
Lens Info : 100mm f/?
Lens Model : Zeiss Makro-Planar T* 2/100 ZE
Profile Description : sRGB IEC61966-2.1
Version : 8.2
Process Version : 6.7
Auto White Version : 134348800
Incremental Temperature : 0
Incremental Tint : 0
Saturation : 0
Sharpness : 0
Luminance Smoothing : 20
Color Noise Reduction : 0
Vignette Amount : 0
Shadow Tint : 0
Red Hue : 0
Red Saturation : 0
Green Hue : 0
Green Saturation : 0
Blue Hue : 0
Blue Saturation : 0
Vibrance : 0
Hue Adjustment Red : 0
Hue Adjustment Orange : 0
Hue Adjustment Yellow : 0
Hue Adjustment Green : 0
Hue Adjustment Aqua : 0
Hue Adjustment Blue : 0
Hue Adjustment Purple : 0
Hue Adjustment Magenta : 0
Saturation Adjustment Red : 0
Saturation Adjustment Orange : +11
Saturation Adjustment Yellow : 0
Saturation Adjustment Green : +11
Saturation Adjustment Aqua : 0
Saturation Adjustment Blue : 0
Saturation Adjustment Purple : 0
Saturation Adjustment Magenta : 0
Luminance Adjustment Red : 0
Luminance Adjustment Orange : 0
Luminance Adjustment Yellow : 0
Luminance Adjustment Green : -20
Luminance Adjustment Aqua : 0
Luminance Adjustment Blue : 0
Luminance Adjustment Purple : 0
Luminance Adjustment Magenta : 0
Split Toning Shadow Hue : 0
Split Toning Shadow Saturation : 0
Split Toning Highlight Hue : 0
Split Toning Highlight Saturation : 0
Split Toning Balance : 0
Parametric Shadows : 0
Parametric Darks : 0
Parametric Lights : 0
Parametric Highlights : 0
Parametric Shadow Split : 25
Parametric Midtone Split : 50
Parametric Highlight Split : 75
Sharpen Radius : +1.0
Sharpen Detail : 25
Sharpen Edge Masking : 0
Post Crop Vignette Amount : 0
Grain Amount : 0
Luminance Noise Reduction Detail : 50
Luminance Noise Reduction Contrast : 0
Lens Profile Enable : 0
Lens Manual Distortion Amount : 0
Perspective Vertical : 0
Perspective Horizontal : 0
Perspective Rotate : 0.0
Perspective Scale : 100
Perspective Aspect : 0
Perspective Upright : Off
Auto Lateral CA : 1
Exposure 2012 : 0.00
Contrast 2012 : 0
Highlights 2012 : 0
Shadows 2012 : 0
Whites 2012 : 0
Blacks 2012 : 0
Clarity 2012 : 0
Defringe Purple Amount : 3
Defringe Purple Hue Lo : 30
Defringe Purple Hue Hi : 99
Defringe Green Amount : 3
Defringe Green Hue Lo : 17
Defringe Green Hue Hi : 55
Convert To Grayscale : False
Tone Curve Name 2012 : Linear
Camera Profile : Embedded
Lens Profile Setup : LensDefaults
Has Settings : True
Crop Top : 0.162944
Crop Left : 0.303485
Crop Bottom : 0.932645
Crop Right : 0.964292
Crop Angle : 0
Crop Constrain To Warp : 0
Has Crop : True
Already Applied : True
Tone Curve PV2012 : 0, 0, 255, 255
Tone Curve PV2012 Red : 0, 0, 255, 255
Tone Curve PV2012 Green : 0, 0, 255, 255
Tone Curve PV2012 Blue : 0, 0, 255, 255
Paint Correction What : Correction
Paint Correction Amount : 1.000000
Paint Correction Active : true
Paint Correction Saturation : 0.000000
Paint Correction Sharpness : 0.000000
Paint Correction Brightness : 0.000000
Paint Correction Toning Hue : 22.000000
Paint Correction Toning Saturation : 0.000000
Paint Correction Exposure 2012 : -0.195500
Paint Correction Contrast 2012 : -0.023810
Paint Correction Highlights 2012 : 0.000000
Paint Correction Shadows 2012 : 0.000000
Paint Correction Clarity 2012 : 0.000000
Paint Correction Luminance Noise : 0.000000
Paint Correction Moire : 0.000000
Paint Correction Defringe : 0.000000
Paint Correction Temperature : 0.000000
Paint Correction Tint : 0.000000
Paint Correction Mask What : Mask/Paint
Paint Correction Mask Value : 1.000000
Paint Correction Mask Radius : 0.115466
Paint Correction Mask Flow : 1.000000
Paint Correction Mask Center Weight : 0.000000
Image Width : 300
Image Height : 144
Bits Per Sample : 8
Color Components : 3
Aperture : 3.2
Image Size : 300x144
Megapixels : 0.043
Scale Factor To 35 mm Equivalent : 1.0
Shutter Speed : 0.4
Date/Time Original : 2013:10:11 13:07:11.27
Circle Of Confusion : 0.031 mm
Field Of View : 20.9 deg
Focal Length : 100.0 mm (35 mm equivalent: 97.6 mm)
Hyperfocal Distance : 101.50 m
Light Value : 4.7