Uber Exif Photo
By-line : Photographer: David Aguado
Copyright Notice : Copyright: David Aguado
Make : Canon
Camera Model Name : Canon EOS 5D Mark II
Orientation : Horizontal (normal)
Software : Adobe Photoshop CS6 (Windows)
Modify Date : 2013:08:14 00:04:16
Artist : Photographer: David Aguado
Copyright : Copyright: David Aguado
Exposure Time : 15
F Number : 18.0
Exposure Program : Bulb
ISO : 100
Date/Time Original : 2013:08:09 20:42:40
Create Date : 2013:08:09 20:42:40
Shutter Speed Value : 15
Aperture Value : 18.0
Exposure Compensation : 0
Max Aperture Value : 2.8
Metering Mode : Multi-segment
Flash : Off, Did not fire
Focal Length : 21.0 mm
Color Space : sRGB
Exif Image Width : 1024
Exif Image Height : 576
Custom Rendered : Normal
Exposure Mode : Auto
White Balance : Auto
Scene Capture Type : Standard
Owner Name : David Aguado Martin - Forero
Serial Number : 2231320313
Lens Info : 21mm f/?
Lens Model : Zeiss Distagon T* 2.8/21 ZE
Profile Description : sRGB IEC61966-2.1
Format : image/jpeg
Lens : Zeiss Distagon T* 2.8/21 ZE
Image Number : 0
Flash Compensation : 0
Firmware : 2.1.2
Rating : 0
Date Created : 2013:08:09 20:42:40.066
Color Mode : RGB
ICC Profile Name : sRGB IEC61966-2.1
Raw File Name : _MG_7628.CR2
Version : 8.1
Process Version : 6.7
Color Temperature : 4700
Tint : -24
Saturation : 0
Sharpness : 43
Luminance Smoothing : 10
Color Noise Reduction : 25
Vignette Amount : 0
Shadow Tint : 0
Red Hue : 0
Red Saturation : 0
Green Hue : 0
Green Saturation : 0
Blue Hue : 0
Blue Saturation : 0
Vibrance : +8
Hue Adjustment Red : 0
Hue Adjustment Orange : 0
Hue Adjustment Yellow : 0
Hue Adjustment Green : 0
Hue Adjustment Aqua : 0
Hue Adjustment Blue : 0
Hue Adjustment Purple : 0
Hue Adjustment Magenta : 0
Saturation Adjustment Red : +15
Saturation Adjustment Orange : +8
Saturation Adjustment Yellow : 0
Saturation Adjustment Green : 0
Saturation Adjustment Aqua : 0
Saturation Adjustment Blue : 0
Saturation Adjustment Purple : 0
Saturation Adjustment Magenta : 0
Luminance Adjustment Red : 0
Luminance Adjustment Orange : 0
Luminance Adjustment Yellow : 0
Luminance Adjustment Green : 0
Luminance Adjustment Aqua : -7
Luminance Adjustment Blue : -36
Luminance Adjustment Purple : 0
Luminance Adjustment Magenta : 0
Split Toning Shadow Hue : 0
Split Toning Shadow Saturation : 0
Split Toning Highlight Hue : 0
Split Toning Highlight Saturation : 0
Split Toning Balance : 0
Parametric Shadows : 0
Parametric Darks : 0
Parametric Lights : 0
Parametric Highlights : 0
Parametric Shadow Split : 25
Parametric Midtone Split : 50
Parametric Highlight Split : 75
Sharpen Radius : +1.2
Sharpen Detail : 40
Sharpen Edge Masking : 32
Post Crop Vignette Amount : 0
Grain Amount : 0
Luminance Noise Reduction Detail : 50
Color Noise Reduction Detail : 50
Luminance Noise Reduction Contrast : 10
Lens Profile Enable : 1
Lens Manual Distortion Amount : 0
Perspective Vertical : 0
Perspective Horizontal : 0
Perspective Rotate : 0.0
Perspective Scale : 100
Perspective Aspect : 0
Perspective Upright : Off
Auto Lateral CA : 1
Exposure 2012 : 0.00
Contrast 2012 : +20
Highlights 2012 : -100
Shadows 2012 : +8
Whites 2012 : +18
Blacks 2012 : -5
Clarity 2012 : +34
Defringe Purple Amount : 0
Defringe Purple Hue Lo : 30
Defringe Purple Hue Hi : 70
Defringe Green Amount : 0
Defringe Green Hue Lo : 40
Defringe Green Hue Hi : 60
Convert To Grayscale : False
Tone Curve Name 2012 : Linear
Camera Profile : Adobe Standard
Lens Profile Setup : LensDefaults
Lens Profile Name : Adobe (Zeiss Distagon T* 2,8/21 ZE)
Lens Profile Filename : Canon (Zeiss Distagon T 21 f28 ZE).lcp
Lens Profile Distortion Scale : 100
Lens Profile Chromatic Aberration Scale : 100
Lens Profile Vignetting Scale : 100
Has Settings : True
Crop Top : 0.156002
Crop Left : 0
Crop Bottom : 0.999752
Crop Right : 1
Crop Angle : 0
Crop Constrain To Warp : 1
Crop Width : 9
Crop Height : 16
Crop Unit : Unknown (3)
Has Crop : True
Already Applied : True
Creator : Photographer: David Aguado
Rights : Copyright: David Aguado
Tone Curve PV2012 : 0, 0, 255, 255
Tone Curve PV2012 Red : 0, 0, 255, 255
Tone Curve PV2012 Green : 0, 0, 255, 255
Tone Curve PV2012 Blue : 0, 0, 255, 255
Image Width : 300
Image Height : 169
Bits Per Sample : 8
Color Components : 3
Aperture : 18.0
Image Size : 300x169
Megapixels : 0.051
Scale Factor To 35 mm Equivalent : 1.0
Shutter Speed : 15
Create Date : 2013:08:09 20:42:40.66
Date/Time Original : 2013:08:09 20:42:40.66
Modify Date : 2013:08:14 00:04:16.66
Circle Of Confusion : 0.031 mm
Field Of View : 82.6 deg
Focal Length : 21.0 mm (35 mm equivalent: 20.5 mm)
Hyperfocal Distance : 0.80 m
Light Value : 4.4
Lens ID : Carl Zeiss Distagon T* 21mm f/2.8 ZE