Uber Exif Photo
Make : SONY
Camera Model Name : NEX-7
Orientation : Horizontal (normal)
Software : Adobe Photoshop CS6 (Windows)
Modify Date : 2013:07:29 19:00:04
Exposure Time : 1/40
F Number : 8.0
Exposure Program : Manual
ISO : 100
Date/Time Original : 2013:07:28 17:45:55
Create Date : 2013:07:28 17:45:55
Shutter Speed Value : 1/40
Aperture Value : 8.0
Brightness Value : 1.49375
Exposure Compensation : 0
Max Aperture Value : 8.0
Metering Mode : Multi-segment
Light Source : Unknown
Flash : Off, Did not fire
Focal Length : 16.0 mm
Color Space : Uncalibrated
Exif Image Width : 5527
Exif Image Height : 3719
Scene Type : Directly photographed
Custom Rendered : Normal
Exposure Mode : Manual
White Balance : Auto
Focal Length In 35mm Format : 25 mm
Scene Capture Type : Standard
Contrast : Low
Saturation : Low
Sharpness : Hard
Lens Info : 16mm f/8
Lens Model : Carl Zeiss Hologon 8/16 CG
Profile Description : Adobe RGB (1998)
Creator Tool : Adobe DNG Converter 8.1 (Windows); post-processed by CornerFix 1.4.2.1
Rating : 0
Lens : Carl Zeiss Hologon 8/16 CG
Date Created : 2013:07:28 17:45:55
Color Mode : RGB
ICC Profile Name : Adobe RGB (1998)
Format : image/jpeg
Raw File Name : _DSC4440_CF.dng
Version : 7.1
Process Version : 6.7
Color Temperature : 6000
Tint : +10
Luminance Smoothing : 55
Color Noise Reduction : 95
Vignette Amount : +20
Vignette Midpoint : 0
Shadow Tint : 0
Red Hue : 0
Red Saturation : 0
Green Hue : 0
Green Saturation : 0
Blue Hue : 0
Blue Saturation : 0
Vibrance : 0
Hue Adjustment Red : 0
Hue Adjustment Orange : 0
Hue Adjustment Yellow : 0
Hue Adjustment Green : 0
Hue Adjustment Aqua : 0
Hue Adjustment Blue : 0
Hue Adjustment Purple : 0
Hue Adjustment Magenta : 0
Saturation Adjustment Red : 0
Saturation Adjustment Orange : 0
Saturation Adjustment Yellow : 0
Saturation Adjustment Green : 0
Saturation Adjustment Aqua : 0
Saturation Adjustment Blue : 0
Saturation Adjustment Purple : 0
Saturation Adjustment Magenta : 0
Luminance Adjustment Red : 0
Luminance Adjustment Orange : 0
Luminance Adjustment Yellow : 0
Luminance Adjustment Green : 0
Luminance Adjustment Aqua : 0
Luminance Adjustment Blue : 0
Luminance Adjustment Purple : 0
Luminance Adjustment Magenta : 0
Split Toning Shadow Hue : 0
Split Toning Shadow Saturation : 0
Split Toning Highlight Hue : 0
Split Toning Highlight Saturation : 0
Split Toning Balance : 0
Parametric Shadows : 0
Parametric Darks : 0
Parametric Lights : 0
Parametric Highlights : 0
Parametric Shadow Split : 25
Parametric Midtone Split : 50
Parametric Highlight Split : 75
Sharpen Radius : +1.0
Sharpen Detail : 25
Sharpen Edge Masking : 100
Post Crop Vignette Amount : 0
Grain Amount : 0
Luminance Noise Reduction Detail : 50
Color Noise Reduction Detail : 50
Luminance Noise Reduction Contrast : 0
Lens Profile Enable : 0
Lens Manual Distortion Amount : 0
Perspective Vertical : -37
Perspective Horizontal : -3
Perspective Rotate : -1.7
Perspective Scale : 100
Auto Lateral CA : 1
Exposure 2012 : -1.70
Contrast 2012 : 0
Highlights 2012 : 0
Shadows 2012 : 0
Whites 2012 : 0
Blacks 2012 : 0
Clarity 2012 : +55
Defringe Purple Amount : 0
Defringe Purple Hue Lo : 30
Defringe Purple Hue Hi : 70
Defringe Green Amount : 0
Defringe Green Hue Lo : 40
Defringe Green Hue Hi : 60
Convert To Grayscale : False
Tone Curve Name 2012 : Linear
Camera Profile : Adobe Standard
Lens Profile Setup : LensDefaults
Has Settings : True
Crop Top : 0
Crop Left : 0.037262
Crop Bottom : 0.92978
Crop Right : 0.958406
Crop Angle : 0
Crop Constrain To Warp : 0
Has Crop : True
Already Applied : True
Tone Curve PV2012 : 0, 0, 255, 255
Tone Curve PV2012 Red : 0, 0, 255, 255
Tone Curve PV2012 Green : 0, 0, 255, 255
Tone Curve PV2012 Blue : 0, 0, 255, 255
Image Width : 300
Image Height : 202
Bits Per Sample : 8
Color Components : 3
Aperture : 8.0
Image Size : 300x202
Megapixels : 0.061
Scale Factor To 35 mm Equivalent : 1.6
Shutter Speed : 1/40
Circle Of Confusion : 0.019 mm
Field Of View : 71.5 deg
Focal Length : 16.0 mm (35 mm equivalent: 25.0 mm)
Hyperfocal Distance : 1.66 m
Light Value : 11.3