Uber Exif Photo
Photometric Interpretation : RGB
Make : NIKON CORPORATION
Camera Model Name : NIKON D800E
Orientation : Horizontal (normal)
Samples Per Pixel : 3
Software : Adobe Photoshop CS6 (Macintosh)
Modify Date : 2013:07:09 00:35:01
Exposure Time : 1/200
F Number : 3.5
Exposure Program : Aperture-priority AE
ISO : 100
Sensitivity Type : Recommended Exposure Index
Date/Time Original : 2013:06:24 04:06:37
Create Date : 2013:06:24 04:06:37
Shutter Speed Value : 1/200
Aperture Value : 3.5
Exposure Compensation : 0
Max Aperture Value : 2.0
Metering Mode : Multi-segment
Light Source : Unknown
Flash : Off, Did not fire
Focal Length : 135.0 mm
Color Space : Uncalibrated
Exif Image Width : 2880
Exif Image Height : 1922
Sensing Method : One-chip color area
Scene Type : Directly photographed
CFA Pattern : [Red,Green][Green,Blue]
Custom Rendered : Normal
Exposure Mode : Auto
White Balance : Auto
Digital Zoom Ratio : 1
Focal Length In 35mm Format : 135 mm
Scene Capture Type : Standard
Gain Control : None
Contrast : Normal
Saturation : Normal
Sharpness : Hard
Subject Distance Range : Unknown
Serial Number : 3002919
Lens Info : 135mm f/2
Lens Model : 135.0 mm f/2.0
Profile Description : Adobe RGB (1998)
Creator Tool : Adobe Photoshop CS6 (Macintosh)
Rating : 0
Lens : 135.0 mm f/2.0
Image Number : 63678
Date Created : 2013:06:24 04:06:37.002
Color Mode : RGB
ICC Profile Name : Adobe RGB (1998)
Format : image/jpeg
Raw File Name : DSC_4043.NEF
Version : 7.3
Process Version : 6.7
Color Temperature : 4850
Tint : -3
Luminance Smoothing : 0
Color Noise Reduction : 25
Vignette Amount : 0
Shadow Tint : 0
Red Hue : 0
Red Saturation : 0
Green Hue : 0
Green Saturation : 0
Blue Hue : 0
Blue Saturation : 0
Vibrance : +43
Hue Adjustment Red : 0
Hue Adjustment Orange : 0
Hue Adjustment Yellow : 0
Hue Adjustment Green : 0
Hue Adjustment Aqua : 0
Hue Adjustment Blue : 0
Hue Adjustment Purple : 0
Hue Adjustment Magenta : 0
Saturation Adjustment Red : 0
Saturation Adjustment Orange : 0
Saturation Adjustment Yellow : 0
Saturation Adjustment Green : 0
Saturation Adjustment Aqua : 0
Saturation Adjustment Blue : 0
Saturation Adjustment Purple : 0
Saturation Adjustment Magenta : 0
Luminance Adjustment Red : 0
Luminance Adjustment Orange : 0
Luminance Adjustment Yellow : 0
Luminance Adjustment Green : 0
Luminance Adjustment Aqua : 0
Luminance Adjustment Blue : 0
Luminance Adjustment Purple : 0
Luminance Adjustment Magenta : 0
Split Toning Shadow Hue : 0
Split Toning Shadow Saturation : 0
Split Toning Highlight Hue : 0
Split Toning Highlight Saturation : 0
Split Toning Balance : 0
Parametric Shadows : 0
Parametric Darks : 0
Parametric Lights : 0
Parametric Highlights : 0
Parametric Shadow Split : 25
Parametric Midtone Split : 50
Parametric Highlight Split : 75
Sharpen Radius : +1.0
Sharpen Detail : 25
Sharpen Edge Masking : 0
Post Crop Vignette Amount : 0
Grain Amount : 0
Color Noise Reduction Detail : 50
Lens Profile Enable : 0
Lens Manual Distortion Amount : 0
Perspective Vertical : 0
Perspective Horizontal : 0
Perspective Rotate : 0.0
Perspective Scale : 100
Auto Lateral CA : 0
Exposure 2012 : +0.50
Contrast 2012 : -18
Highlights 2012 : -87
Shadows 2012 : 0
Whites 2012 : +47
Blacks 2012 : -40
Clarity 2012 : +5
Defringe Purple Amount : 0
Defringe Purple Hue Lo : 30
Defringe Purple Hue Hi : 70
Defringe Green Amount : 0
Defringe Green Hue Lo : 40
Defringe Green Hue Hi : 60
Convert To Grayscale : False
Tone Curve Name 2012 : Linear
Camera Profile : Adobe Standard
Lens Profile Setup : LensDefaults
Has Settings : True
Has Crop : False
Already Applied : True
Tone Curve PV2012 : 0, 0, 255, 255
Tone Curve PV2012 Red : 0, 0, 255, 255
Tone Curve PV2012 Green : 0, 0, 255, 255
Tone Curve PV2012 Blue : 0, 0, 255, 255
Gradient Based Corr What : Correction
Gradient Based Corr Amount : 1.000000
Gradient Based Corr Active : true
Gradient Based Corr Exposure : 0.000000
Gradient Based Corr Saturation : 0.000000
Gradient Based Corr Contrast : 0.000000
Gradient Based Corr Clarity : 0.000000
Gradient Based Corr Sharpness : 0.920000
Gradient Based Corr Brightness : 0.000000
Gradient Based Corr Toning Hue : 0.000000
Gradient Based Corr Toning Saturation : 0.000000
Gradient Based Corr Exposure 2012 : -0.375000
Gradient Based Corr Contrast 2012 : 0.590000
Gradient Based Corr Highlights 2012 : -1.000000
Gradient Based Corr Shadows 2012 : 0.550000
Gradient Based Corr Clarity 2012 : 0.460000
Gradient Based Corr Luminance Noise : 0.800000
Gradient Based Corr Moire : 0.480000
Gradient Based Corr Defringe : 0.550000
Gradient Based Corr Temperature : 0.210000
Gradient Based Corr Tint : 0.800000
Gradient Based Corr Mask What : Mask/Gradient
Gradient Based Corr Mask Value : 1.000000
Gradient Based Corr Mask Zero X : 0.438974
Gradient Based Corr Mask Zero Y : 0.552995
Gradient Based Corr Mask Full X : 0.435897
Gradient Based Corr Mask Full Y : -0.003072
Image Width : 300
Image Height : 200
Bits Per Sample : 8
Color Components : 3
Aperture : 3.5
Image Size : 300x200
Megapixels : 0.060
Scale Factor To 35 mm Equivalent : 1.0
Shutter Speed : 1/200
Create Date : 2013:06:24 04:06:37.20
Date/Time Original : 2013:06:24 04:06:37.20
Modify Date : 2013:07:09 00:35:01.20
Circle Of Confusion : 0.030 mm
Field Of View : 15.2 deg
Focal Length : 135.0 mm (35 mm equivalent: 135.0 mm)
Hyperfocal Distance : 173.30 m
Light Value : 11.3
Lens ID : 135.0mm f/2.0