Uber Exif Photo
By-line : Alain DOUMONT
By-line Title : photographe
Keywords : 2013, ASTYPALEIA, GRECE
Copyright Notice : © ADphotography.be
Copyright Flag : True
URL : photoadoumont@skynet.be
Photometric Interpretation : RGB
Make : Canon
Camera Model Name : Canon EOS 5D Mark III
Orientation : Horizontal (normal)
Samples Per Pixel : 3
Planar Configuration : Chunky
Software : Adobe Photoshop CS6 (Macintosh)
Modify Date : 2013:06:29 11:26:41
Artist : Alain DOUMONT
Copyright : © ADphotography.be
Exposure Time : 1/80
F Number : 8.0
Exposure Program : Manual
ISO : 100
Sensitivity Type : Recommended Exposure Index
Recommended Exposure Index : 100
Date/Time Original : 2013:06:21 12:00:47
Create Date : 2013:06:21 12:00:47
Shutter Speed Value : 1/80
Aperture Value : 8.0
Exposure Compensation : 0
Max Aperture Value : 2.0
Metering Mode : Multi-segment
Flash : Off, Did not fire
Focal Length : 35.0 mm
Color Space : sRGB
Exif Image Width : 1954
Exif Image Height : 1381
Custom Rendered : Normal
Exposure Mode : Manual
White Balance : Manual
Scene Capture Type : Standard
Owner Name : Studio photo Alain DOUMONT
Serial Number : 033023004120
Lens Info : 35mm f/?
Lens Model : Zeiss Distagon T* 2/35 ZE
Lens Serial Number : 0000000000
Profile Description : sRGB IEC61966-2.1
Rating : 2
Creator Tool : Adobe Photoshop Lightroom 4.4 (Macintosh)
Format : image/jpeg
Lens : Zeiss Distagon T* 2/35 ZE
Image Number : 0
Flash Compensation : 0
Firmware : 1.2.1
Authors Position : photographe
Date Created : 2013:06:21 12:00:47
Color Mode : RGB
ICC Profile Name : sRGB IEC61966-2.1
Marked : True
Web Statement : photoadoumont@skynet.be
Version : 7.4
Process Version : 6.7
Color Temperature : 5600
Tint : +9
Saturation : 0
Sharpness : 63
Luminance Smoothing : 0
Color Noise Reduction : 25
Vignette Amount : 0
Shadow Tint : 0
Red Hue : 0
Red Saturation : 0
Green Hue : 0
Green Saturation : 0
Blue Hue : 0
Blue Saturation : 0
Vibrance : +21
Hue Adjustment Red : 0
Hue Adjustment Orange : 0
Hue Adjustment Yellow : 0
Hue Adjustment Green : 0
Hue Adjustment Aqua : 0
Hue Adjustment Blue : 0
Hue Adjustment Purple : 0
Hue Adjustment Magenta : 0
Saturation Adjustment Red : 0
Saturation Adjustment Orange : 0
Saturation Adjustment Yellow : 0
Saturation Adjustment Green : 0
Saturation Adjustment Aqua : 0
Saturation Adjustment Blue : 0
Saturation Adjustment Purple : 0
Saturation Adjustment Magenta : 0
Luminance Adjustment Red : 0
Luminance Adjustment Orange : 0
Luminance Adjustment Yellow : 0
Luminance Adjustment Green : 0
Luminance Adjustment Aqua : 0
Luminance Adjustment Blue : 0
Luminance Adjustment Purple : 0
Luminance Adjustment Magenta : 0
Split Toning Shadow Hue : 0
Split Toning Shadow Saturation : 0
Split Toning Highlight Hue : 0
Split Toning Highlight Saturation : 0
Split Toning Balance : 0
Parametric Shadows : +15
Parametric Darks : +18
Parametric Lights : -15
Parametric Highlights : +13
Parametric Shadow Split : 25
Parametric Midtone Split : 50
Parametric Highlight Split : 75
Sharpen Radius : +1.2
Sharpen Detail : 48
Sharpen Edge Masking : 24
Post Crop Vignette Amount : 0
Grain Amount : 0
Color Noise Reduction Detail : 50
Lens Profile Enable : 1
Lens Manual Distortion Amount : 0
Perspective Vertical : 0
Perspective Horizontal : 0
Perspective Rotate : 0.0
Perspective Scale : 100
Auto Lateral CA : 0
Exposure 2012 : -0.20
Contrast 2012 : +17
Highlights 2012 : 0
Shadows 2012 : 0
Whites 2012 : +38
Blacks 2012 : -36
Clarity 2012 : +10
Defringe Purple Amount : 0
Defringe Purple Hue Lo : 30
Defringe Purple Hue Hi : 70
Defringe Green Amount : 0
Defringe Green Hue Lo : 40
Defringe Green Hue Hi : 60
Convert To Grayscale : False
Tone Curve Name 2012 : Medium Contrast
Camera Profile : Adobe Standard
Lens Profile Setup : LensDefaults
Lens Profile Name : Adobe (Zeiss Distagon T* 2/35 ZE)
Lens Profile Filename : Canon (Zeiss Distagon T 35 f2 ZE).lcp
Lens Profile Distortion Scale : 100
Lens Profile Chromatic Aberration Scale : 100
Lens Profile Vignetting Scale : 100
Has Settings : True
Has Crop : False
Already Applied : True
Creator : Alain DOUMONT
Rights : © ADphotography.be
Subject : 2013, ASTYPALEIA, GRECE
Usage Terms : tout usage !!!
Tone Curve PV2012 : 0, 0, 32, 22, 64, 56, 128, 128, 192, 196, 255, 255
Tone Curve PV2012 Red : 0, 0, 255, 255
Tone Curve PV2012 Green : 0, 0, 255, 255
Tone Curve PV2012 Blue : 0, 0, 255, 255
Creator Postal Code : 5060
Creator Country : BELGIQUE
Creator Work Email : photoadoumont@skynet.be
Creator Work Telephone : 0032 71 77 72 72
Creator City : 5060 TAMINES
Creator Address : 6 et 8 , avenue des Français
Creator Work URL : ADPHOTOGRAPHY.BE
Image Width : 300
Image Height : 212
Bits Per Sample : 8
Color Components : 3
Aperture : 8.0
Image Size : 300x212
Megapixels : 0.064
Scale Factor To 35 mm Equivalent : 2.9
Shutter Speed : 1/80
Create Date : 2013:06:21 12:00:47.00
Date/Time Original : 2013:06:21 12:00:47.00
Circle Of Confusion : 0.010 mm
Field Of View : 20.2 deg
Focal Length : 35.0 mm (35 mm equivalent: 101.3 mm)
Hyperfocal Distance : 14.74 m
Light Value : 12.3
Lens ID : Carl Zeiss Distagon T* 35mm f/2 ZE