Uber Exif Photo
By-line : Nihed Baouab
By-line Title : Photographer
Object Name : Ambient 5-35
Sub-location : EdbE Photography
Province-State : Dubai
Country-Primary Location Name : U.A.E
Copyright Notice : ©2013 Nihed Baouab, all rights reserved.
Copyright Flag : True
Photometric Interpretation : RGB
Make : Canon
Camera Model Name : Canon EOS 5D Mark II
Orientation : Horizontal (normal)
Samples Per Pixel : 3
Software : Adobe Photoshop CS6 (Macintosh)
Modify Date : 2013:05:18 13:57:48
Artist : Nihed Baouab
Copyright : ©2013 Nihed Baouab, all rights reserved.
Exposure Time : 956
F Number : 16.0
Exposure Program : Bulb
ISO : 100
Date/Time Original : 2013:01:01 17:35:43
Create Date : 2013:01:01 17:35:43
Shutter Speed Value : 956
Aperture Value : 16.0
Exposure Compensation : 0
Max Aperture Value : 2.8
Metering Mode : Multi-segment
Flash : Off, Did not fire
Focal Length : 21.0 mm
Color Space : sRGB
Exif Image Width : 2000
Exif Image Height : 1029
Custom Rendered : Normal
Exposure Mode : Auto
White Balance : Auto
Scene Capture Type : Standard
Owner Name : Nihed Baouab
Serial Number : 3661713537
Lens Info : 21mm f/?
Lens Model : Zeiss Distagon T* 2.8/21 ZE
Profile Description : sRGB IEC61966-2.1
Rating : 5
Creator Tool : Adobe Photoshop Lightroom 4.4 (Macintosh)
Format : image/jpeg
Lens : Zeiss Distagon T* 2.8/21 ZE
Image Number : 0
Flash Compensation : 0
Firmware : 2.1.2
Date Created : 2012:10:06
Authors Position : Photographer
City : Dubai
Country : U.A.E
State : Dubai
Color Mode : RGB
ICC Profile Name : sRGB IEC61966-2.1
Marked : True
Intellectual Genre : Nihed Baouab
Location : EdbE Photography
Version : 7.4
Process Version : 6.7
Incremental Temperature : 0
Incremental Tint : 0
Saturation : -9
Sharpness : 3
Luminance Smoothing : 8
Color Noise Reduction : 0
Vignette Amount : +6
Vignette Midpoint : 50
Shadow Tint : 0
Red Hue : 0
Red Saturation : 0
Green Hue : 0
Green Saturation : 0
Blue Hue : 0
Blue Saturation : 0
Vibrance : 0
Hue Adjustment Red : 0
Hue Adjustment Orange : 0
Hue Adjustment Yellow : 0
Hue Adjustment Green : 0
Hue Adjustment Aqua : 0
Hue Adjustment Blue : 0
Hue Adjustment Purple : 0
Hue Adjustment Magenta : 0
Saturation Adjustment Red : 0
Saturation Adjustment Orange : 0
Saturation Adjustment Yellow : 0
Saturation Adjustment Green : 0
Saturation Adjustment Aqua : 0
Saturation Adjustment Blue : 0
Saturation Adjustment Purple : 0
Saturation Adjustment Magenta : 0
Luminance Adjustment Red : 0
Luminance Adjustment Orange : 0
Luminance Adjustment Yellow : 0
Luminance Adjustment Green : 0
Luminance Adjustment Aqua : 0
Luminance Adjustment Blue : 0
Luminance Adjustment Purple : 0
Luminance Adjustment Magenta : 0
Split Toning Shadow Hue : 0
Split Toning Shadow Saturation : 0
Split Toning Highlight Hue : 0
Split Toning Highlight Saturation : 0
Split Toning Balance : 0
Parametric Shadows : 0
Parametric Darks : 0
Parametric Lights : 0
Parametric Highlights : 0
Parametric Shadow Split : 25
Parametric Midtone Split : 50
Parametric Highlight Split : 75
Sharpen Radius : +1.0
Sharpen Detail : 25
Sharpen Edge Masking : 0
Post Crop Vignette Amount : 0
Grain Amount : 0
Luminance Noise Reduction Detail : 50
Luminance Noise Reduction Contrast : 0
Lens Profile Enable : 0
Lens Manual Distortion Amount : 0
Perspective Vertical : 0
Perspective Horizontal : 0
Perspective Rotate : 0.0
Perspective Scale : 100
Auto Lateral CA : 0
Exposure 2012 : 0.00
Contrast 2012 : 0
Highlights 2012 : 0
Shadows 2012 : 0
Whites 2012 : 0
Blacks 2012 : 0
Clarity 2012 : +1
Defringe Purple Amount : 0
Defringe Purple Hue Lo : 30
Defringe Purple Hue Hi : 70
Defringe Green Amount : 0
Defringe Green Hue Lo : 40
Defringe Green Hue Hi : 60
Convert To Grayscale : False
Tone Curve Name 2012 : Linear
Camera Profile : Embedded
Lens Profile Setup : LensDefaults
Has Settings : True
Crop Top : 0.044257
Crop Left : 0
Crop Bottom : 0.872249
Crop Right : 1
Crop Angle : 0
Crop Constrain To Warp : 0
Crop Width : 4939
Crop Height : 2541
Crop Unit : pixels
Has Crop : True
Already Applied : True
Creator : Nihed Baouab
Title : Ambient 5-35
Rights : ©2013 Nihed Baouab, all rights reserved.
Usage Terms : it is forbidden to use any of my images on websites, blogs or any other media without my explicit permission. ©2013 Nihed Baouab, all rights reserved.
Creator Work URL : http://500px.com/edbe
Creator Work Email : edbe19@gmail.com
Creator Region : Dubai
Creator Country : U.A.E
Creator City : Dubai
Tone Curve PV2012 : 0, 0, 255, 255
Tone Curve PV2012 Red : 0, 0, 255, 255
Tone Curve PV2012 Green : 0, 0, 255, 255
Tone Curve PV2012 Blue : 0, 0, 255, 255
Image Width : 300
Image Height : 154
Bits Per Sample : 8
Color Components : 3
Aperture : 16.0
Image Size : 300x154
Megapixels : 0.046
Scale Factor To 35 mm Equivalent : 1.0
Shutter Speed : 956
Date/Time Original : 2013:01:01 17:35:43.99
Circle Of Confusion : 0.031 mm
Field Of View : 82.6 deg
Focal Length : 21.0 mm (35 mm equivalent: 20.5 mm)
Hyperfocal Distance : 0.90 m
Light Value : -1.9
Lens ID : Carl Zeiss Distagon T* 21mm f/2.8 ZE