Uber Exif Photo
Keywords : richmond bridge, zeiss 35mm
By-line : Philip Northeast
Copyright Notice : Notheast Media
Copyright Flag : True
Make : PENTAX
Camera Model Name : PENTAX K-5
Software : Adobe Photoshop Lightroom 3.6 (Windows)
Modify Date : 2013:05:15 15:13:41
Artist : Philip Northeast
Copyright : Notheast Media
Exposure Time : 1/400
ISO : 80
Date/Time Original : 2013:05:15 10:33:22
Create Date : 2013:05:15 10:33:22
Shutter Speed Value : 1/400
Focal Length : 35.0 mm
Profile Description : sRGB IEC61966-2.1
Method : Details Enhancer
Strength : 78.0
Color Saturation : 46.0
Luminosity : -2.3
White Clip : 0.250000
Black Clip : 0.000000
Smoothing Mode : Slider
Smoothing : 0.0
Microcontrast : 2.4
Microsmoothing : 2.0
Gamma : 1.00
Highlights Smoothing : 0.0
Shadows Smoothing : 0.0
Shadows Clipping : 0.0
Color Temperature : 0.0
Saturation Highlights : 0.0
Saturation Shadows : 0.0
Is Pano 360 : No
Format : image/jpeg
Creator Tool : Adobe Photoshop Lightroom 3.6 (Windows)
Date Created : 2011:12:03
Marked : True
Version : 6.6
Process Version : 5.7
White Balance : Custom
Incremental Temperature : +10
Incremental Tint : 0
Exposure : 0.00
Shadows : 0
Brightness : 0
Contrast : 0
Saturation : 0
Sharpness : 0
Luminance Smoothing : 0
Color Noise Reduction : 0
Chromatic Aberration R : 0
Chromatic Aberration B : 0
Vignette Amount : 0
Shadow Tint : 0
Red Hue : 0
Red Saturation : 0
Green Hue : 0
Green Saturation : 0
Blue Hue : 0
Blue Saturation : 0
Fill Light : 0
Vibrance : +6
Highlight Recovery : 0
Clarity : +33
Defringe : 0
Hue Adjustment Red : 0
Hue Adjustment Orange : 0
Hue Adjustment Yellow : 0
Hue Adjustment Green : 0
Hue Adjustment Aqua : 0
Hue Adjustment Blue : 0
Hue Adjustment Purple : 0
Hue Adjustment Magenta : 0
Saturation Adjustment Red : 0
Saturation Adjustment Orange : 0
Saturation Adjustment Yellow : 0
Saturation Adjustment Green : 0
Saturation Adjustment Aqua : 0
Saturation Adjustment Blue : 0
Saturation Adjustment Purple : 0
Saturation Adjustment Magenta : 0
Luminance Adjustment Red : 0
Luminance Adjustment Orange : 0
Luminance Adjustment Yellow : 0
Luminance Adjustment Green : 0
Luminance Adjustment Aqua : 0
Luminance Adjustment Blue : 0
Luminance Adjustment Purple : 0
Luminance Adjustment Magenta : 0
Split Toning Shadow Hue : 0
Split Toning Shadow Saturation : 0
Split Toning Highlight Hue : 0
Split Toning Highlight Saturation : 0
Split Toning Balance : 0
Parametric Shadows : 0
Parametric Darks : 0
Parametric Lights : 0
Parametric Highlights : 0
Parametric Shadow Split : 25
Parametric Midtone Split : 50
Parametric Highlight Split : 75
Sharpen Radius : +1.0
Sharpen Detail : 25
Sharpen Edge Masking : 0
Post Crop Vignette Amount : 0
Grain Amount : 0
Lens Profile Enable : 0
Lens Manual Distortion Amount : 0
Perspective Vertical : 0
Perspective Horizontal : 0
Perspective Rotate : 0.0
Perspective Scale : 100
Convert To Grayscale : False
Tone Curve Name : Linear
Camera Profile : Embedded
Lens Profile Setup : LensDefaults
Has Settings : True
Has Crop : False
Already Applied : True
Creator : Philip Northeast
Rights : Notheast Media
Subject : richmond bridge, zeiss 35mm
Usage Terms : All Rights Reserved - no copy without written permission
Creator Postal Code : 7010
Creator Work Telephone : 610408778754
Creator Region : Tasmania
Creator Country : Australia
Creator City : Glenorchy
Creator Work Email : northeastmedia@bigpond.com
Creator Address : 12 Verbena Pl
Creator Work URL : philnortheast.com
Tone Curve : 0, 0, 255, 255
Image Width : 300
Image Height : 199
Bits Per Sample : 8
Color Components : 3
Image Size : 300x199
Megapixels : 0.060
Shutter Speed : 1/400
Lens ID : M-42 or No Lens