Uber Exif Photo
Photometric Interpretation : RGB
Camera Model Name : NEX-7
Orientation : Horizontal (normal)
Samples Per Pixel : 3
Planar Configuration : Chunky
Software : Adobe Photoshop CS6 (Windows)
Modify Date : 2013:04:23 08:57:25
Exposure Time : 1/20
F Number : 2.8
ISO : 100
Date/Time Original : 2013:04:17 21:55:46
Focal Length : 24.0 mm
Color Space : Uncalibrated
Exif Image Width : 5400
Exif Image Height : 3600
Profile Description : Adobe RGB (1998)
Method : Fusion/Adjust
Accentuation : 0.0
Blending Point : 0.0
Saturation : 0.0
White Clip : 0.000000
Black Clip : 0.000000
Midtones Adjustment : 0.0
Is Pano 360 : No
Sharpness : 2.0
Creator Tool : NEX-7 v1.02
Create Date : 2013:04:17 21:55:46
Rating : 0
Lens Info : 24mm f/2
Lens : 24mm F2 ZA SSM
Date Created : 2013:04:17 21:55:46
Color Mode : RGB
ICC Profile Name : Adobe RGB (1998)
Raw File Name : _DSC9322.ARW
Version : 7.0
Process Version : 6.7
White Balance : As Shot
Color Temperature : 3750
Tint : +54
Exposure : 0.00
Shadows : 5
Brightness : +50
Contrast : +25
Luminance Smoothing : 66
Color Noise Reduction : 55
Vignette Amount : 0
Shadow Tint : 0
Red Hue : 0
Red Saturation : 0
Green Hue : 0
Green Saturation : 0
Blue Hue : 0
Blue Saturation : 0
Fill Light : 0
Vibrance : +10
Highlight Recovery : 0
Clarity : 0
Defringe : 2
Hue Adjustment Red : 0
Hue Adjustment Orange : 0
Hue Adjustment Yellow : 0
Hue Adjustment Green : 0
Hue Adjustment Aqua : 0
Hue Adjustment Blue : 0
Hue Adjustment Purple : 0
Hue Adjustment Magenta : 0
Saturation Adjustment Red : 0
Saturation Adjustment Orange : 0
Saturation Adjustment Yellow : 0
Saturation Adjustment Green : 0
Saturation Adjustment Aqua : 0
Saturation Adjustment Blue : 0
Saturation Adjustment Purple : 0
Saturation Adjustment Magenta : 0
Luminance Adjustment Red : 0
Luminance Adjustment Orange : 0
Luminance Adjustment Yellow : 0
Luminance Adjustment Green : 0
Luminance Adjustment Aqua : 0
Luminance Adjustment Blue : 0
Luminance Adjustment Purple : 0
Luminance Adjustment Magenta : 0
Split Toning Shadow Hue : 0
Split Toning Shadow Saturation : 0
Split Toning Highlight Hue : 0
Split Toning Highlight Saturation : 0
Split Toning Balance : 0
Parametric Shadows : 0
Parametric Darks : 0
Parametric Lights : 0
Parametric Highlights : 0
Parametric Shadow Split : 25
Parametric Midtone Split : 50
Parametric Highlight Split : 75
Sharpen Radius : +1.0
Sharpen Detail : 25
Sharpen Edge Masking : 100
Post Crop Vignette Amount : 0
Grain Amount : 0
Luminance Noise Reduction Detail : 50
Color Noise Reduction Detail : 50
Luminance Noise Reduction Contrast : 0
Lens Profile Enable : 0
Lens Manual Distortion Amount : 0
Perspective Vertical : 0
Perspective Horizontal : 0
Perspective Rotate : 0.0
Perspective Scale : 100
Auto Lateral CA : 1
Exposure 2012 : +1.70
Contrast 2012 : -25
Highlights 2012 : -8
Shadows 2012 : +8
Whites 2012 : +1
Blacks 2012 : +26
Clarity 2012 : 0
Convert To Grayscale : False
Tone Curve Name : Medium Contrast
Tone Curve Name 2012 : Linear
Camera Profile : Adobe Standard
Lens Profile Setup : LensDefaults
Has Settings : True
Has Crop : False
Already Applied : True
Format : image/jpeg
Tone Curve : 0, 0, 32, 22, 64, 56, 128, 128, 192, 196, 255, 255
Tone Curve Red : 0, 0, 255, 255
Tone Curve Green : 0, 0, 255, 255
Tone Curve Blue : 0, 0, 255, 255
Tone Curve PV2012 : 0, 0, 255, 255
Tone Curve PV2012 Red : 0, 0, 255, 255
Tone Curve PV2012 Green : 0, 0, 255, 255
Tone Curve PV2012 Blue : 0, 0, 255, 255
Image Width : 300
Image Height : 200
Bits Per Sample : 8
Color Components : 3
Aperture : 2.8
Image Size : 300x200
Megapixels : 0.060
Shutter Speed : 1/20
Light Value : 7.3
Lens ID : 24mm F2 ZA SSM