Uber Exif Photo
Caption-Abstract : Absolut
By-line : Nihed Baouab
By-line Title : Photographer
Object Name : Dubai 41...
Sub-location : EdbE Photography
Province-State : Dubai
Country-Primary Location Name : U.A.E
Copyright Notice : ©2012 Nihed Baouab, all rights reserved.
Copyright Flag : True
Photometric Interpretation : RGB
Image Description : Absolut
Make : Canon
Camera Model Name : Canon EOS 5D Mark II
Orientation : Horizontal (normal)
Samples Per Pixel : 3
Software : Adobe Photoshop CS6 (Macintosh)
Modify Date : 2012:12:10 19:59:41
Artist : Nihed Baouab
Copyright : ©2012 Nihed Baouab, all rights reserved.
Exposure Time : 41
F Number : 2.8
Exposure Program : Bulb
ISO : 100
Date/Time Original : 2012:12:02 00:04:09
Create Date : 2012:12:02 00:04:09
Shutter Speed Value : 41
Aperture Value : 2.8
Exposure Compensation : 0
Max Aperture Value : 2.8
Metering Mode : Multi-segment
Flash : Off, Did not fire
Focal Length : 21.0 mm
Color Space : sRGB
Exif Image Width : 2000
Exif Image Height : 1398
Custom Rendered : Normal
Exposure Mode : Auto
White Balance : Auto
Scene Capture Type : Standard
Owner Name : Nihed Baouab
Serial Number : 3661713537
Lens Info : 21mm f/?
Lens Model : Zeiss Distagon T* 2.8/21 ZE
Profile Description : sRGB IEC61966-2.1
Rating : 5
Creator Tool : Adobe Photoshop Lightroom 3.6 (Macintosh)
Format : image/jpeg
Lens : Zeiss Distagon T* 2.8/21 ZE
Image Number : 0
Flash Compensation : 0
Firmware : 2.1.2
Date Created : 2012:10:06
Authors Position : Photographer
City : Dubai
State : Dubai
Country : U.A.E
Color Mode : RGB
ICC Profile Name : sRGB IEC61966-2.1
Intellectual Genre : Nihed Baouab
Location : EdbE Photography
Marked : True
Version : 6.6
Process Version : 5.7
Incremental Temperature : 0
Incremental Tint : 0
Exposure : 0.00
Shadows : 5
Brightness : +20
Contrast : +9
Saturation : 0
Sharpness : 9
Luminance Smoothing : 0
Color Noise Reduction : 0
Chromatic Aberration R : 0
Chromatic Aberration B : 0
Vignette Amount : 0
Shadow Tint : 0
Red Hue : 0
Red Saturation : 0
Green Hue : 0
Green Saturation : 0
Blue Hue : 0
Blue Saturation : 0
Fill Light : 0
Vibrance : 0
Highlight Recovery : 32
Clarity : +5
Defringe : 0
Hue Adjustment Red : 0
Hue Adjustment Orange : 0
Hue Adjustment Yellow : 0
Hue Adjustment Green : 0
Hue Adjustment Aqua : 0
Hue Adjustment Blue : 0
Hue Adjustment Purple : 0
Hue Adjustment Magenta : 0
Saturation Adjustment Red : 0
Saturation Adjustment Orange : 0
Saturation Adjustment Yellow : 0
Saturation Adjustment Green : 0
Saturation Adjustment Aqua : 0
Saturation Adjustment Blue : 0
Saturation Adjustment Purple : 0
Saturation Adjustment Magenta : 0
Luminance Adjustment Red : 0
Luminance Adjustment Orange : 0
Luminance Adjustment Yellow : 0
Luminance Adjustment Green : 0
Luminance Adjustment Aqua : 0
Luminance Adjustment Blue : 0
Luminance Adjustment Purple : 0
Luminance Adjustment Magenta : 0
Split Toning Shadow Hue : 0
Split Toning Shadow Saturation : 0
Split Toning Highlight Hue : 0
Split Toning Highlight Saturation : 0
Split Toning Balance : 0
Parametric Shadows : 0
Parametric Darks : 0
Parametric Lights : 0
Parametric Highlights : 0
Parametric Shadow Split : 25
Parametric Midtone Split : 50
Parametric Highlight Split : 75
Sharpen Radius : +1.0
Sharpen Detail : 25
Sharpen Edge Masking : 0
Post Crop Vignette Amount : 0
Grain Amount : 0
Lens Profile Enable : 0
Lens Manual Distortion Amount : 0
Perspective Vertical : -2
Perspective Horizontal : 0
Perspective Rotate : 0.0
Perspective Scale : 100
Convert To Grayscale : False
Tone Curve Name : Linear
Camera Profile : Embedded
Lens Profile Setup : LensDefaults
Has Settings : True
Crop Top : 0.009265
Crop Left : 0.040215
Crop Bottom : 0.995034
Crop Right : 0.980155
Crop Angle : 0
Crop Constrain To Warp : 1
Crop Width : 5279
Crop Height : 3691
Crop Unit : pixels
Has Crop : True
Already Applied : True
Creator : Nihed Baouab
Title : Dubai 41...
Rights : ©2012 Nihed Baouab, all rights reserved.
Description : Absolut
Creator City : Dubai
Creator Region : Dubai
Creator Country : U.A.E
Creator Work Email : edbe19@gmail.com
Creator Work URL : http://500px.com/edbe
Usage Terms : it is forbidden to use any of my images on websites, blogs or any other media without my explicit permission. ©2012 Nihed Baouab, all rights reserved.
Tone Curve : 0, 0, 255, 255
Image Width : 300
Image Height : 210
Bits Per Sample : 8
Color Components : 3
Aperture : 2.8
Image Size : 300x210
Megapixels : 0.063
Scale Factor To 35 mm Equivalent : 1.0
Shutter Speed : 41
Date/Time Original : 2012:12:02 00:04:09.67
Circle Of Confusion : 0.031 mm
Field Of View : 82.6 deg
Focal Length : 21.0 mm (35 mm equivalent: 20.5 mm)
Hyperfocal Distance : 5.12 m
Light Value : -2.4
Lens ID : Carl Zeiss Distagon T* 21mm f/2.8 ZE