Uber Exif Photo
By-line : Donn Anning jones
Copyright Notice : Donn Anning Jones
Copyright Flag : True
Make : MICROTEK
Camera Model Name : ScanMaker i900
Software : Adobe Photoshop Lightroom 3.6 (Macintosh)
Modify Date : 2012:12:03 23:33:10
Artist : Donn Anning jones
Copyright : Donn Anning Jones
Create Date : 2011:04:28 08:46:38
Profile Description : ProPhoto RGB
Color Space : Uncalibrated
Creator Tool : Adobe Photoshop Lightroom 3.6 (Macintosh)
Format : image/jpeg
Marked : True
Version : 6.6
Process Version : 5.7
White Balance : As Shot
Incremental Temperature : 0
Incremental Tint : 0
Exposure : 0.00
Shadows : 0
Brightness : 0
Contrast : 0
Saturation : +20
Sharpness : 0
Luminance Smoothing : 0
Color Noise Reduction : 0
Chromatic Aberration R : 0
Chromatic Aberration B : 0
Vignette Amount : 0
Shadow Tint : 0
Red Hue : 0
Red Saturation : 0
Green Hue : 0
Green Saturation : 0
Blue Hue : 0
Blue Saturation : 0
Fill Light : 0
Vibrance : 0
Highlight Recovery : 0
Clarity : 0
Defringe : 0
Hue Adjustment Red : 0
Hue Adjustment Orange : 0
Hue Adjustment Yellow : 0
Hue Adjustment Green : 0
Hue Adjustment Aqua : 0
Hue Adjustment Blue : 0
Hue Adjustment Purple : 0
Hue Adjustment Magenta : 0
Saturation Adjustment Red : 0
Saturation Adjustment Orange : 0
Saturation Adjustment Yellow : 0
Saturation Adjustment Green : 0
Saturation Adjustment Aqua : 0
Saturation Adjustment Blue : 0
Saturation Adjustment Purple : 0
Saturation Adjustment Magenta : 0
Luminance Adjustment Red : 0
Luminance Adjustment Orange : 0
Luminance Adjustment Yellow : 0
Luminance Adjustment Green : 0
Luminance Adjustment Aqua : 0
Luminance Adjustment Blue : 0
Luminance Adjustment Purple : 0
Luminance Adjustment Magenta : 0
Split Toning Shadow Hue : 0
Split Toning Shadow Saturation : 0
Split Toning Highlight Hue : 0
Split Toning Highlight Saturation : 0
Split Toning Balance : 0
Parametric Shadows : -74
Parametric Darks : -52
Parametric Lights : -23
Parametric Highlights : +25
Parametric Shadow Split : 25
Parametric Midtone Split : 50
Parametric Highlight Split : 75
Sharpen Radius : +1.0
Sharpen Detail : 25
Sharpen Edge Masking : 0
Post Crop Vignette Amount : 0
Grain Amount : 0
Lens Profile Enable : 0
Lens Manual Distortion Amount : 0
Perspective Vertical : 0
Perspective Horizontal : 0
Perspective Rotate : 0.0
Perspective Scale : 100
Convert To Grayscale : False
Tone Curve Name : Linear
Camera Profile : Embedded
Lens Profile Setup : LensDefaults
Has Settings : True
Crop Top : 0.039188
Crop Left : 0.029669
Crop Bottom : 0.947133
Crop Right : 0.963115
Crop Angle : 0.589726
Crop Constrain To Warp : 0
Crop Width : 924
Crop Height : 933
Crop Unit : pixels
Has Crop : True
Already Applied : True
Creator : Donn Anning jones
Rights : Donn Anning Jones
Usage Terms : Do not use without prior written permission
Creator Region : OR
Creator City : Portland
Creator Work Email : daj@inklight.net
Tone Curve : 0, 0, 255, 255
Image Width : 300
Image Height : 297
Bits Per Sample : 8
Color Components : 3
Image Size : 300x297
Megapixels : 0.089