Uber Exif Photo
Make : Canon
Camera Model Name : Canon EOS 5D Mark II
Orientation : Horizontal (normal)
Software : Adobe Photoshop CS6 (Windows)
Modify Date : 2012:11:10 23:30:47
Exposure Time : 1/200
F Number : 4.0
Exposure Program : Aperture-priority AE
ISO : 1000
Date/Time Original : 2012:11:10 16:01:41
Create Date : 2012:11:10 16:01:41
Shutter Speed Value : 1/200
Aperture Value : 4.0
Exposure Compensation : +2/3
Max Aperture Value : 4.0
Metering Mode : Spot
Flash : Off, Did not fire
Focal Length : 300.0 mm
Color Space : sRGB
Exif Image Width : 4836
Exif Image Height : 3348
Custom Rendered : Normal
Exposure Mode : Auto
White Balance : Manual
Scene Capture Type : Standard
Serial Number : 4061918517
Lens Model : 1-65535mm
Profile Description : sRGB IEC61966-2.1
Lens : 1-65535mm
Image Number : 0
Flash Compensation : 0
Firmware : 2.1.2
Rating : 0
Date Created : 2012:11:10 16:01:41.088
Color Mode : RGB
ICC Profile Name : sRGB IEC61966-2.1
Format : image/jpeg
Raw File Name : IMG_5301.CR2
Version : 7.2
Process Version : 6.7
Color Temperature : 5100
Tint : -1
Saturation : +9
Sharpness : 25
Luminance Smoothing : 0
Color Noise Reduction : 25
Vignette Amount : 0
Shadow Tint : 0
Red Hue : 0
Red Saturation : 0
Green Hue : 0
Green Saturation : 0
Blue Hue : 0
Blue Saturation : 0
Vibrance : +30
Hue Adjustment Red : 0
Hue Adjustment Orange : 0
Hue Adjustment Yellow : 0
Hue Adjustment Green : 0
Hue Adjustment Aqua : 0
Hue Adjustment Blue : 0
Hue Adjustment Purple : 0
Hue Adjustment Magenta : 0
Saturation Adjustment Red : 0
Saturation Adjustment Orange : 0
Saturation Adjustment Yellow : 0
Saturation Adjustment Green : 0
Saturation Adjustment Aqua : 0
Saturation Adjustment Blue : 0
Saturation Adjustment Purple : 0
Saturation Adjustment Magenta : 0
Luminance Adjustment Red : 0
Luminance Adjustment Orange : 0
Luminance Adjustment Yellow : 0
Luminance Adjustment Green : 0
Luminance Adjustment Aqua : 0
Luminance Adjustment Blue : 0
Luminance Adjustment Purple : 0
Luminance Adjustment Magenta : 0
Split Toning Shadow Hue : 0
Split Toning Shadow Saturation : 0
Split Toning Highlight Hue : 0
Split Toning Highlight Saturation : 0
Split Toning Balance : 0
Parametric Shadows : 0
Parametric Darks : 0
Parametric Lights : 0
Parametric Highlights : 0
Parametric Shadow Split : 25
Parametric Midtone Split : 50
Parametric Highlight Split : 75
Sharpen Radius : +1.0
Sharpen Detail : 25
Sharpen Edge Masking : 0
Post Crop Vignette Amount : 0
Grain Amount : 0
Color Noise Reduction Detail : 50
Lens Profile Enable : 0
Lens Manual Distortion Amount : 0
Perspective Vertical : 0
Perspective Horizontal : 0
Perspective Rotate : 0.0
Perspective Scale : 100
Auto Lateral CA : 1
Exposure 2012 : -0.45
Contrast 2012 : +3
Highlights 2012 : 0
Shadows 2012 : 0
Whites 2012 : +18
Blacks 2012 : -35
Clarity 2012 : +33
Defringe Purple Amount : 10
Defringe Purple Hue Lo : 30
Defringe Purple Hue Hi : 70
Defringe Green Amount : 9
Defringe Green Hue Lo : 40
Defringe Green Hue Hi : 60
Convert To Grayscale : False
Tone Curve Name 2012 : Linear
Camera Profile : Adobe Standard
Lens Profile Setup : LensDefaults
Has Settings : True
Has Crop : False
Already Applied : True
Tone Curve PV2012 : 0, 0, 255, 255
Tone Curve PV2012 Red : 0, 0, 255, 255
Tone Curve PV2012 Green : 0, 0, 255, 255
Tone Curve PV2012 Blue : 0, 0, 255, 255
Image Width : 300
Image Height : 208
Bits Per Sample : 8
Color Components : 3
Aperture : 4.0
Image Size : 300x208
Megapixels : 0.062
Scale Factor To 35 mm Equivalent : 1.0
Shutter Speed : 1/200
Create Date : 2012:11:10 16:01:41.88
Date/Time Original : 2012:11:10 16:01:41.88
Modify Date : 2012:11:10 23:30:47.88
Circle Of Confusion : 0.031 mm
Field Of View : 7.0 deg
Focal Length : 300.0 mm (35 mm equivalent: 292.8 mm)
Hyperfocal Distance : 730.83 m
Light Value : 8.3
Lens ID : Canon EF 35-80mm f/4-5.6