Uber Exif Photo
Make : Canon
Camera Model Name : Canon EOS 5D Mark II
Software : Adobe Photoshop Lightroom 4.2 (Windows)
Modify Date : 2012:10:31 20:27:22
Exposure Time : 8
F Number : 2.8
Exposure Program : Manual
ISO : 6400
Date/Time Original : 2012:06:20 22:16:22
Create Date : 2012:06:20 22:16:22
Shutter Speed Value : 8
Aperture Value : 2.8
Exposure Compensation : 0
Max Aperture Value : 2.8
Metering Mode : Multi-segment
Flash : Off, Did not fire
Focal Length : 21.0 mm
Custom Rendered : Normal
Exposure Mode : Manual
White Balance : Auto
Scene Capture Type : Standard
Serial Number : 2111301137
Lens Info : 21mm f/?
Lens Model : Zeiss Distagon T* 2.8/21 ZE
Profile Description : sRGB IEC61966-2.1
Lens : Zeiss Distagon T* 2.8/21 ZE
Image Number : 0
Flash Compensation : 0
Firmware : 2.0.7
Creator Tool : Adobe Photoshop Lightroom 4.2 (Windows)
Date Created : 2012:06:20 22:16:22.78
Format : image/jpeg
Version : 7.2
Process Version : 6.7
Color Temperature : 4000
Tint : +18
Saturation : 0
Sharpness : 25
Luminance Smoothing : 30
Color Noise Reduction : 25
Vignette Amount : 0
Shadow Tint : 0
Red Hue : 0
Red Saturation : 0
Green Hue : 0
Green Saturation : 0
Blue Hue : 0
Blue Saturation : 0
Vibrance : 0
Hue Adjustment Red : 0
Hue Adjustment Orange : 0
Hue Adjustment Yellow : 0
Hue Adjustment Green : 0
Hue Adjustment Aqua : 0
Hue Adjustment Blue : 0
Hue Adjustment Purple : -100
Hue Adjustment Magenta : -100
Saturation Adjustment Red : 0
Saturation Adjustment Orange : 0
Saturation Adjustment Yellow : 0
Saturation Adjustment Green : 0
Saturation Adjustment Aqua : 0
Saturation Adjustment Blue : 0
Saturation Adjustment Purple : 0
Saturation Adjustment Magenta : 0
Luminance Adjustment Red : 0
Luminance Adjustment Orange : 0
Luminance Adjustment Yellow : 0
Luminance Adjustment Green : 0
Luminance Adjustment Aqua : 0
Luminance Adjustment Blue : 0
Luminance Adjustment Purple : 0
Luminance Adjustment Magenta : 0
Split Toning Shadow Hue : 0
Split Toning Shadow Saturation : 0
Split Toning Highlight Hue : 0
Split Toning Highlight Saturation : 0
Split Toning Balance : 0
Parametric Shadows : 0
Parametric Darks : 0
Parametric Lights : +10
Parametric Highlights : +10
Parametric Shadow Split : 25
Parametric Midtone Split : 50
Parametric Highlight Split : 75
Sharpen Radius : +1.0
Sharpen Detail : 25
Sharpen Edge Masking : 0
Post Crop Vignette Amount : 0
Grain Amount : 0
Luminance Noise Reduction Detail : 50
Color Noise Reduction Detail : 50
Luminance Noise Reduction Contrast : 0
Lens Profile Enable : 0
Lens Manual Distortion Amount : 0
Perspective Vertical : 0
Perspective Horizontal : 0
Perspective Rotate : 0.0
Perspective Scale : 100
Auto Lateral CA : 0
Exposure 2012 : 0.00
Contrast 2012 : 0
Highlights 2012 : 0
Shadows 2012 : 0
Whites 2012 : 0
Blacks 2012 : -45
Clarity 2012 : 0
Defringe Purple Amount : 0
Defringe Purple Hue Lo : 30
Defringe Purple Hue Hi : 70
Defringe Green Amount : 0
Defringe Green Hue Lo : 40
Defringe Green Hue Hi : 60
Convert To Grayscale : False
Tone Curve Name 2012 : Linear
Camera Profile : Adobe Standard
Lens Profile Setup : LensDefaults
Has Settings : True
Has Crop : False
Already Applied : True
Tone Curve PV2012 : 0, 0, 255, 255
Tone Curve PV2012 Red : 0, 0, 255, 255
Tone Curve PV2012 Green : 0, 0, 255, 255
Tone Curve PV2012 Blue : 0, 0, 255, 255
Paint Correction What : Correction
Paint Correction Amount : 1.000000
Paint Correction Active : true
Paint Correction Saturation : 0.000000
Paint Correction Sharpness : 0.000000
Paint Correction Brightness : 0.020000
Paint Correction Toning Hue : 0.000000
Paint Correction Toning Saturation : 0.000000
Paint Correction Exposure 2012 : -0.100000
Paint Correction Contrast 2012 : 0.000000
Paint Correction Highlights 2012 : 0.000000
Paint Correction Shadows 2012 : 0.000000
Paint Correction Clarity 2012 : 0.000000
Paint Correction Luminance Noise : 0.000000
Paint Correction Moire : 0.000000
Paint Correction Temperature : 0.000000
Paint Correction Tint : 0.000000
Paint Correction Mask What : Mask/Paint
Paint Correction Mask Value : 1.000000
Paint Correction Mask Radius : 0.078635
Paint Correction Mask Flow : 1.000000
Paint Correction Mask Center Weight : 0.000000
Image Width : 200
Image Height : 300
Bits Per Sample : 8
Color Components : 3
Aperture : 2.8
Image Size : 200x300
Megapixels : 0.060
Scale Factor To 35 mm Equivalent : 1.0
Shutter Speed : 8
Create Date : 2012:06:20 22:16:22.78
Date/Time Original : 2012:06:20 22:16:22.78
Circle Of Confusion : 0.031 mm
Field Of View : 82.6 deg
Focal Length : 21.0 mm (35 mm equivalent: 20.5 mm)
Hyperfocal Distance : 5.12 m
Light Value : -6.0
Lens ID : Carl Zeiss Distagon T* 21mm f/2.8 ZE