Uber Exif Photo
Make : Canon
Camera Model Name : Canon EOS 5D
Orientation : Horizontal (normal)
Software : Adobe Photoshop CS5 Windows
Modify Date : 2012:10:06 21:37:16
Exposure Time : 1/30
F Number : 5.0
Exposure Program : Aperture-priority AE
ISO : 320
Date/Time Original : 2012:10:06 17:23:34
Create Date : 2012:10:06 17:23:34
Shutter Speed Value : 1/30
Aperture Value : 5.0
Exposure Compensation : 0
Max Aperture Value : 2.0
Metering Mode : Multi-segment
Flash : Off, Did not fire
Focal Length : 35.0 mm
Color Space : Uncalibrated
Exif Image Width : 4368
Exif Image Height : 2912
Custom Rendered : Normal
Exposure Mode : Auto
White Balance : Auto
Scene Capture Type : Standard
Profile Description : Adobe RGB (1998)
Rating : 0
Serial Number : 2331206423
Lens Info : 35mm f/?
Lens : 35.0 mm
Image Number : 1
Flash Compensation : 0
Firmware : 1.1.1
Raw File Name : IMG_3391.CR2
Version : 6.0
Process Version : 5.7
Color Temperature : 4000
Tint : -2
Exposure : +1.35
Shadows : 8
Brightness : +67
Contrast : +37
Saturation : 0
Sharpness : 47
Luminance Smoothing : 0
Color Noise Reduction : 25
Chromatic Aberration R : 0
Chromatic Aberration B : 0
Vignette Amount : 0
Shadow Tint : 0
Red Hue : 0
Red Saturation : 0
Green Hue : 0
Green Saturation : 0
Blue Hue : 0
Blue Saturation : 0
Fill Light : 22
Vibrance : +21
Highlight Recovery : 26
Clarity : +66
Defringe : 0
Hue Adjustment Red : 0
Hue Adjustment Orange : 0
Hue Adjustment Yellow : 0
Hue Adjustment Green : 0
Hue Adjustment Aqua : 0
Hue Adjustment Blue : 0
Hue Adjustment Purple : 0
Hue Adjustment Magenta : 0
Saturation Adjustment Red : 0
Saturation Adjustment Orange : 0
Saturation Adjustment Yellow : 0
Saturation Adjustment Green : 0
Saturation Adjustment Aqua : 0
Saturation Adjustment Blue : 0
Saturation Adjustment Purple : 0
Saturation Adjustment Magenta : 0
Luminance Adjustment Red : 0
Luminance Adjustment Orange : 0
Luminance Adjustment Yellow : 0
Luminance Adjustment Green : 0
Luminance Adjustment Aqua : 0
Luminance Adjustment Blue : 0
Luminance Adjustment Purple : 0
Luminance Adjustment Magenta : 0
Split Toning Shadow Hue : 0
Split Toning Shadow Saturation : 0
Split Toning Highlight Hue : 0
Split Toning Highlight Saturation : 0
Split Toning Balance : 0
Parametric Shadows : 0
Parametric Darks : 0
Parametric Lights : 0
Parametric Highlights : 0
Parametric Shadow Split : 25
Parametric Midtone Split : 50
Parametric Highlight Split : 75
Sharpen Radius : +1.8
Sharpen Detail : 53
Sharpen Edge Masking : 0
Post Crop Vignette Amount : 0
Grain Amount : 0
Color Noise Reduction Detail : 50
Convert To Grayscale : False
Tone Curve Name : Medium Contrast
Camera Profile : Adobe Standard
Has Settings : True
Has Crop : False
Already Applied : True
Sidecar For Extension : CR2
Color Mode : RGB
ICC Profile Name : Adobe RGB (1998)
Date Created : 2012:10:06 17:23:34
Format : image/jpeg
Tone Curve : 0, 0, 32, 22, 64, 56, 128, 128, 192, 196, 255, 255
Image Width : 300
Image Height : 200
Bits Per Sample : 8
Color Components : 3
Aperture : 5.0
Image Size : 300x200
Megapixels : 0.060
Scale Factor To 35 mm Equivalent : 1.0
Shutter Speed : 1/30
Circle Of Confusion : 0.030 mm
Field Of View : 54.3 deg
Focal Length : 35.0 mm (35 mm equivalent: 35.1 mm)
Hyperfocal Distance : 8.17 m
Light Value : 7.9
Lens ID : Carl Zeiss Distagon T* 35mm f/2 ZE