Uber Exif Photo
Keywords : Istanbul
By-line : Dave Curtis
Copyright Notice : © Dave Curtis
Copyright Flag : True
Make : Canon
Camera Model Name : Canon EOS 5D Mark III
Software : Adobe Photoshop Lightroom 4.1 (Windows)
Modify Date : 2012:07:13 19:28:12
Artist : Dave Curtis
Copyright : © Dave Curtis
Exposure Time : 1/320
F Number : 4.0
Exposure Program : Aperture-priority AE
ISO : 100
Sensitivity Type : Recommended Exposure Index
Recommended Exposure Index : 100
Date/Time Original : 2012:06:15 14:26:39
Create Date : 2012:06:15 14:26:39
Shutter Speed Value : 1/320
Aperture Value : 4.0
Exposure Compensation : 0
Max Aperture Value : 1.4
Metering Mode : Multi-segment
Flash : Off, Did not fire
Focal Length : 35.0 mm
Custom Rendered : Normal
Exposure Mode : Auto
White Balance : Auto
Scene Capture Type : Standard
Serial Number : 025021000030
Lens Info : 35mm f/?
Lens Model : Zeiss Distagon T* 1.4/35 ZE
Lens Serial Number : 0000000000
Rating : 4
Creator Tool : Adobe Photoshop Lightroom 4.1 (Windows)
Lens : Zeiss Distagon T* 1.4/35 ZE
Image Number : 0
Flash Compensation : 0
Firmware : 1.1.2
Date Created : 2012:06:15 14:26:39.00
Format : image/jpeg
Marked : True
Version : 7.1
Process Version : 6.7
Color Temperature : 4850
Tint : +1
Sharpness : 72
Luminance Smoothing : 0
Color Noise Reduction : 25
Vignette Amount : 0
Shadow Tint : 0
Red Hue : 0
Red Saturation : 0
Green Hue : 0
Green Saturation : 0
Blue Hue : 0
Blue Saturation : 0
Gray Mixer Red : -9
Gray Mixer Orange : -18
Gray Mixer Yellow : -22
Gray Mixer Green : -26
Gray Mixer Aqua : -19
Gray Mixer Blue : +9
Gray Mixer Purple : +15
Gray Mixer Magenta : +4
Split Toning Shadow Hue : 0
Split Toning Shadow Saturation : 0
Split Toning Highlight Hue : 0
Split Toning Highlight Saturation : 0
Split Toning Balance : 0
Parametric Shadows : -5
Parametric Darks : -3
Parametric Lights : +3
Parametric Highlights : +5
Parametric Shadow Split : 25
Parametric Midtone Split : 50
Parametric Highlight Split : 75
Sharpen Radius : +0.5
Sharpen Detail : 25
Sharpen Edge Masking : 47
Post Crop Vignette Amount : 0
Grain Amount : 0
Color Noise Reduction Detail : 50
Lens Profile Enable : 0
Lens Manual Distortion Amount : 0
Perspective Vertical : 0
Perspective Horizontal : 0
Perspective Rotate : 0.0
Perspective Scale : 100
Auto Lateral CA : 0
Exposure 2012 : 0.00
Contrast 2012 : +27
Highlights 2012 : -72
Shadows 2012 : +43
Whites 2012 : 0
Blacks 2012 : 0
Clarity 2012 : 0
Convert To Grayscale : True
Tone Curve Name 2012 : Linear
Camera Profile : Adobe Standard
Lens Profile Setup : LensDefaults
Has Settings : True
Crop Top : 0
Crop Left : 0.127232
Crop Bottom : 1
Crop Right : 1
Crop Angle : 0
Crop Constrain To Warp : 0
Crop Width : 1000
Crop Height : 764
Crop Unit : pixels
Has Crop : True
Already Applied : True
Creator : Dave Curtis
Rights : © Dave Curtis
Subject : Istanbul
Creator Country : New Zealand
Creator City : Dunedin
Tone Curve PV2012 : 0, 0, 255, 255
Tone Curve PV2012 Red : 0, 0, 255, 255
Tone Curve PV2012 Green : 0, 0, 255, 255
Tone Curve PV2012 Blue : 0, 0, 255, 255
Paint Correction What : Correction
Paint Correction Amount : 1.000000
Paint Correction Active : true
Paint Correction Saturation : 0.000000
Paint Correction Sharpness : 0.000000
Paint Correction Brightness : 0.000000
Paint Correction Toning Hue : 207.500000
Paint Correction Toning Saturation : 0.000000
Paint Correction Exposure 2012 : 0.000000
Paint Correction Contrast 2012 : 0.000000
Paint Correction Highlights 2012 : 0.000000
Paint Correction Shadows 2012 : 0.529410
Paint Correction Clarity 2012 : 0.000000
Paint Correction Luminance Noise : 0.000000
Paint Correction Moire : 0.002948
Paint Correction Defringe : 0.000000
Paint Correction Temperature : 0.000000
Paint Correction Tint : 0.000000
Paint Correction Mask What : Mask/Paint
Paint Correction Mask Value : 1.000000
Paint Correction Mask Radius : 0.044412
Paint Correction Mask Flow : 0.651000
Paint Correction Mask Center Weight : 0.503082
Image Width : 300
Image Height : 229
Bits Per Sample : 8
Color Components : 1
Aperture : 4.0
Image Size : 300x229
Megapixels : 0.069
Scale Factor To 35 mm Equivalent : 18.3
Shutter Speed : 1/320
Create Date : 2012:06:15 14:26:39.00
Date/Time Original : 2012:06:15 14:26:39.00
Circle Of Confusion : 0.002 mm
Field Of View : 3.2 deg
Focal Length : 35.0 mm (35 mm equivalent: 642.0 mm)
Hyperfocal Distance : 186.96 m
Light Value : 12.3
Lens ID : Carl Zeiss Distagon T* 35mm f/1.4 ZE